BEGIN:VCALENDAR
VERSION:2.0
PRODID:-//LiveNewCanaan - ECPv6.15.18//NONSGML v1.0//EN
CALSCALE:GREGORIAN
METHOD:PUBLISH
X-ORIGINAL-URL:https://livenewcanaan.org
X-WR-CALDESC:Events for LiveNewCanaan
REFRESH-INTERVAL;VALUE=DURATION:PT1H
X-Robots-Tag:noindex
X-PUBLISHED-TTL:PT1H
BEGIN:VTIMEZONE
TZID:America/New_York
BEGIN:DAYLIGHT
TZOFFSETFROM:-0500
TZOFFSETTO:-0400
TZNAME:EDT
DTSTART:20200308T070000
END:DAYLIGHT
BEGIN:STANDARD
TZOFFSETFROM:-0400
TZOFFSETTO:-0500
TZNAME:EST
DTSTART:20201101T060000
END:STANDARD
BEGIN:DAYLIGHT
TZOFFSETFROM:-0500
TZOFFSETTO:-0400
TZNAME:EDT
DTSTART:20210314T070000
END:DAYLIGHT
BEGIN:STANDARD
TZOFFSETFROM:-0400
TZOFFSETTO:-0500
TZNAME:EST
DTSTART:20211107T060000
END:STANDARD
BEGIN:DAYLIGHT
TZOFFSETFROM:-0500
TZOFFSETTO:-0400
TZNAME:EDT
DTSTART:20220313T070000
END:DAYLIGHT
BEGIN:STANDARD
TZOFFSETFROM:-0400
TZOFFSETTO:-0500
TZNAME:EST
DTSTART:20221106T060000
END:STANDARD
END:VTIMEZONE
BEGIN:VEVENT
DTSTART;TZID=America/New_York:20211101T160000
DTEND;TZID=America/New_York:20211101T170000
DTSTAMP:20260421T010819
CREATED:20211022T154459Z
LAST-MODIFIED:20211028T014822Z
UID:9232-1635782400-1635786000@livenewcanaan.org
SUMMARY:Carriage Barn After School Woodworking Class
DESCRIPTION:Register kids (ages 7 & up) for this three-week after school woodworking class at the Carriage Barn Arts Center. Participants will learn basic woodworking techniques to build a wooden grabber tool. They will then personalize and paint it with their own design. \nAll materials will be supplied. The cost for this three session workshop is $145\, or $130 for family members.\nClass is limited to 12 kids\, social distancing will be practiced. \nThree Mondays\, Nov. 1\, 8 & 15 from 4-5pm
URL:https://livenewcanaan.org/event/carriage-barn-after-school-woodworking-class/
LOCATION:Carriage Barn Arts Center
CATEGORIES:For Children
ATTACH;FMTTYPE=image/jpeg:https://livenewcanaan.org/wp-content/uploads/2021/10/carriage_barn_logo_headerbg-e1525813947816-WBnpf1.tmp_.jpg
ORGANIZER;CN="Carriage Barn Arts Center":MAILTO:admin@carriagebarn.org
END:VEVENT
BEGIN:VEVENT
DTSTART;TZID=America/New_York:20211108T160000
DTEND;TZID=America/New_York:20211108T170000
DTSTAMP:20260421T010819
CREATED:20211022T154503Z
LAST-MODIFIED:20211028T014823Z
UID:9246-1636387200-1636390800@livenewcanaan.org
SUMMARY:Carriage Barn After School Woodworking Class
DESCRIPTION:Register kids (ages 7 & up) for this three-week after school woodworking class at the Carriage Barn Arts Center. Participants will learn basic woodworking techniques to build a wooden grabber tool. They will then personalize and paint it with their own design. \nAll materials will be supplied. The cost for this three session workshop is $145\, or $130 for family members.\nClass is limited to 12 kids\, social distancing will be practiced. \nThree Mondays\, Nov. 1\, 8 & 15 from 4-5pm
URL:https://livenewcanaan.org/event/carriage-barn-after-school-woodworking-class-2/
LOCATION:Carriage Barn Arts Center
CATEGORIES:For Children
ATTACH;FMTTYPE=image/jpeg:https://livenewcanaan.org/wp-content/uploads/2021/10/carriage_barn_logo_headerbg-e1525813947816-WBnpf1.tmp_.jpg
ORGANIZER;CN="Carriage Barn Arts Center":MAILTO:admin@carriagebarn.org
END:VEVENT
BEGIN:VEVENT
DTSTART;TZID=America/New_York:20211115T160000
DTEND;TZID=America/New_York:20211115T170000
DTSTAMP:20260421T010819
CREATED:20211022T154503Z
LAST-MODIFIED:20211112T220941Z
UID:9247-1636992000-1636995600@livenewcanaan.org
SUMMARY:Carriage Barn After School Woodworking Class
DESCRIPTION:Register kids (ages 7 & up) for this three-week after school woodworking class at the Carriage Barn Arts Center. Participants will learn basic woodworking techniques to build a wooden grabber tool. They will then personalize and paint it with their own design. \nAll materials will be supplied. The cost for this three session workshop is $145\, or $130 for family members.\nClass is limited to 12 kids\, social distancing will be practiced. \nThree Mondays\, Nov. 1\, 8 & 15 from 4-5pm
URL:https://livenewcanaan.org/event/carriage-barn-after-school-woodworking-class-3/
LOCATION:Carriage Barn Arts Center
CATEGORIES:For Children
ATTACH;FMTTYPE=image/jpeg:https://livenewcanaan.org/wp-content/uploads/2021/10/carriage_barn_logo_headerbg-e1525813947816-WBnpf1.tmp_.jpg
ORGANIZER;CN="Carriage Barn Arts Center":MAILTO:admin@carriagebarn.org
END:VEVENT
END:VCALENDAR