BEGIN:VCALENDAR
VERSION:2.0
PRODID:-//LiveNewCanaan - ECPv6.15.18//NONSGML v1.0//EN
CALSCALE:GREGORIAN
METHOD:PUBLISH
X-WR-CALNAME:LiveNewCanaan
X-ORIGINAL-URL:https://livenewcanaan.org
X-WR-CALDESC:Events for LiveNewCanaan
REFRESH-INTERVAL;VALUE=DURATION:PT1H
X-Robots-Tag:noindex
X-PUBLISHED-TTL:PT1H
BEGIN:VTIMEZONE
TZID:America/New_York
BEGIN:DAYLIGHT
TZOFFSETFROM:-0500
TZOFFSETTO:-0400
TZNAME:EDT
DTSTART:20200308T070000
END:DAYLIGHT
BEGIN:STANDARD
TZOFFSETFROM:-0400
TZOFFSETTO:-0500
TZNAME:EST
DTSTART:20201101T060000
END:STANDARD
BEGIN:DAYLIGHT
TZOFFSETFROM:-0500
TZOFFSETTO:-0400
TZNAME:EDT
DTSTART:20210314T070000
END:DAYLIGHT
BEGIN:STANDARD
TZOFFSETFROM:-0400
TZOFFSETTO:-0500
TZNAME:EST
DTSTART:20211107T060000
END:STANDARD
BEGIN:DAYLIGHT
TZOFFSETFROM:-0500
TZOFFSETTO:-0400
TZNAME:EDT
DTSTART:20220313T070000
END:DAYLIGHT
BEGIN:STANDARD
TZOFFSETFROM:-0400
TZOFFSETTO:-0500
TZNAME:EST
DTSTART:20221106T060000
END:STANDARD
END:VTIMEZONE
BEGIN:VEVENT
DTSTART;TZID=America/New_York:20210822T100000
DTEND;TZID=America/New_York:20210822T160000
DTSTAMP:20260421T054024
CREATED:20210709T111105Z
LAST-MODIFIED:20210810T075640Z
UID:8465-1629626400-1629648000@livenewcanaan.org
SUMMARY:FIGURE SESSION- AUGUST
DESCRIPTION:INSTRUCTOR: MEAGHAN MORROW\nMAXIMUM 4 PARTICIPANTS\n$150 MEMBERS\, $175 NON-MEMBERS \nThis one day hands on workshop invites artists to explore observational printmaking by working from a model. Observational monotype provides an opportunity for printmakers to let go of the stringent laws of printmaking and for painters to explore the world of possibilities that printmaking offers. This workshop is welcome to experienced printmakers wanting to work from a model and for beginner printmakers wanting guidence into exploring monotype. Oil and water based printing are welcome. \nImage: Meaghan Morrow\, She’s Seen 2\, Monotype \nMEAGHAN MORROW received her Associates Degree in Graphic Design and illustration at Pratt Institute Manhattan\, then moved onto complete her BFA in Illustration at Pratt Institute Brooklyn. Through pursuing illustration\, Meaghan explored print techniques as a medium for illustration and quickly grew a love for collaborative printmaking. After returning to her home town of Stamford\, Meaghan began working for the Center for Contemporary Printmaking. For the past five years she has been working as the Workshop Coordinator\, Assistant Printer\, and Media Coordinator; working collaboratively with instructors and artist members to create one of a kind fine art prints.
URL:https://livenewcanaan.org/event/figure-session-august/
LOCATION:Center for Contemporary Printmaking\, 299 West Avenue\, Mathews Park\, Norwalk\, 06850
ATTACH;FMTTYPE=image/jpeg:https://livenewcanaan.org/wp-content/uploads/2021/07/meaghan-figure-session-2-ly5fME.tmp_.jpg
ORGANIZER;CN="Center for Contemporary Printmaking":MAILTO:info@contemprints.org
END:VEVENT
END:VCALENDAR