BEGIN:VCALENDAR
VERSION:2.0
PRODID:-//LiveNewCanaan - ECPv6.15.18//NONSGML v1.0//EN
CALSCALE:GREGORIAN
METHOD:PUBLISH
X-WR-CALNAME:LiveNewCanaan
X-ORIGINAL-URL:https://livenewcanaan.org
X-WR-CALDESC:Events for LiveNewCanaan
REFRESH-INTERVAL;VALUE=DURATION:PT1H
X-Robots-Tag:noindex
X-PUBLISHED-TTL:PT1H
BEGIN:VTIMEZONE
TZID:America/New_York
BEGIN:DAYLIGHT
TZOFFSETFROM:-0500
TZOFFSETTO:-0400
TZNAME:EDT
DTSTART:20200308T070000
END:DAYLIGHT
BEGIN:STANDARD
TZOFFSETFROM:-0400
TZOFFSETTO:-0500
TZNAME:EST
DTSTART:20201101T060000
END:STANDARD
BEGIN:DAYLIGHT
TZOFFSETFROM:-0500
TZOFFSETTO:-0400
TZNAME:EDT
DTSTART:20210314T070000
END:DAYLIGHT
BEGIN:STANDARD
TZOFFSETFROM:-0400
TZOFFSETTO:-0500
TZNAME:EST
DTSTART:20211107T060000
END:STANDARD
BEGIN:DAYLIGHT
TZOFFSETFROM:-0500
TZOFFSETTO:-0400
TZNAME:EDT
DTSTART:20220313T070000
END:DAYLIGHT
BEGIN:STANDARD
TZOFFSETFROM:-0400
TZOFFSETTO:-0500
TZNAME:EST
DTSTART:20221106T060000
END:STANDARD
END:VTIMEZONE
BEGIN:VEVENT
DTSTART;TZID=America/New_York:20210613T093000
DTEND;TZID=America/New_York:20210613T173000
DTSTAMP:20260421T084007
CREATED:20210527T143757Z
LAST-MODIFIED:20210527T151348Z
UID:8269-1623576600-1623605400@livenewcanaan.org
SUMMARY:Draw Until You Drop
DESCRIPTION:This is a day of non-stop drawing for students of all abilities. This is an opportunity for students to study continuous\, intensive figure drawing with a model or models in sustained poses\, still life set-ups\, and explore landscape drawing on Silvermine’s campus. Participants of all skill levels\, ages 16 and up\, will be able to work alongside Silvermine Faculty\, Guild Artists Members\, and other students to develop their artistic vision\, sharpen skills and energize their studio experience through drawing. \nRegistration is required for this event. Any walk-ins will only be able to participate in the outdoor drawing locations. Tables\, easels\, drawing horses\, drawing boards\, and basic drawing supplies will be available.
URL:https://livenewcanaan.org/event/draw-until-you-drop/
LOCATION:1037 Silvermine Road\, New Canaan CT 06840\, 1037 Silvermine Rd\, New Cannan\, CT\, 06840\, United States
ATTACH;FMTTYPE=image/jpeg:https://livenewcanaan.org/wp-content/uploads/2021/05/img_6990-scaled-ZzrlNe.tmp_.jpg
ORGANIZER;CN="Silvermine Arts Center":MAILTO:info@silverminearts.org
END:VEVENT
END:VCALENDAR