BEGIN:VCALENDAR
VERSION:2.0
PRODID:-//LiveNewCanaan - ECPv6.15.18//NONSGML v1.0//EN
CALSCALE:GREGORIAN
METHOD:PUBLISH
X-WR-CALNAME:LiveNewCanaan
X-ORIGINAL-URL:https://livenewcanaan.org
X-WR-CALDESC:Events for LiveNewCanaan
REFRESH-INTERVAL;VALUE=DURATION:PT1H
X-Robots-Tag:noindex
X-PUBLISHED-TTL:PT1H
BEGIN:VTIMEZONE
TZID:America/New_York
BEGIN:DAYLIGHT
TZOFFSETFROM:-0500
TZOFFSETTO:-0400
TZNAME:EDT
DTSTART:20200308T070000
END:DAYLIGHT
BEGIN:STANDARD
TZOFFSETFROM:-0400
TZOFFSETTO:-0500
TZNAME:EST
DTSTART:20201101T060000
END:STANDARD
BEGIN:DAYLIGHT
TZOFFSETFROM:-0500
TZOFFSETTO:-0400
TZNAME:EDT
DTSTART:20210314T070000
END:DAYLIGHT
BEGIN:STANDARD
TZOFFSETFROM:-0400
TZOFFSETTO:-0500
TZNAME:EST
DTSTART:20211107T060000
END:STANDARD
BEGIN:DAYLIGHT
TZOFFSETFROM:-0500
TZOFFSETTO:-0400
TZNAME:EDT
DTSTART:20220313T070000
END:DAYLIGHT
BEGIN:STANDARD
TZOFFSETFROM:-0400
TZOFFSETTO:-0500
TZNAME:EST
DTSTART:20221106T060000
END:STANDARD
END:VTIMEZONE
BEGIN:VEVENT
DTSTART;TZID=America/New_York:20210205T130000
DTEND;TZID=America/New_York:20210205T140000
DTSTAMP:20260424T210748
CREATED:20210204T171235Z
LAST-MODIFIED:20210204T171616Z
UID:7653-1612530000-1612533600@livenewcanaan.org
SUMMARY:St. Mark’s Ned Tipton Will Play Virtual Organ Recital for The American Cathedral in Paris
DESCRIPTION:On Friday\, February 5 at 1PM EST\, (19h00 Paris time) The American Cathedral in Paris will premiere a year-long series of monthly concerts celebrating music ministry through their many distinguished former organists. The inaugural concert will be in the hands of St. Mark’s Director\, Music Ministry\, Ned Tipton\, who for more than twenty years (1989-2010) was the Cathedral’s Canon for Music. Prior to his virtual concert on the St. Mark’s organ\, Ned will speak for a few minutes about his years in Paris at the console of the legendary Cavaillé-Coll organ that has lifted the Cathedral’s worship since the end of the nineteenth century. \nThe half-hour concerts are free\, but registration is required. Registrants will be sent links to the program as well as more information about the organist\, the church and organ where the concert takes place\, and the repertoire for the evening. \nPlease go to https://forms.office.com/Pages/ResponsePage.aspx?id=uC6ROnjgvU6fwocovhFstbawAR9QZGlBhfQZIpLi9zxUN1RNUDIzNlVJSkk0QU5GS0RTN0k5VldEUC4u&wdLOR=c175A73ED-6B86-0442-A4EF-C15A51A34E30 to secure your virtual seat at the concert or contact organ@americancathedral.org for more information.
URL:https://livenewcanaan.org/event/st-marks-ned-tipton-will-play-virtual-organ-recital-for-the-american-cathedral-in-paris/
LOCATION:CT
ATTACH;FMTTYPE=image/jpeg:https://livenewcanaan.org/wp-content/uploads/2021/02/st.marks_.nedtipton.2019-ExgLfj.tmp_.jpg
END:VEVENT
END:VCALENDAR