BEGIN:VCALENDAR
VERSION:2.0
PRODID:-//LiveNewCanaan - ECPv6.15.18//NONSGML v1.0//EN
CALSCALE:GREGORIAN
METHOD:PUBLISH
X-WR-CALNAME:LiveNewCanaan
X-ORIGINAL-URL:https://livenewcanaan.org
X-WR-CALDESC:Events for LiveNewCanaan
REFRESH-INTERVAL;VALUE=DURATION:PT1H
X-Robots-Tag:noindex
X-PUBLISHED-TTL:PT1H
BEGIN:VTIMEZONE
TZID:America/New_York
BEGIN:DAYLIGHT
TZOFFSETFROM:-0500
TZOFFSETTO:-0400
TZNAME:EDT
DTSTART:20210314T070000
END:DAYLIGHT
BEGIN:STANDARD
TZOFFSETFROM:-0400
TZOFFSETTO:-0500
TZNAME:EST
DTSTART:20211107T060000
END:STANDARD
BEGIN:DAYLIGHT
TZOFFSETFROM:-0500
TZOFFSETTO:-0400
TZNAME:EDT
DTSTART:20220313T070000
END:DAYLIGHT
BEGIN:STANDARD
TZOFFSETFROM:-0400
TZOFFSETTO:-0500
TZNAME:EST
DTSTART:20221106T060000
END:STANDARD
BEGIN:DAYLIGHT
TZOFFSETFROM:-0500
TZOFFSETTO:-0400
TZNAME:EDT
DTSTART:20230312T070000
END:DAYLIGHT
BEGIN:STANDARD
TZOFFSETFROM:-0400
TZOFFSETTO:-0500
TZNAME:EST
DTSTART:20231105T060000
END:STANDARD
END:VTIMEZONE
BEGIN:VEVENT
DTSTART;TZID=America/New_York:20221109T180000
DTEND;TZID=America/New_York:20221109T190000
DTSTAMP:20260421T080252
CREATED:20221109T103150Z
LAST-MODIFIED:20221109T112515Z
UID:10923-1668016800-1668020400@livenewcanaan.org
SUMMARY:The Female Athlete in her 40s and beyond: how to stay healthy
DESCRIPTION:Join this virtual seminar for an in-depth discussion about the injury risk tendencies for women athletes over 40\, and how women can prepare themselves for various sporting activities to avoid painful conditions and future complications. The panelists will review the importance of weight training\, general exercise recommendations and recovery strategies to optimize performance. This discussion will also focus on the effects of hormonal changes on the pelvic floor musculature during the peri- and post-menopausal stages as well as techniques to combat urinary leakage and additional symptoms. \nPerformance Optimal health is excited to join this panel to bring educational content in support of women. Performance Optimal Health helps client’s achieve their health goals through personalized programs in exercise\, recovery\, nutrition and stress management. \nPanelists:\n• Megan Gleason\, MD\, Orthopedic Surgeon and Sports Medicine Specialist\n• Ashley Moriarty\, PT\, DPT\, OCS\, Performance Optimal Health Physical Therapist\, Orthopedic Clinical Specialist\, and Pre/Postnatal Performance Specialist\n• Jessica Klecki\, PT\, DPT\, Performance Optimal Health Pelvic Health Specialist
URL:https://livenewcanaan.org/event/the-female-athlete-in-her-40s-and-beyond-how-to-stay-healthy/
LOCATION:Webinar
CATEGORIES:Health Education
ATTACH;FMTTYPE=image/jpeg:https://livenewcanaan.org/wp-content/uploads/2022/11/ONS-POH-Womens-Health-Webinar-dwALbT.tmp_.jpg
ORGANIZER;CN="Performance Optimal Health":MAILTO:marketing@performanceoptimalhealth.com
END:VEVENT
BEGIN:VEVENT
DTSTART;TZID=America/New_York:20221120T110000
DTEND;TZID=America/New_York:20221120T120000
DTSTAMP:20260421T080252
CREATED:20221109T103219Z
LAST-MODIFIED:20221109T112518Z
UID:10975-1668942000-1668945600@livenewcanaan.org
SUMMARY:New Canaan Turkey Trot
DESCRIPTION:Get ready for Thanksgiving with a short run through Waveny Park the Sunday before the holiday. This NCHS student led event\, is in its 18th year of raising money for Open Doors in Norwalk. It is a 5 km course starting and finishing at Waveny’s Main House. The race starts at 11:30 am. ChronoTrack B-Tag timing. \n$40.00 Race Fee + $4.30 SignUp Fee. Price increases to $45.00 after November 12\, 2022
URL:https://livenewcanaan.org/event/new-canaan-turkey-trot/
LOCATION:Waveny House\, 899 South Avenue\, New Canaan\, CT\, 06840\, United States
CATEGORIES:Family Friendly Events
ATTACH;FMTTYPE=image/png:https://livenewcanaan.org/wp-content/uploads/2022/11/race26089-logo.bJpn8J-dJozTF.tmp_.png
ORGANIZER;CN="New Canaan Turkey Trot Committee":MAILTO:jenniferfranchot@hotmail.com
END:VEVENT
END:VCALENDAR