BEGIN:VCALENDAR
VERSION:2.0
PRODID:-//LiveNewCanaan - ECPv6.15.18//NONSGML v1.0//EN
CALSCALE:GREGORIAN
METHOD:PUBLISH
X-WR-CALNAME:LiveNewCanaan
X-ORIGINAL-URL:https://livenewcanaan.org
X-WR-CALDESC:Events for LiveNewCanaan
REFRESH-INTERVAL;VALUE=DURATION:PT1H
X-Robots-Tag:noindex
X-PUBLISHED-TTL:PT1H
BEGIN:VTIMEZONE
TZID:America/New_York
BEGIN:DAYLIGHT
TZOFFSETFROM:-0500
TZOFFSETTO:-0400
TZNAME:EDT
DTSTART:20210314T070000
END:DAYLIGHT
BEGIN:STANDARD
TZOFFSETFROM:-0400
TZOFFSETTO:-0500
TZNAME:EST
DTSTART:20211107T060000
END:STANDARD
BEGIN:DAYLIGHT
TZOFFSETFROM:-0500
TZOFFSETTO:-0400
TZNAME:EDT
DTSTART:20220313T070000
END:DAYLIGHT
BEGIN:STANDARD
TZOFFSETFROM:-0400
TZOFFSETTO:-0500
TZNAME:EST
DTSTART:20221106T060000
END:STANDARD
BEGIN:DAYLIGHT
TZOFFSETFROM:-0500
TZOFFSETTO:-0400
TZNAME:EDT
DTSTART:20230312T070000
END:DAYLIGHT
BEGIN:STANDARD
TZOFFSETFROM:-0400
TZOFFSETTO:-0500
TZNAME:EST
DTSTART:20231105T060000
END:STANDARD
END:VTIMEZONE
BEGIN:VEVENT
DTSTART;TZID=America/New_York:20221115T183000
DTEND;TZID=America/New_York:20221115T203000
DTSTAMP:20260421T025931
CREATED:20221109T103205Z
LAST-MODIFIED:20221109T112516Z
UID:10945-1668537000-1668544200@livenewcanaan.org
SUMMARY:New Canaan Land Trust Annual Membership Meeting
DESCRIPTION:The New Canaan Land Trust invites its members and the community to its annual membership meeting on Tuesday\, November 15th at 6:30 pm. The Land Trust’s annual meeting offers residents the opportunity to learn more about the 55-year organization and meet like-minded members of the community. Comprised of almost 400 acres\, the conservation organization plays an important role in New Canaan in fulfilling its three-part mission of protecting open space\, caring for and restoring habitat on its properties\, and engaging the community. \nThe meeting will feature guest-speaker Sarah Finnie Robinson\, a New Canaan resident and the founding director of The 51 Percent Project\, a climate communication initiative based at Boston University Institute for Global Sustainability. Robinson holds faculty appointments at Boston University’s College of Communication and at the Graduate Program in Urban Biogeoscience & Environmental Health. Following a career in mainstream media (The New Yorker\, The Atlantic\, iVillage)\, in 2010 Robinson co-founded WeSpire\, a WIRED and Fast Company award-winning company that provides a behavior-change platform for corporations to engage employees in sustainability goals and related programs. In 2018\, Sarah founded The 51 Percent Project to identify best practices and principles of climate change communication\, which is a burgeoning field of behavioral science. In her talk\, Robinson will focus on climate change communications principals relevant to New Canaan residents\, as well as how the community and the Land Trust can address climate change. A Q & A session will follow the presentation.
URL:https://livenewcanaan.org/event/new-canaan-land-trust-annual-membership-meeting/
LOCATION:New Canaan Nature Center\, 144 Oenoke Ridge\, New Canaan\, CT\, United States
ATTACH;FMTTYPE=image/png:https://livenewcanaan.org/wp-content/uploads/2022/11/join-Us-for-Our-Annual-Membership-Meeting-YW1fAc.tmp_.png
ORGANIZER;CN="New Canaan Land Trust":MAILTO:info@newcanaanlandtrust.org
END:VEVENT
END:VCALENDAR