BEGIN:VCALENDAR
VERSION:2.0
PRODID:-//LiveNewCanaan - ECPv6.15.18//NONSGML v1.0//EN
CALSCALE:GREGORIAN
METHOD:PUBLISH
X-WR-CALNAME:LiveNewCanaan
X-ORIGINAL-URL:https://livenewcanaan.org
X-WR-CALDESC:Events for LiveNewCanaan
REFRESH-INTERVAL;VALUE=DURATION:PT1H
X-Robots-Tag:noindex
X-PUBLISHED-TTL:PT1H
BEGIN:VTIMEZONE
TZID:America/New_York
BEGIN:DAYLIGHT
TZOFFSETFROM:-0500
TZOFFSETTO:-0400
TZNAME:EDT
DTSTART:20210314T070000
END:DAYLIGHT
BEGIN:STANDARD
TZOFFSETFROM:-0400
TZOFFSETTO:-0500
TZNAME:EST
DTSTART:20211107T060000
END:STANDARD
BEGIN:DAYLIGHT
TZOFFSETFROM:-0500
TZOFFSETTO:-0400
TZNAME:EDT
DTSTART:20220313T070000
END:DAYLIGHT
BEGIN:STANDARD
TZOFFSETFROM:-0400
TZOFFSETTO:-0500
TZNAME:EST
DTSTART:20221106T060000
END:STANDARD
BEGIN:DAYLIGHT
TZOFFSETFROM:-0500
TZOFFSETTO:-0400
TZNAME:EDT
DTSTART:20230312T070000
END:DAYLIGHT
BEGIN:STANDARD
TZOFFSETFROM:-0400
TZOFFSETTO:-0500
TZNAME:EST
DTSTART:20231105T060000
END:STANDARD
END:VTIMEZONE
BEGIN:VEVENT
DTSTART;TZID=America/New_York:20220930T160000
DTEND;TZID=America/New_York:20221001T200000
DTSTAMP:20260421T043533
CREATED:20220905T131901Z
LAST-MODIFIED:20220905T131901Z
UID:10742-1664553600-1664654400@livenewcanaan.org
SUMMARY:Rotary Club LobsterFest
DESCRIPTION:LobsterFest is a family fun event where the Rotary Club sells fresh steamed lobsters\, lobster folls\, salmon and fried chicken with all the trimmings you need for a great meal! Dine poolside at the Steve Benko Pool at Waveny Park or take your meal home.All rpoceeds go to support the Rotary Clubs of New Canaan’s grants to local non-profits and international projects. It’s a New Canaan tradition you won’t want to miss!
URL:https://livenewcanaan.org/event/rotary-club-lobsterfest-3/
LOCATION:Steve Benko Pool at Waveny Park\, 677 South Avenue\, New Canaan\, 06840
CATEGORIES:Family Friendly Events
ATTACH;FMTTYPE=image/jpeg:https://livenewcanaan.org/wp-content/uploads/2022/09/lobster-butter-and-lemon-RzVcuS.tmp_.jpg
END:VEVENT
BEGIN:VEVENT
DTSTART;TZID=America/New_York:20221024T190000
DTEND;TZID=America/New_York:20221024T210000
DTSTAMP:20260421T043533
CREATED:20221010T115756Z
LAST-MODIFIED:20221010T120344Z
UID:10835-1666638000-1666645200@livenewcanaan.org
SUMMARY:Fall Pumpkin Paint & Sip at the Carriage Barn
DESCRIPTION:Fall Pumpkin Paint & Sip at the Carriage Barn\nMonday October 24\, 7-9pm\n \nA fun and festive adult evening with local artist Ashley McNeal!\nEmbrace the Fall season and come design and paint your own pumpkin at the Carriage Barn with Ashley McNeal. Bring a pumpkin of any size (real or faux) and learn how to customize your pumpkin with lettering or a a favorite motif using acrylic paint. Create a design to match your fall decor\, compliment your table\, or personalize as a gift for a friend. \nBring your own beverage of choice\, snacks will be provided. \nCost is $30 for non members/$25 for members.\nAll supplies included except pumpkin. \n\nhttps://carriagebarn.org/design-paint-your-pumpkin/
URL:https://livenewcanaan.org/event/fall-pumpkin-paint-sip-at-the-carriage-barn/
CATEGORIES:Family Friendly Events
ATTACH;FMTTYPE=image/jpeg:https://livenewcanaan.org/wp-content/uploads/2022/10/image1-1-1.jpg
END:VEVENT
END:VCALENDAR