BEGIN:VCALENDAR
VERSION:2.0
PRODID:-//LiveNewCanaan - ECPv6.15.18//NONSGML v1.0//EN
CALSCALE:GREGORIAN
METHOD:PUBLISH
X-WR-CALNAME:LiveNewCanaan
X-ORIGINAL-URL:https://livenewcanaan.org
X-WR-CALDESC:Events for LiveNewCanaan
REFRESH-INTERVAL;VALUE=DURATION:PT1H
X-Robots-Tag:noindex
X-PUBLISHED-TTL:PT1H
BEGIN:VTIMEZONE
TZID:America/New_York
BEGIN:DAYLIGHT
TZOFFSETFROM:-0500
TZOFFSETTO:-0400
TZNAME:EDT
DTSTART:20210314T070000
END:DAYLIGHT
BEGIN:STANDARD
TZOFFSETFROM:-0400
TZOFFSETTO:-0500
TZNAME:EST
DTSTART:20211107T060000
END:STANDARD
BEGIN:DAYLIGHT
TZOFFSETFROM:-0500
TZOFFSETTO:-0400
TZNAME:EDT
DTSTART:20220313T070000
END:DAYLIGHT
BEGIN:STANDARD
TZOFFSETFROM:-0400
TZOFFSETTO:-0500
TZNAME:EST
DTSTART:20221106T060000
END:STANDARD
BEGIN:DAYLIGHT
TZOFFSETFROM:-0500
TZOFFSETTO:-0400
TZNAME:EDT
DTSTART:20230312T070000
END:DAYLIGHT
BEGIN:STANDARD
TZOFFSETFROM:-0400
TZOFFSETTO:-0500
TZNAME:EST
DTSTART:20231105T060000
END:STANDARD
END:VTIMEZONE
BEGIN:VEVENT
DTSTART;TZID=America/New_York:20220607T180000
DTEND;TZID=America/New_York:20220607T193000
DTSTAMP:20260421T103738
CREATED:20220318T183944Z
LAST-MODIFIED:20220518T104437Z
UID:10178-1654624800-1654630200@livenewcanaan.org
SUMMARY:Rockets & Ice Cream with the New Canaan Cub Scouts!
DESCRIPTION:The Cub Scouts of New Canaan invite you to their annual model-rocket event at Waveny Park! Bring your elementary school-aged kids (boys and girls) to learn about the Scouting programs in our town and enjoy a fun-filled evening of model rocket launches. Open to the public. No charge to attend. Online registration to open in early May. Email recruitment@ncpack7.com to receive updates. Rain date: Wednesday\, June 8th.
URL:https://livenewcanaan.org/event/rockets-ice-cream-with-the-new-canaan-cub-scouts/
CATEGORIES:Family Friendly Events
ATTACH;FMTTYPE=image/jpeg:https://livenewcanaan.org/wp-content/uploads/2022/03/rockets-ice-cream-powahay-HaOR9a.tmp_.jpg
ORGANIZER;CN="Cub Scouts of New Canaan":MAILTO:recruitment@ncpack7.com
END:VEVENT
BEGIN:VEVENT
DTSTART;TZID=America/New_York:20220619T160000
DTEND;TZID=America/New_York:20220619T190000
DTSTAMP:20260421T103738
CREATED:20220518T104404Z
LAST-MODIFIED:20220518T104404Z
UID:10387-1655654400-1655665200@livenewcanaan.org
SUMMARY:Harts of Freedom – A Juneteenth Community Celebration
DESCRIPTION:Community picnic welcoming all ages! Bring your own food! Come celebrate together with fun activities and live music! Dancing highly encouraged.
URL:https://livenewcanaan.org/event/harts-of-freedom-a-juneteenth-community-celebration/
LOCATION:New  Canaan Museum & Historical Society\, 13 Oenoke Ridge\, New Canaan\, CT\, United States
CATEGORIES:Family Friendly Events,Historical Society Event
ATTACH;FMTTYPE=image/jpeg:https://livenewcanaan.org/wp-content/uploads/2022/05/8aa4de9e-f070-4ab6-abe3-d85d42fd6c91-ecasdj.tmp_.jpg
ORGANIZER;CN="Stand Together Against Racism":MAILTO:fniang@wpsir.com
END:VEVENT
END:VCALENDAR