BEGIN:VCALENDAR
VERSION:2.0
PRODID:-//LiveNewCanaan - ECPv6.15.18//NONSGML v1.0//EN
CALSCALE:GREGORIAN
METHOD:PUBLISH
X-WR-CALNAME:LiveNewCanaan
X-ORIGINAL-URL:https://livenewcanaan.org
X-WR-CALDESC:Events for LiveNewCanaan
REFRESH-INTERVAL;VALUE=DURATION:PT1H
X-Robots-Tag:noindex
X-PUBLISHED-TTL:PT1H
BEGIN:VTIMEZONE
TZID:America/New_York
BEGIN:DAYLIGHT
TZOFFSETFROM:-0500
TZOFFSETTO:-0400
TZNAME:EDT
DTSTART:20200308T070000
END:DAYLIGHT
BEGIN:STANDARD
TZOFFSETFROM:-0400
TZOFFSETTO:-0500
TZNAME:EST
DTSTART:20201101T060000
END:STANDARD
BEGIN:DAYLIGHT
TZOFFSETFROM:-0500
TZOFFSETTO:-0400
TZNAME:EDT
DTSTART:20210314T070000
END:DAYLIGHT
BEGIN:STANDARD
TZOFFSETFROM:-0400
TZOFFSETTO:-0500
TZNAME:EST
DTSTART:20211107T060000
END:STANDARD
BEGIN:DAYLIGHT
TZOFFSETFROM:-0500
TZOFFSETTO:-0400
TZNAME:EDT
DTSTART:20220313T070000
END:DAYLIGHT
BEGIN:STANDARD
TZOFFSETFROM:-0400
TZOFFSETTO:-0500
TZNAME:EST
DTSTART:20221106T060000
END:STANDARD
END:VTIMEZONE
BEGIN:VEVENT
DTSTART;TZID=America/New_York:20210817T180000
DTEND;TZID=America/New_York:20210817T200000
DTSTAMP:20260422T032523
CREATED:20210709T111104Z
LAST-MODIFIED:20210810T075639Z
UID:8463-1629223200-1629230400@livenewcanaan.org
SUMMARY:HARD-COVER BOOKS AT HOME
DESCRIPTION:In this 3-day virtual workshop hosted on ZOOM\, participants will get a crash course in making hard-cover books at home with little-to-no equipment. Beth will begin by creating the “textblock” for the book\, illustrating how to fold and sew the pages\, add end papers\, and prep the book for covering. Participants will then learn to make their own book cloth from fabrics they have at home. Finally\, participants will use the book cloth they each created to make covers for their book and learn the process of casing-in hard-cover books. Discussion will focus on best practices for bookbinding\, the tools and tricks for working in a home studio\, and ways to use the skills learned in this workshop to make different bindings in the future. This class is a continuation of the Bookbinding for Artists workshop\, however\, participants need NO previous book making experience! \nPlease note\, this is a 3 part class\, taking place on 3 different days via ZOOM. \nTuesday\, August 17 | 6:00–8:00 PM EST\nTuesday\, August 24 | 6:00–8:00 PM EST\nTuesday\, August 31 | 6:00–8:00 PM EST \nBETH SHEEHAN is an artist currently living in Tuscaloosa\, AL. She has worked as a professional printer at Durham Press in Pennsylvania and at Harlan and Weaver in New York and was also the Lead Binder/Bindery Manager at Small Editions in Brooklyn. Sheehan teaches paper\, print\, and book workshops and co-authored the book Bookforms: A Complete Guide to Designing and Crafting Hand-Bound Books\, 2019. Her artwork investigates scientific ideas of memory and perception to explore her own lack of episodic memory often through the mediums of papermaking\, printmaking\, and book art. Sheehan’s work has been exhibited internationally and is held in several public collections including the Metropolitan Museum of Art\, The Center for Book Arts\, and the San Francisco Public Library. Visit Beth at www.sheeprints.com.
URL:https://livenewcanaan.org/event/hard-cover-books-at-home/
LOCATION:Online Event
ATTACH;FMTTYPE=image/jpeg:https://livenewcanaan.org/wp-content/uploads/2021/07/bethsheehanhardcover-iagfTW.tmp_.jpg
ORGANIZER;CN="Center for Contemporary Printmaking":MAILTO:info@contemprints.org
END:VEVENT
BEGIN:VEVENT
DTSTART;TZID=America/New_York:20210824T180000
DTEND;TZID=America/New_York:20210824T200000
DTSTAMP:20260422T032523
CREATED:20210709T111106Z
LAST-MODIFIED:20210824T205001Z
UID:8467-1629828000-1629835200@livenewcanaan.org
SUMMARY:HARD-COVER BOOKS AT HOME
DESCRIPTION:In this 3-day virtual workshop hosted on ZOOM\, participants will get a crash course in making hard-cover books at home with little-to-no equipment. Beth will begin by creating the “textblock” for the book\, illustrating how to fold and sew the pages\, add end papers\, and prep the book for covering. Participants will then learn to make their own book cloth from fabrics they have at home. Finally\, participants will use the book cloth they each created to make covers for their book and learn the process of casing-in hard-cover books. Discussion will focus on best practices for bookbinding\, the tools and tricks for working in a home studio\, and ways to use the skills learned in this workshop to make different bindings in the future. This class is a continuation of the Bookbinding for Artists workshop\, however\, participants need NO previous book making experience! \nPlease note\, this is a 3 part class\, taking place on 3 different days via ZOOM. \nTuesday\, August 17 | 6:00–8:00 PM EST\nTuesday\, August 24 | 6:00–8:00 PM EST\nTuesday\, August 31 | 6:00–8:00 PM EST \nBETH SHEEHAN is an artist currently living in Tuscaloosa\, AL. She has worked as a professional printer at Durham Press in Pennsylvania and at Harlan and Weaver in New York and was also the Lead Binder/Bindery Manager at Small Editions in Brooklyn. Sheehan teaches paper\, print\, and book workshops and co-authored the book Bookforms: A Complete Guide to Designing and Crafting Hand-Bound Books\, 2019. Her artwork investigates scientific ideas of memory and perception to explore her own lack of episodic memory often through the mediums of papermaking\, printmaking\, and book art. Sheehan’s work has been exhibited internationally and is held in several public collections including the Metropolitan Museum of Art\, The Center for Book Arts\, and the San Francisco Public Library. Visit Beth at www.sheeprints.com.
URL:https://livenewcanaan.org/event/hard-cover-books-at-home-2/
LOCATION:Online Event
ATTACH;FMTTYPE=image/jpeg:https://livenewcanaan.org/wp-content/uploads/2021/07/bethsheehanhardcover-iagfTW.tmp_.jpg
ORGANIZER;CN="Center for Contemporary Printmaking":MAILTO:info@contemprints.org
END:VEVENT
BEGIN:VEVENT
DTSTART;TZID=America/New_York:20210831T180000
DTEND;TZID=America/New_York:20210831T200000
DTSTAMP:20260422T032523
CREATED:20210709T111106Z
LAST-MODIFIED:20210824T205003Z
UID:8468-1630432800-1630440000@livenewcanaan.org
SUMMARY:HARD-COVER BOOKS AT HOME
DESCRIPTION:In this 3-day virtual workshop hosted on ZOOM\, participants will get a crash course in making hard-cover books at home with little-to-no equipment. Beth will begin by creating the “textblock” for the book\, illustrating how to fold and sew the pages\, add end papers\, and prep the book for covering. Participants will then learn to make their own book cloth from fabrics they have at home. Finally\, participants will use the book cloth they each created to make covers for their book and learn the process of casing-in hard-cover books. Discussion will focus on best practices for bookbinding\, the tools and tricks for working in a home studio\, and ways to use the skills learned in this workshop to make different bindings in the future. This class is a continuation of the Bookbinding for Artists workshop\, however\, participants need NO previous book making experience! \nPlease note\, this is a 3 part class\, taking place on 3 different days via ZOOM. \nTuesday\, August 17 | 6:00–8:00 PM EST\nTuesday\, August 24 | 6:00–8:00 PM EST\nTuesday\, August 31 | 6:00–8:00 PM EST \nBETH SHEEHAN is an artist currently living in Tuscaloosa\, AL. She has worked as a professional printer at Durham Press in Pennsylvania and at Harlan and Weaver in New York and was also the Lead Binder/Bindery Manager at Small Editions in Brooklyn. Sheehan teaches paper\, print\, and book workshops and co-authored the book Bookforms: A Complete Guide to Designing and Crafting Hand-Bound Books\, 2019. Her artwork investigates scientific ideas of memory and perception to explore her own lack of episodic memory often through the mediums of papermaking\, printmaking\, and book art. Sheehan’s work has been exhibited internationally and is held in several public collections including the Metropolitan Museum of Art\, The Center for Book Arts\, and the San Francisco Public Library. Visit Beth at www.sheeprints.com.
URL:https://livenewcanaan.org/event/hard-cover-books-at-home-3/
LOCATION:Online Event
ATTACH;FMTTYPE=image/jpeg:https://livenewcanaan.org/wp-content/uploads/2021/07/bethsheehanhardcover-iagfTW.tmp_.jpg
ORGANIZER;CN="Center for Contemporary Printmaking":MAILTO:info@contemprints.org
END:VEVENT
END:VCALENDAR