BEGIN:VCALENDAR
VERSION:2.0
PRODID:-//LiveNewCanaan - ECPv6.15.18//NONSGML v1.0//EN
CALSCALE:GREGORIAN
METHOD:PUBLISH
X-WR-CALNAME:LiveNewCanaan
X-ORIGINAL-URL:https://livenewcanaan.org
X-WR-CALDESC:Events for LiveNewCanaan
REFRESH-INTERVAL;VALUE=DURATION:PT1H
X-Robots-Tag:noindex
X-PUBLISHED-TTL:PT1H
BEGIN:VTIMEZONE
TZID:America/New_York
BEGIN:DAYLIGHT
TZOFFSETFROM:-0500
TZOFFSETTO:-0400
TZNAME:EDT
DTSTART:20210314T070000
END:DAYLIGHT
BEGIN:STANDARD
TZOFFSETFROM:-0400
TZOFFSETTO:-0500
TZNAME:EST
DTSTART:20211107T060000
END:STANDARD
BEGIN:DAYLIGHT
TZOFFSETFROM:-0500
TZOFFSETTO:-0400
TZNAME:EDT
DTSTART:20220313T070000
END:DAYLIGHT
BEGIN:STANDARD
TZOFFSETFROM:-0400
TZOFFSETTO:-0500
TZNAME:EST
DTSTART:20221106T060000
END:STANDARD
BEGIN:DAYLIGHT
TZOFFSETFROM:-0500
TZOFFSETTO:-0400
TZNAME:EDT
DTSTART:20230312T070000
END:DAYLIGHT
BEGIN:STANDARD
TZOFFSETFROM:-0400
TZOFFSETTO:-0500
TZNAME:EST
DTSTART:20231105T060000
END:STANDARD
END:VTIMEZONE
BEGIN:VEVENT
DTSTART;TZID=America/New_York:20220522T140000
DTEND;TZID=America/New_York:20220522T150000
DTSTAMP:20260421T172658
CREATED:20220518T104344Z
LAST-MODIFIED:20220518T104344Z
UID:10342-1653228000-1653231600@livenewcanaan.org
SUMMARY:MAGIC with Jake Strong at the Powerhouse Theatre
DESCRIPTION:ABOUT MAGIC SHOW – JAKE STRONG’S GROWING PAINS\nONE DAY ONLY! \nJoin Jake Strong for a family friendly magic show about growing up. Jake blends comedy\, improv\, and magic for a fun night—perfect for teens and young adults! \nABOUT JAKE: https://youtu.be/6le3flD12d4 \nEver since Jake was old enough to speak\, he has been obsessed with magic. After honing his craft for over half of his life\, Jake has taken his show out on the road and has learned the ins and outs of the business. Jake stays away from boring card tricks and blends comedy with astounding\, original magic. His youthful energy is evident in every show he performs\, making every experience unique. Jake always guarantees professional and unique entertainment for your event\, and you wont be disappointed! \nThe show begins at 2PM.\nAdmission is $25 general / $20 students & seniors/ $15 for kids under 12 \nPatrons are asked to wear masks and show proof of vaccination. Don’t worry – we can still hear you laugh!
URL:https://livenewcanaan.org/event/magic-with-jake-strong-at-the-powerhouse-theatre/
LOCATION:Powerhouse Theater\, Waveny Park\, 679 South Avenue\, New Canaan\, CT\, 06840\, United States
CATEGORIES:Town Players of New Canaan
ATTACH;FMTTYPE=image/jpeg:https://livenewcanaan.org/wp-content/uploads/2022/05/img_0667-i2z9Zk.tmp_.jpg
ORGANIZER;CN="Town Players of New Canaan":MAILTO:info@tpnc.org
END:VEVENT
END:VCALENDAR