BEGIN:VCALENDAR
VERSION:2.0
PRODID:-//LiveNewCanaan - ECPv6.15.18//NONSGML v1.0//EN
CALSCALE:GREGORIAN
METHOD:PUBLISH
X-WR-CALNAME:LiveNewCanaan
X-ORIGINAL-URL:https://livenewcanaan.org
X-WR-CALDESC:Events for LiveNewCanaan
REFRESH-INTERVAL;VALUE=DURATION:PT1H
X-Robots-Tag:noindex
X-PUBLISHED-TTL:PT1H
BEGIN:VTIMEZONE
TZID:America/New_York
BEGIN:DAYLIGHT
TZOFFSETFROM:-0500
TZOFFSETTO:-0400
TZNAME:EDT
DTSTART:20210314T070000
END:DAYLIGHT
BEGIN:STANDARD
TZOFFSETFROM:-0400
TZOFFSETTO:-0500
TZNAME:EST
DTSTART:20211107T060000
END:STANDARD
BEGIN:DAYLIGHT
TZOFFSETFROM:-0500
TZOFFSETTO:-0400
TZNAME:EDT
DTSTART:20220313T070000
END:DAYLIGHT
BEGIN:STANDARD
TZOFFSETFROM:-0400
TZOFFSETTO:-0500
TZNAME:EST
DTSTART:20221106T060000
END:STANDARD
BEGIN:DAYLIGHT
TZOFFSETFROM:-0500
TZOFFSETTO:-0400
TZNAME:EDT
DTSTART:20230312T070000
END:DAYLIGHT
BEGIN:STANDARD
TZOFFSETFROM:-0400
TZOFFSETTO:-0500
TZNAME:EST
DTSTART:20231105T060000
END:STANDARD
END:VTIMEZONE
BEGIN:VEVENT
DTSTART;TZID=America/New_York:20221111T190000
DTEND;TZID=America/New_York:20221111T213000
DTSTAMP:20260421T041653
CREATED:20221109T103157Z
LAST-MODIFIED:20221109T112515Z
UID:10931-1668193200-1668202200@livenewcanaan.org
SUMMARY:Cocktails for a Cure – A Benefit for Pancreatic Cancer Research
DESCRIPTION:Cocktails for a Cure\, a special fundraiser for the Lustgarten Foundation for Pancreatic Cancer Research\, will be held at the Carriage Barn Arts Center on Friday\, November 11th. The evening will include great food and drinks\, a silent auction\, research news\, loving tributes\, and inspirational survivor stories. Along with music\, there will be entertainment by comedian John Ziegler who is also a survivor! \nThe event is co-hosted by longtime New Canaan resident Anne Hamilton\, whose husband Neil was diagnosed with stage 3 advanced inoperable pancreatic cancer in 2017\, but is now celebrating his fourth year in remission. “Pancreatic cancer has touched so many in our community\, we want everyone diagnosed with this hideous disease to have the best possible outcome.” The Lustgarten Foundation is the largest private funder of pancreatic cancer research. Their mission is to transform pancreatic cancer into a curable disease. \nTickets are now available\, as are numerous sponsorship opportunities for local businesses. No donation is too small for this worthy cause. 100% of all ticket sales and donations fund research.
URL:https://livenewcanaan.org/event/cocktails-for-a-cure-a-benefit-for-pancreatic-cancer-research/
LOCATION:Carriage Barn Arts Center
CATEGORIES:Carriage Barn Arts Center Event
ATTACH;FMTTYPE=image/jpeg:https://livenewcanaan.org/wp-content/uploads/2022/11/2022-INVITE-SQ-NEW-T7SJ0Y.tmp_.jpg
END:VEVENT
END:VCALENDAR