BEGIN:VCALENDAR
VERSION:2.0
PRODID:-//LiveNewCanaan - ECPv6.15.18//NONSGML v1.0//EN
CALSCALE:GREGORIAN
METHOD:PUBLISH
X-WR-CALNAME:LiveNewCanaan
X-ORIGINAL-URL:https://livenewcanaan.org
X-WR-CALDESC:Events for LiveNewCanaan
REFRESH-INTERVAL;VALUE=DURATION:PT1H
X-Robots-Tag:noindex
X-PUBLISHED-TTL:PT1H
BEGIN:VTIMEZONE
TZID:America/New_York
BEGIN:DAYLIGHT
TZOFFSETFROM:-0500
TZOFFSETTO:-0400
TZNAME:EDT
DTSTART:20190310T070000
END:DAYLIGHT
BEGIN:STANDARD
TZOFFSETFROM:-0400
TZOFFSETTO:-0500
TZNAME:EST
DTSTART:20191103T060000
END:STANDARD
BEGIN:DAYLIGHT
TZOFFSETFROM:-0500
TZOFFSETTO:-0400
TZNAME:EDT
DTSTART:20200308T070000
END:DAYLIGHT
BEGIN:STANDARD
TZOFFSETFROM:-0400
TZOFFSETTO:-0500
TZNAME:EST
DTSTART:20201101T060000
END:STANDARD
BEGIN:DAYLIGHT
TZOFFSETFROM:-0500
TZOFFSETTO:-0400
TZNAME:EDT
DTSTART:20210314T070000
END:DAYLIGHT
BEGIN:STANDARD
TZOFFSETFROM:-0400
TZOFFSETTO:-0500
TZNAME:EST
DTSTART:20211107T060000
END:STANDARD
END:VTIMEZONE
BEGIN:VEVENT
DTSTART;VALUE=DATE:20200929
DTEND;VALUE=DATE:20200930
DTSTAMP:20260422T204735
CREATED:20200903T112207Z
LAST-MODIFIED:20200929T123655Z
UID:6636-1601337600-1601423999@livenewcanaan.org
SUMMARY:19th Annual Exchange Club Golf Tournament at Country Club of New Canaan
DESCRIPTION:The Exchange Club of New Canaan will be hosting its 19th annual golf tournament on Tuesday\, September 29th at the Country Club of New Canaan. Mike Abbott\, program chair for the event said\, “The proceeds from the tournament support the Exchange Club’s Foundation\, which this year donated over $170\,000 to various charities in and around New Canaan.” \nThe foundation’s primary mission is the prevention of child abuse\, and its largest beneficiary is the Exchange Club Parenting Skills Center in Stamford. It also supports a wide variety of other local organizations. \nThe day will begin at 11 am with registration and lunch\, followed by a shotgun start at 12:30pm\, with on-course refreshments. The day will conclude with a cocktail reception\, awards ceremony and dinner. \nCorporate Sponsors (foursomes/twosomes) as well as single players are welcome. The opportunity to be a tee box or advertising partner is also available.\nFor more info\, please contact Mike Abbott at michael@abbott.cx or Bill Acker at backer4@optimum.net or visit www.newcanaanexchangeclub.com
URL:https://livenewcanaan.org/event/19th-annual-exchange-club-golf-tournament-at-country-club-of-new-canaan/
LOCATION:Country Club of New Canaan\, 95 Country Club Rd\, New Canaan\, CT\, United States
ATTACH;FMTTYPE=image/jpeg:https://livenewcanaan.org/wp-content/uploads/2020/09/golf-outing-fulll-EdS3v8.tmp_.jpg
ORGANIZER;CN="New Canaan Exchange Club":MAILTO:info@newcanaanexchangeclub.com
END:VEVENT
END:VCALENDAR