BEGIN:VCALENDAR
VERSION:2.0
PRODID:-//LiveNewCanaan - ECPv6.15.18//NONSGML v1.0//EN
CALSCALE:GREGORIAN
METHOD:PUBLISH
X-ORIGINAL-URL:https://livenewcanaan.org
X-WR-CALDESC:Events for LiveNewCanaan
REFRESH-INTERVAL;VALUE=DURATION:PT1H
X-Robots-Tag:noindex
X-PUBLISHED-TTL:PT1H
BEGIN:VTIMEZONE
TZID:America/New_York
BEGIN:DAYLIGHT
TZOFFSETFROM:-0500
TZOFFSETTO:-0400
TZNAME:EDT
DTSTART:20210314T070000
END:DAYLIGHT
BEGIN:STANDARD
TZOFFSETFROM:-0400
TZOFFSETTO:-0500
TZNAME:EST
DTSTART:20211107T060000
END:STANDARD
BEGIN:DAYLIGHT
TZOFFSETFROM:-0500
TZOFFSETTO:-0400
TZNAME:EDT
DTSTART:20220313T070000
END:DAYLIGHT
BEGIN:STANDARD
TZOFFSETFROM:-0400
TZOFFSETTO:-0500
TZNAME:EST
DTSTART:20221106T060000
END:STANDARD
BEGIN:DAYLIGHT
TZOFFSETFROM:-0500
TZOFFSETTO:-0400
TZNAME:EDT
DTSTART:20230312T070000
END:DAYLIGHT
BEGIN:STANDARD
TZOFFSETFROM:-0400
TZOFFSETTO:-0500
TZNAME:EST
DTSTART:20231105T060000
END:STANDARD
END:VTIMEZONE
BEGIN:VEVENT
DTSTART;TZID=America/New_York:20220521T170000
DTEND;TZID=America/New_York:20220521T210000
DTSTAMP:20260419T235701
CREATED:20220518T104339Z
LAST-MODIFIED:20220518T104339Z
UID:10334-1653152400-1653166800@livenewcanaan.org
SUMMARY:Silvermine Arts Center Centennial Gala
DESCRIPTION:An Evening of Celebration Honoring Visionaries for Arts.\nCocktails by the Harbor 5-7pm\nDinner in the Ballroom/Awards 7-9pm\nTo Purchase Tickets to this Fundraiser-https://www.silvermineevents.org/
URL:https://livenewcanaan.org/event/silvermine-arts-center-centennial-gala/
LOCATION:Stamford Yacht Club\, 97 Ocean Dr W Stamford\, Stamford\, 06902
ATTACH;FMTTYPE=image/jpeg:https://livenewcanaan.org/wp-content/uploads/2022/05/dsc_8304-scaled-Uz8Q5U.tmp_.jpg
ORGANIZER;CN="Silvermine Arts Center":MAILTO:info@silverminearts.org
END:VEVENT
END:VCALENDAR