BEGIN:VCALENDAR
VERSION:2.0
PRODID:-//LiveNewCanaan - ECPv6.15.18//NONSGML v1.0//EN
CALSCALE:GREGORIAN
METHOD:PUBLISH
X-WR-CALNAME:LiveNewCanaan
X-ORIGINAL-URL:https://livenewcanaan.org
X-WR-CALDESC:Events for LiveNewCanaan
REFRESH-INTERVAL;VALUE=DURATION:PT1H
X-Robots-Tag:noindex
X-PUBLISHED-TTL:PT1H
BEGIN:VTIMEZONE
TZID:America/New_York
BEGIN:DAYLIGHT
TZOFFSETFROM:-0500
TZOFFSETTO:-0400
TZNAME:EDT
DTSTART:20190310T070000
END:DAYLIGHT
BEGIN:STANDARD
TZOFFSETFROM:-0400
TZOFFSETTO:-0500
TZNAME:EST
DTSTART:20191103T060000
END:STANDARD
BEGIN:DAYLIGHT
TZOFFSETFROM:-0500
TZOFFSETTO:-0400
TZNAME:EDT
DTSTART:20200308T070000
END:DAYLIGHT
BEGIN:STANDARD
TZOFFSETFROM:-0400
TZOFFSETTO:-0500
TZNAME:EST
DTSTART:20201101T060000
END:STANDARD
BEGIN:DAYLIGHT
TZOFFSETFROM:-0500
TZOFFSETTO:-0400
TZNAME:EDT
DTSTART:20210314T070000
END:DAYLIGHT
BEGIN:STANDARD
TZOFFSETFROM:-0400
TZOFFSETTO:-0500
TZNAME:EST
DTSTART:20211107T060000
END:STANDARD
END:VTIMEZONE
BEGIN:VEVENT
DTSTART;TZID=America/New_York:20200820T150000
DTEND;TZID=America/New_York:20200820T160000
DTSTAMP:20260421T100016
CREATED:20200814T105206Z
LAST-MODIFIED:20200820T112302Z
UID:6527-1597935600-1597939200@livenewcanaan.org
SUMMARY:Three Sneaky Ways Entrepreneurs Sabotage Themselves (And How To Stop Doing That)
DESCRIPTION:Sabotage is a big word. Unfortunately\, it does a great job of describing how entrepreneurs can trip themselves up. Isn’t it hard enough to do All The Things necessary to run a thriving business without also getting in your own way? \nJoin business coach Lisa Corrado (LisaCorrado.com) as she uncovers some of the most common ways business owners sabotage themselves AND shows you how to stop doing them yourself. \nThis Zoom event is free and registration is required to receive the call details.
URL:https://livenewcanaan.org/event/three-sneaky-ways-entrepreneurs-sabotage-themselves-and-how-to-stop-doing-that/
ATTACH;FMTTYPE=image/png:https://livenewcanaan.org/wp-content/uploads/2020/08/sneaky-ways-image-XlBN4a.tmp_.png
ORGANIZER;CN="Lisa Corrado":MAILTO:Lisa@LisaCorrado.com
END:VEVENT
END:VCALENDAR