BEGIN:VCALENDAR
VERSION:2.0
PRODID:-//LiveNewCanaan - ECPv6.15.18//NONSGML v1.0//EN
CALSCALE:GREGORIAN
METHOD:PUBLISH
X-WR-CALNAME:LiveNewCanaan
X-ORIGINAL-URL:https://livenewcanaan.org
X-WR-CALDESC:Events for LiveNewCanaan
REFRESH-INTERVAL;VALUE=DURATION:PT1H
X-Robots-Tag:noindex
X-PUBLISHED-TTL:PT1H
BEGIN:VTIMEZONE
TZID:America/New_York
BEGIN:DAYLIGHT
TZOFFSETFROM:-0500
TZOFFSETTO:-0400
TZNAME:EDT
DTSTART:20210314T070000
END:DAYLIGHT
BEGIN:STANDARD
TZOFFSETFROM:-0400
TZOFFSETTO:-0500
TZNAME:EST
DTSTART:20211107T060000
END:STANDARD
BEGIN:DAYLIGHT
TZOFFSETFROM:-0500
TZOFFSETTO:-0400
TZNAME:EDT
DTSTART:20220313T070000
END:DAYLIGHT
BEGIN:STANDARD
TZOFFSETFROM:-0400
TZOFFSETTO:-0500
TZNAME:EST
DTSTART:20221106T060000
END:STANDARD
BEGIN:DAYLIGHT
TZOFFSETFROM:-0500
TZOFFSETTO:-0400
TZNAME:EDT
DTSTART:20230312T070000
END:DAYLIGHT
BEGIN:STANDARD
TZOFFSETFROM:-0400
TZOFFSETTO:-0500
TZNAME:EST
DTSTART:20231105T060000
END:STANDARD
END:VTIMEZONE
BEGIN:VEVENT
DTSTART;TZID=America/New_York:20220615T120000
DTEND;TZID=America/New_York:20220615T140000
DTSTAMP:20260420T011238
CREATED:20220518T104402Z
LAST-MODIFIED:20220518T104402Z
UID:10382-1655294400-1655301600@livenewcanaan.org
SUMMARY:Women In Leadership Lunch
DESCRIPTION:The 2nd Annual “Women In Leadership Lunch” shines a bright light on the Connecticut Yankee Council-Boy Scouts of America’s mission to bring our premiere youth development program to more girls and young women in our community. We’re honoring two women\, Executive Director of the Ridgefield Playhouse\, Allison Stockel\, and Administrative Officer for the Town of New Canaan\, Tucker Murphy who contribute their time\, energy and talents for the betterment of our community\, stand out as role models of exemplary leadership and citizenship\, and who exemplify the ideals of the Boy Scouts of America as expressed in the Scout Oath and Law.
URL:https://livenewcanaan.org/event/women-in-leadership-lunch-2/
LOCATION:Country Club of New Canaan\, 95 Country Club Rd\, New Canaan\, CT\, United States
ATTACH;FMTTYPE=image/png:https://livenewcanaan.org/wp-content/uploads/2022/05/logo-screenshot-qHujSH.tmp_.png
ORGANIZER;CN="Boy Scouts of America%2C Connecticut Yankee Council":MAILTO:suzanne.schulz@scouting.org
END:VEVENT
END:VCALENDAR