BEGIN:VCALENDAR
VERSION:2.0
PRODID:-//LiveNewCanaan - ECPv6.15.18//NONSGML v1.0//EN
CALSCALE:GREGORIAN
METHOD:PUBLISH
X-WR-CALNAME:LiveNewCanaan
X-ORIGINAL-URL:https://livenewcanaan.org
X-WR-CALDESC:Events for LiveNewCanaan
REFRESH-INTERVAL;VALUE=DURATION:PT1H
X-Robots-Tag:noindex
X-PUBLISHED-TTL:PT1H
BEGIN:VTIMEZONE
TZID:America/New_York
BEGIN:DAYLIGHT
TZOFFSETFROM:-0500
TZOFFSETTO:-0400
TZNAME:EDT
DTSTART:20220313T070000
END:DAYLIGHT
BEGIN:STANDARD
TZOFFSETFROM:-0400
TZOFFSETTO:-0500
TZNAME:EST
DTSTART:20221106T060000
END:STANDARD
BEGIN:DAYLIGHT
TZOFFSETFROM:-0500
TZOFFSETTO:-0400
TZNAME:EDT
DTSTART:20230312T070000
END:DAYLIGHT
BEGIN:STANDARD
TZOFFSETFROM:-0400
TZOFFSETTO:-0500
TZNAME:EST
DTSTART:20231105T060000
END:STANDARD
BEGIN:DAYLIGHT
TZOFFSETFROM:-0500
TZOFFSETTO:-0400
TZNAME:EDT
DTSTART:20240310T070000
END:DAYLIGHT
BEGIN:STANDARD
TZOFFSETFROM:-0400
TZOFFSETTO:-0500
TZNAME:EST
DTSTART:20241103T060000
END:STANDARD
END:VTIMEZONE
BEGIN:VEVENT
DTSTART;TZID=America/New_York:20230616T200000
DTEND;TZID=America/New_York:20230616T220000
DTSTAMP:20260420T162758
CREATED:20230523T205154Z
LAST-MODIFIED:20230523T205154Z
UID:12022-1686945600-1686952800@livenewcanaan.org
SUMMARY:12 ANGRY MEN\, by Reginald Rose
DESCRIPTION:The Town Players of New Canaan is performing the classic 12 Angry Men at the Powerhouse Theatre in Waveny Park for two weekends with a powerful cast of top local actors and professional actors from NYC and LA. We are the ONLY theater in the USA performing this Professional Version this year! Others perform the adapted versions by Sherman L. Sergel.\n12 Angry Men is a 1955 stage play by Reginald Rose which he adapted from his 1954 teleplay of the same title for the CBS Studio One. It took nearly 50 years for the play to make its Broadway debut in October\, 2004 where it ran for a stellar 328 performances at the American Airlines Theatre. This version then toured the US in 2006/2007. And now the Town Players are bringing this Broadway version to New Canaan! \nThe play explores the deliberations of a jury of a homicide trial\, in which a dozen “men with ties and a coat” decide the fate of a teenager accused of murdering his abusive father. At the beginning\, they are nearly unanimous in concluding the youth is guilty. One man dissents\, declaring him “not guilty”\, and he sows a seed of reasonable doubt. Eventually he convinces the other jurors to support a unanimous “not guilty” verdict.
URL:https://livenewcanaan.org/event/12-angry-men-by-reginald-rose/
LOCATION:Powerhouse Theater\, Waveny Park\, 679 South Avenue\, New Canaan\, CT\, 06840\, United States
CATEGORIES:Town Players of New Canaan
ATTACH;FMTTYPE=image/jpeg:https://livenewcanaan.org/wp-content/uploads/2023/05/A850E638-2AE3-4C91-8B14-5FDAB10A8E33-3yqVq6.tmp_.jpg
ORGANIZER;CN="Town Players of New Canaan":MAILTO:info@tpnc.org
END:VEVENT
BEGIN:VEVENT
DTSTART;TZID=America/New_York:20230617T140000
DTEND;TZID=America/New_York:20230617T160000
DTSTAMP:20260420T162758
CREATED:20230523T205206Z
LAST-MODIFIED:20230523T205206Z
UID:12045-1687010400-1687017600@livenewcanaan.org
SUMMARY:12 ANGRY MEN\, by Reginald Rose
DESCRIPTION:The Town Players of New Canaan is performing the classic 12 Angry Men at the Powerhouse Theatre in Waveny Park for two weekends with a powerful cast of top local actors and professional actors from NYC and LA. We are the ONLY theater in the USA performing this Professional Version this year! Others perform the adapted versions by Sherman L. Sergel.\n12 Angry Men is a 1955 stage play by Reginald Rose which he adapted from his 1954 teleplay of the same title for the CBS Studio One. It took nearly 50 years for the play to make its Broadway debut in October\, 2004 where it ran for a stellar 328 performances at the American Airlines Theatre. This version then toured the US in 2006/2007. And now the Town Players are bringing this Broadway version to New Canaan! \nThe play explores the deliberations of a jury of a homicide trial\, in which a dozen “men with ties and a coat” decide the fate of a teenager accused of murdering his abusive father. At the beginning\, they are nearly unanimous in concluding the youth is guilty. One man dissents\, declaring him “not guilty”\, and he sows a seed of reasonable doubt. Eventually he convinces the other jurors to support a unanimous “not guilty” verdict.
URL:https://livenewcanaan.org/event/12-angry-men-by-reginald-rose-2/
LOCATION:Powerhouse Theater\, Waveny Park\, 679 South Avenue\, New Canaan\, CT\, 06840\, United States
CATEGORIES:Town Players of New Canaan
ATTACH;FMTTYPE=image/jpeg:https://livenewcanaan.org/wp-content/uploads/2023/05/A850E638-2AE3-4C91-8B14-5FDAB10A8E33-3yqVq6.tmp_.jpg
ORGANIZER;CN="Town Players of New Canaan":MAILTO:info@tpnc.org
END:VEVENT
BEGIN:VEVENT
DTSTART;TZID=America/New_York:20230617T200000
DTEND;TZID=America/New_York:20230618T220000
DTSTAMP:20260420T162758
CREATED:20230523T205206Z
LAST-MODIFIED:20230523T205206Z
UID:12046-1687032000-1687125600@livenewcanaan.org
SUMMARY:12 ANGRY MEN\, by Reginald Rose
DESCRIPTION:The Town Players of New Canaan is performing the classic 12 Angry Men at the Powerhouse Theatre in Waveny Park for two weekends with a powerful cast of top local actors and professional actors from NYC and LA. We are the ONLY theater in the USA performing this Professional Version this year! Others perform the adapted versions by Sherman L. Sergel.\n12 Angry Men is a 1955 stage play by Reginald Rose which he adapted from his 1954 teleplay of the same title for the CBS Studio One. It took nearly 50 years for the play to make its Broadway debut in October\, 2004 where it ran for a stellar 328 performances at the American Airlines Theatre. This version then toured the US in 2006/2007. And now the Town Players are bringing this Broadway version to New Canaan! \nThe play explores the deliberations of a jury of a homicide trial\, in which a dozen “men with ties and a coat” decide the fate of a teenager accused of murdering his abusive father. At the beginning\, they are nearly unanimous in concluding the youth is guilty. One man dissents\, declaring him “not guilty”\, and he sows a seed of reasonable doubt. Eventually he convinces the other jurors to support a unanimous “not guilty” verdict.
URL:https://livenewcanaan.org/event/12-angry-men-by-reginald-rose-3/
LOCATION:Powerhouse Theater\, Waveny Park\, 679 South Avenue\, New Canaan\, CT\, 06840\, United States
CATEGORIES:Town Players of New Canaan
ATTACH;FMTTYPE=image/jpeg:https://livenewcanaan.org/wp-content/uploads/2023/05/A850E638-2AE3-4C91-8B14-5FDAB10A8E33-3yqVq6.tmp_.jpg
ORGANIZER;CN="Town Players of New Canaan":MAILTO:info@tpnc.org
END:VEVENT
BEGIN:VEVENT
DTSTART;TZID=America/New_York:20230618T140000
DTEND;TZID=America/New_York:20230618T160000
DTSTAMP:20260420T162758
CREATED:20230523T205206Z
LAST-MODIFIED:20230523T205206Z
UID:12047-1687096800-1687104000@livenewcanaan.org
SUMMARY:12 ANGRY MEN\, by Reginald Rose
DESCRIPTION:The Town Players of New Canaan is performing the classic 12 Angry Men at the Powerhouse Theatre in Waveny Park for two weekends with a powerful cast of top local actors and professional actors from NYC and LA. We are the ONLY theater in the USA performing this Professional Version this year! Others perform the adapted versions by Sherman L. Sergel.\n12 Angry Men is a 1955 stage play by Reginald Rose which he adapted from his 1954 teleplay of the same title for the CBS Studio One. It took nearly 50 years for the play to make its Broadway debut in October\, 2004 where it ran for a stellar 328 performances at the American Airlines Theatre. This version then toured the US in 2006/2007. And now the Town Players are bringing this Broadway version to New Canaan! \nThe play explores the deliberations of a jury of a homicide trial\, in which a dozen “men with ties and a coat” decide the fate of a teenager accused of murdering his abusive father. At the beginning\, they are nearly unanimous in concluding the youth is guilty. One man dissents\, declaring him “not guilty”\, and he sows a seed of reasonable doubt. Eventually he convinces the other jurors to support a unanimous “not guilty” verdict.
URL:https://livenewcanaan.org/event/12-angry-men-by-reginald-rose-4/
LOCATION:Powerhouse Theater\, Waveny Park\, 679 South Avenue\, New Canaan\, CT\, 06840\, United States
CATEGORIES:Town Players of New Canaan
ATTACH;FMTTYPE=image/jpeg:https://livenewcanaan.org/wp-content/uploads/2023/05/A850E638-2AE3-4C91-8B14-5FDAB10A8E33-3yqVq6.tmp_.jpg
ORGANIZER;CN="Town Players of New Canaan":MAILTO:info@tpnc.org
END:VEVENT
BEGIN:VEVENT
DTSTART;TZID=America/New_York:20230622T200000
DTEND;TZID=America/New_York:20230622T220000
DTSTAMP:20260420T162758
CREATED:20230523T205207Z
LAST-MODIFIED:20230523T205207Z
UID:12048-1687464000-1687471200@livenewcanaan.org
SUMMARY:12 ANGRY MEN\, by Reginald Rose
DESCRIPTION:The Town Players of New Canaan is performing the classic 12 Angry Men at the Powerhouse Theatre in Waveny Park for two weekends with a powerful cast of top local actors and professional actors from NYC and LA. We are the ONLY theater in the USA performing this Professional Version this year! Others perform the adapted versions by Sherman L. Sergel.\n12 Angry Men is a 1955 stage play by Reginald Rose which he adapted from his 1954 teleplay of the same title for the CBS Studio One. It took nearly 50 years for the play to make its Broadway debut in October\, 2004 where it ran for a stellar 328 performances at the American Airlines Theatre. This version then toured the US in 2006/2007. And now the Town Players are bringing this Broadway version to New Canaan! \nThe play explores the deliberations of a jury of a homicide trial\, in which a dozen “men with ties and a coat” decide the fate of a teenager accused of murdering his abusive father. At the beginning\, they are nearly unanimous in concluding the youth is guilty. One man dissents\, declaring him “not guilty”\, and he sows a seed of reasonable doubt. Eventually he convinces the other jurors to support a unanimous “not guilty” verdict.
URL:https://livenewcanaan.org/event/12-angry-men-by-reginald-rose-5/
LOCATION:Powerhouse Theater\, Waveny Park\, 679 South Avenue\, New Canaan\, CT\, 06840\, United States
CATEGORIES:Town Players of New Canaan
ATTACH;FMTTYPE=image/jpeg:https://livenewcanaan.org/wp-content/uploads/2023/05/A850E638-2AE3-4C91-8B14-5FDAB10A8E33-3yqVq6.tmp_.jpg
ORGANIZER;CN="Town Players of New Canaan":MAILTO:info@tpnc.org
END:VEVENT
BEGIN:VEVENT
DTSTART;TZID=America/New_York:20230623T200000
DTEND;TZID=America/New_York:20230623T220000
DTSTAMP:20260420T162758
CREATED:20230523T205207Z
LAST-MODIFIED:20230523T205207Z
UID:12049-1687550400-1687557600@livenewcanaan.org
SUMMARY:12 ANGRY MEN\, by Reginald Rose
DESCRIPTION:The Town Players of New Canaan is performing the classic 12 Angry Men at the Powerhouse Theatre in Waveny Park for two weekends with a powerful cast of top local actors and professional actors from NYC and LA. We are the ONLY theater in the USA performing this Professional Version this year! Others perform the adapted versions by Sherman L. Sergel.\n12 Angry Men is a 1955 stage play by Reginald Rose which he adapted from his 1954 teleplay of the same title for the CBS Studio One. It took nearly 50 years for the play to make its Broadway debut in October\, 2004 where it ran for a stellar 328 performances at the American Airlines Theatre. This version then toured the US in 2006/2007. And now the Town Players are bringing this Broadway version to New Canaan! \nThe play explores the deliberations of a jury of a homicide trial\, in which a dozen “men with ties and a coat” decide the fate of a teenager accused of murdering his abusive father. At the beginning\, they are nearly unanimous in concluding the youth is guilty. One man dissents\, declaring him “not guilty”\, and he sows a seed of reasonable doubt. Eventually he convinces the other jurors to support a unanimous “not guilty” verdict.
URL:https://livenewcanaan.org/event/12-angry-men-by-reginald-rose-6/
LOCATION:Powerhouse Theater\, Waveny Park\, 679 South Avenue\, New Canaan\, CT\, 06840\, United States
CATEGORIES:Town Players of New Canaan
ATTACH;FMTTYPE=image/jpeg:https://livenewcanaan.org/wp-content/uploads/2023/05/A850E638-2AE3-4C91-8B14-5FDAB10A8E33-3yqVq6.tmp_.jpg
ORGANIZER;CN="Town Players of New Canaan":MAILTO:info@tpnc.org
END:VEVENT
BEGIN:VEVENT
DTSTART;TZID=America/New_York:20230624T160000
DTEND;TZID=America/New_York:20230624T180000
DTSTAMP:20260420T162758
CREATED:20230523T205207Z
LAST-MODIFIED:20230523T205207Z
UID:12050-1687622400-1687629600@livenewcanaan.org
SUMMARY:12 ANGRY MEN\, by Reginald Rose
DESCRIPTION:The Town Players of New Canaan is performing the classic 12 Angry Men at the Powerhouse Theatre in Waveny Park for two weekends with a powerful cast of top local actors and professional actors from NYC and LA. We are the ONLY theater in the USA performing this Professional Version this year! Others perform the adapted versions by Sherman L. Sergel.\n12 Angry Men is a 1955 stage play by Reginald Rose which he adapted from his 1954 teleplay of the same title for the CBS Studio One. It took nearly 50 years for the play to make its Broadway debut in October\, 2004 where it ran for a stellar 328 performances at the American Airlines Theatre. This version then toured the US in 2006/2007. And now the Town Players are bringing this Broadway version to New Canaan! \nThe play explores the deliberations of a jury of a homicide trial\, in which a dozen “men with ties and a coat” decide the fate of a teenager accused of murdering his abusive father. At the beginning\, they are nearly unanimous in concluding the youth is guilty. One man dissents\, declaring him “not guilty”\, and he sows a seed of reasonable doubt. Eventually he convinces the other jurors to support a unanimous “not guilty” verdict.
URL:https://livenewcanaan.org/event/12-angry-men-by-reginald-rose-7/
LOCATION:Powerhouse Theater\, Waveny Park\, 679 South Avenue\, New Canaan\, CT\, 06840\, United States
CATEGORIES:Town Players of New Canaan
ATTACH;FMTTYPE=image/jpeg:https://livenewcanaan.org/wp-content/uploads/2023/05/A850E638-2AE3-4C91-8B14-5FDAB10A8E33-3yqVq6.tmp_.jpg
ORGANIZER;CN="Town Players of New Canaan":MAILTO:info@tpnc.org
END:VEVENT
BEGIN:VEVENT
DTSTART;TZID=America/New_York:20230624T200000
DTEND;TZID=America/New_York:20230624T220000
DTSTAMP:20260420T162758
CREATED:20230523T205207Z
LAST-MODIFIED:20230523T205207Z
UID:12051-1687636800-1687644000@livenewcanaan.org
SUMMARY:12 ANGRY MEN\, by Reginald Rose
DESCRIPTION:The Town Players of New Canaan is performing the classic 12 Angry Men at the Powerhouse Theatre in Waveny Park for two weekends with a powerful cast of top local actors and professional actors from NYC and LA. We are the ONLY theater in the USA performing this Professional Version this year! Others perform the adapted versions by Sherman L. Sergel.\n12 Angry Men is a 1955 stage play by Reginald Rose which he adapted from his 1954 teleplay of the same title for the CBS Studio One. It took nearly 50 years for the play to make its Broadway debut in October\, 2004 where it ran for a stellar 328 performances at the American Airlines Theatre. This version then toured the US in 2006/2007. And now the Town Players are bringing this Broadway version to New Canaan! \nThe play explores the deliberations of a jury of a homicide trial\, in which a dozen “men with ties and a coat” decide the fate of a teenager accused of murdering his abusive father. At the beginning\, they are nearly unanimous in concluding the youth is guilty. One man dissents\, declaring him “not guilty”\, and he sows a seed of reasonable doubt. Eventually he convinces the other jurors to support a unanimous “not guilty” verdict.
URL:https://livenewcanaan.org/event/12-angry-men-by-reginald-rose-8/
LOCATION:Powerhouse Theater\, Waveny Park\, 679 South Avenue\, New Canaan\, CT\, 06840\, United States
CATEGORIES:Town Players of New Canaan
ATTACH;FMTTYPE=image/jpeg:https://livenewcanaan.org/wp-content/uploads/2023/05/A850E638-2AE3-4C91-8B14-5FDAB10A8E33-3yqVq6.tmp_.jpg
ORGANIZER;CN="Town Players of New Canaan":MAILTO:info@tpnc.org
END:VEVENT
END:VCALENDAR