BEGIN:VCALENDAR
VERSION:2.0
PRODID:-//LiveNewCanaan - ECPv6.15.18//NONSGML v1.0//EN
CALSCALE:GREGORIAN
METHOD:PUBLISH
X-ORIGINAL-URL:https://livenewcanaan.org
X-WR-CALDESC:Events for LiveNewCanaan
REFRESH-INTERVAL;VALUE=DURATION:PT1H
X-Robots-Tag:noindex
X-PUBLISHED-TTL:PT1H
BEGIN:VTIMEZONE
TZID:America/New_York
BEGIN:DAYLIGHT
TZOFFSETFROM:-0500
TZOFFSETTO:-0400
TZNAME:EDT
DTSTART:20240310T070000
END:DAYLIGHT
BEGIN:STANDARD
TZOFFSETFROM:-0400
TZOFFSETTO:-0500
TZNAME:EST
DTSTART:20241103T060000
END:STANDARD
BEGIN:DAYLIGHT
TZOFFSETFROM:-0500
TZOFFSETTO:-0400
TZNAME:EDT
DTSTART:20250309T070000
END:DAYLIGHT
BEGIN:STANDARD
TZOFFSETFROM:-0400
TZOFFSETTO:-0500
TZNAME:EST
DTSTART:20251102T060000
END:STANDARD
BEGIN:DAYLIGHT
TZOFFSETFROM:-0500
TZOFFSETTO:-0400
TZNAME:EDT
DTSTART:20260308T070000
END:DAYLIGHT
BEGIN:STANDARD
TZOFFSETFROM:-0400
TZOFFSETTO:-0500
TZNAME:EST
DTSTART:20261101T060000
END:STANDARD
END:VTIMEZONE
BEGIN:VEVENT
DTSTART;TZID=America/New_York:20250905T120000
DTEND;TZID=America/New_York:20250905T170000
DTSTAMP:20260419T184211
CREATED:20250830T110040Z
LAST-MODIFIED:20250830T110040Z
UID:14901-1757073600-1757091600@livenewcanaan.org
SUMMARY:Lindberg Eyewear Event at Morgenthal Frederics
DESCRIPTION:Quality\, comfort\, and innovation. LINDBERG eyewear is the epitome of Danish Design with every piece designed and made in Denmark. The brand is known for their level of ingenuity on the verge of the impossible. nWith a highly specialized team committed to the research and development of new cutting-edge techniques\, each LINDBERG eyewear frame is ultra-lightweight and constructed without any screws or rivets. nJoin us to browse the LINDBERG optical and sun collection Friday Sept 5th.
URL:https://livenewcanaan.org/event/lindberg-eyewear-event-at-morgenthal-frederics/
CATEGORIES:Town Players of New Canaan
END:VEVENT
END:VCALENDAR