BEGIN:VCALENDAR
VERSION:2.0
PRODID:-//LiveNewCanaan - ECPv6.15.18//NONSGML v1.0//EN
CALSCALE:GREGORIAN
METHOD:PUBLISH
X-ORIGINAL-URL:https://livenewcanaan.org
X-WR-CALDESC:Events for LiveNewCanaan
REFRESH-INTERVAL;VALUE=DURATION:PT1H
X-Robots-Tag:noindex
X-PUBLISHED-TTL:PT1H
BEGIN:VTIMEZONE
TZID:America/New_York
BEGIN:DAYLIGHT
TZOFFSETFROM:-0500
TZOFFSETTO:-0400
TZNAME:EDT
DTSTART:20220313T070000
END:DAYLIGHT
BEGIN:STANDARD
TZOFFSETFROM:-0400
TZOFFSETTO:-0500
TZNAME:EST
DTSTART:20221106T060000
END:STANDARD
BEGIN:DAYLIGHT
TZOFFSETFROM:-0500
TZOFFSETTO:-0400
TZNAME:EDT
DTSTART:20230312T070000
END:DAYLIGHT
BEGIN:STANDARD
TZOFFSETFROM:-0400
TZOFFSETTO:-0500
TZNAME:EST
DTSTART:20231105T060000
END:STANDARD
BEGIN:DAYLIGHT
TZOFFSETFROM:-0500
TZOFFSETTO:-0400
TZNAME:EDT
DTSTART:20240310T070000
END:DAYLIGHT
BEGIN:STANDARD
TZOFFSETFROM:-0400
TZOFFSETTO:-0500
TZNAME:EST
DTSTART:20241103T060000
END:STANDARD
END:VTIMEZONE
BEGIN:VEVENT
DTSTART;TZID=America/New_York:20230907T200000
DTEND;TZID=America/New_York:20230907T220000
DTSTAMP:20260423T094924
CREATED:20230905T115837Z
LAST-MODIFIED:20230905T115837Z
UID:12344-1694116800-1694124000@livenewcanaan.org
SUMMARY:THE FANTASTICKS
DESCRIPTION:BACK BY POPULAR DEMAND!  The word’s longest running musical which ran off-Broadway for 42 years! This funny\, charming\, and romantic musical tells an allegorical story concerning two neighboring fathers who trick their children into falling in love by pretending to feud. It’s a moving tale of young lovers who become disillusioned\, only to discover a more mature\, meaningful love which is punctuated by a bountiful series of catchy\, memorable songs\, many of which have become classics\, including “Try To Remember”. The Fantasticks is an intimate show that engages the audience’s imagination and showcases this strong ensemble cast. A classic…. for good reason.
URL:https://livenewcanaan.org/event/the-fantasticks-5/
LOCATION:Powerhouse Theater\, Waveny Park\, 679 South Avenue\, New Canaan\, CT\, 06840\, United States
CATEGORIES:Town Players of New Canaan
ATTACH;FMTTYPE=image/jpeg:https://livenewcanaan.org/wp-content/uploads/2023/09/IMG_4413-1-R9HNzc.tmp_.jpg
ORGANIZER;CN="Town Players of New Canaan":MAILTO:info@tpnc.org
END:VEVENT
BEGIN:VEVENT
DTSTART;TZID=America/New_York:20230908T200000
DTEND;TZID=America/New_York:20230908T220000
DTSTAMP:20260423T094924
CREATED:20230818T124423Z
LAST-MODIFIED:20230818T124423Z
UID:12264-1694203200-1694210400@livenewcanaan.org
SUMMARY:The Fantasticks
DESCRIPTION:BACK BY POPULAR DEMAND!  The word’s longest running musical which ran off-Broadway for 42 years! This funny\, charming\, and romantic musical tells an allegorical story concerning two neighboring fathers who trick their children into falling in love by pretending to feud.  It’s a moving tale of young lovers who become disillusioned\, only to discover a more mature\, meaningful love which is punctuated by a bountiful series of catchy\, memorable songs\, many of which have become classics\, including “Try To Remember”.  The Fantasticks is an intimate show that engages the audience’s imagination and showcases this strong ensemble cast.  A classic…. for good reason.
URL:https://livenewcanaan.org/event/the-fantasticks-4/
LOCATION:Powerhouse Theater\, Waveny Park\, 679 South Avenue\, New Canaan\, CT\, 06840\, United States
CATEGORIES:Town Players of New Canaan
ATTACH;FMTTYPE=image/jpeg:https://livenewcanaan.org/wp-content/uploads/2023/08/IMG_2025-bppLOL.tmp_.jpg
ORGANIZER;CN="Town Players of New Canaan":MAILTO:info@tpnc.org
END:VEVENT
BEGIN:VEVENT
DTSTART;TZID=America/New_York:20230910T140000
DTEND;TZID=America/New_York:20230910T160000
DTSTAMP:20260423T094924
CREATED:20230905T115845Z
LAST-MODIFIED:20230905T115845Z
UID:12353-1694354400-1694361600@livenewcanaan.org
SUMMARY:THE FANTASTICKS
DESCRIPTION:BACK BY POPULAR DEMAND!  The word’s longest running musical which ran off-Broadway for 42 years! This funny\, charming\, and romantic musical tells an allegorical story concerning two neighboring fathers who trick their children into falling in love by pretending to feud. It’s a moving tale of young lovers who become disillusioned\, only to discover a more mature\, meaningful love which is punctuated by a bountiful series of catchy\, memorable songs\, many of which have become classics\, including “Try To Remember”. The Fantasticks is an intimate show that engages the audience’s imagination and showcases this strong ensemble cast. A classic…. for good reason.
URL:https://livenewcanaan.org/event/the-fantasticks-6/
LOCATION:Powerhouse Theater\, Waveny Park\, 679 South Avenue\, New Canaan\, CT\, 06840\, United States
CATEGORIES:Town Players of New Canaan
ATTACH;FMTTYPE=image/jpeg:https://livenewcanaan.org/wp-content/uploads/2023/09/IMG_4413-1-R9HNzc.tmp_.jpg
ORGANIZER;CN="Town Players of New Canaan":MAILTO:info@tpnc.org
END:VEVENT
END:VCALENDAR