BEGIN:VCALENDAR
VERSION:2.0
PRODID:-//LiveNewCanaan - ECPv6.15.18//NONSGML v1.0//EN
CALSCALE:GREGORIAN
METHOD:PUBLISH
X-WR-CALNAME:LiveNewCanaan
X-ORIGINAL-URL:https://livenewcanaan.org
X-WR-CALDESC:Events for LiveNewCanaan
REFRESH-INTERVAL;VALUE=DURATION:PT1H
X-Robots-Tag:noindex
X-PUBLISHED-TTL:PT1H
BEGIN:VTIMEZONE
TZID:America/New_York
BEGIN:DAYLIGHT
TZOFFSETFROM:-0500
TZOFFSETTO:-0400
TZNAME:EDT
DTSTART:20230312T070000
END:DAYLIGHT
BEGIN:STANDARD
TZOFFSETFROM:-0400
TZOFFSETTO:-0500
TZNAME:EST
DTSTART:20231105T060000
END:STANDARD
BEGIN:DAYLIGHT
TZOFFSETFROM:-0500
TZOFFSETTO:-0400
TZNAME:EDT
DTSTART:20240310T070000
END:DAYLIGHT
BEGIN:STANDARD
TZOFFSETFROM:-0400
TZOFFSETTO:-0500
TZNAME:EST
DTSTART:20241103T060000
END:STANDARD
BEGIN:DAYLIGHT
TZOFFSETFROM:-0500
TZOFFSETTO:-0400
TZNAME:EDT
DTSTART:20250309T070000
END:DAYLIGHT
BEGIN:STANDARD
TZOFFSETFROM:-0400
TZOFFSETTO:-0500
TZNAME:EST
DTSTART:20251102T060000
END:STANDARD
END:VTIMEZONE
BEGIN:VEVENT
DTSTART;TZID=America/New_York:20241019T190000
DTEND;TZID=America/New_York:20241019T220000
DTSTAMP:20260422T140720
CREATED:20241010T074435Z
LAST-MODIFIED:20241010T074435Z
UID:14509-1729364400-1729375200@livenewcanaan.org
SUMMARY:N. West Gallery 1 Year Anniversary Party!
DESCRIPTION:Please join us in celebrating N. West Gallery’s 1st year around the sun with art\, music\, food and drinks!  It’s been an incredible opportunity for N. West Gallery to be a downtown presence in New Canaan\, providing fine art\, and warm vibes over the last year. In addition to the celebration\, we will also be holding a silent auction for one of the framed works in the gallery in partnership with BreastCancer.org\, and introducing the gallery’s newest series\, Steppin’ to the A.M. by Nabil West. We hope you can make it for this fun and eventful evening!
URL:https://livenewcanaan.org/event/n-west-gallery-1-year-anniversary-party/
LOCATION:70 Main Street\, 59 Main St\, New Canaan\, CT\, United States
CATEGORIES:The Arts
ATTACH;FMTTYPE=image/jpeg:https://livenewcanaan.org/wp-content/uploads/2024/10/ANNIVERSARY-FLYER-scaled-Y2ydcp.tmp_.jpg
ORGANIZER;CN="N. West Gallery":MAILTO:nabilwestphotography@gmail.com
END:VEVENT
END:VCALENDAR