BEGIN:VCALENDAR
VERSION:2.0
PRODID:-//LiveNewCanaan - ECPv6.15.18//NONSGML v1.0//EN
CALSCALE:GREGORIAN
METHOD:PUBLISH
X-WR-CALNAME:LiveNewCanaan
X-ORIGINAL-URL:https://livenewcanaan.org
X-WR-CALDESC:Events for LiveNewCanaan
REFRESH-INTERVAL;VALUE=DURATION:PT1H
X-Robots-Tag:noindex
X-PUBLISHED-TTL:PT1H
BEGIN:VTIMEZONE
TZID:America/New_York
BEGIN:DAYLIGHT
TZOFFSETFROM:-0500
TZOFFSETTO:-0400
TZNAME:EDT
DTSTART:20230312T070000
END:DAYLIGHT
BEGIN:STANDARD
TZOFFSETFROM:-0400
TZOFFSETTO:-0500
TZNAME:EST
DTSTART:20231105T060000
END:STANDARD
BEGIN:DAYLIGHT
TZOFFSETFROM:-0500
TZOFFSETTO:-0400
TZNAME:EDT
DTSTART:20240310T070000
END:DAYLIGHT
BEGIN:STANDARD
TZOFFSETFROM:-0400
TZOFFSETTO:-0500
TZNAME:EST
DTSTART:20241103T060000
END:STANDARD
BEGIN:DAYLIGHT
TZOFFSETFROM:-0500
TZOFFSETTO:-0400
TZNAME:EDT
DTSTART:20250309T070000
END:DAYLIGHT
BEGIN:STANDARD
TZOFFSETFROM:-0400
TZOFFSETTO:-0500
TZNAME:EST
DTSTART:20251102T060000
END:STANDARD
END:VTIMEZONE
BEGIN:VEVENT
DTSTART;TZID=America/New_York:20240106T200000
DTEND;TZID=America/New_York:20240203T230000
DTSTAMP:20260423T024936
CREATED:20240125T112414Z
LAST-MODIFIED:20240125T112414Z
UID:13258-1704571200-1707001200@livenewcanaan.org
SUMMARY:Gates Battle of the Bands
DESCRIPTION:Gates Restaurant is celebrating 5-years of championing local music and raising funds for Meals on Wheels\, New Canaan – in 2023 they presented a check for $4.3k. This highly charged production consists of 4-weekly heats and an electrifying final\, hosted by radio presenter Jon Kamal. Produced by Rock Paper Scissors Custom Events\, it is generously sponsored by Karl Chevrolet and CycleBar\, Stamford. The competition is fierce\, and it attracts talented bands and music lovers from all over Fairfield County.\nWeekly heats see two bands play a one-hour set\, at the end of both sets the audience collectively cheer for who they want to put through to the final. Emcee Jon Kamal will then get the final say based on song choice\, energy\, interaction\, talent\, and crowd screams. Following are the 2024 bands\, including 4 finalists from 2023.\n• Saturday\, Jan. 6th Pretty Nasty (8pm) v Captain Obvious (9:30pm)\n• Saturday\, Jan. 13th Retro Express (8pm) v Mind the Gap (9:30pm)\n• Saturday\, Jan 20th The Leftovers (8pm) v Herman & Co (9:30pm)\n• Saturday\, Jan 27th Dead Weight (8pm) v Rock Paper Soul (9:30pm)\nThe ticketed final on Saturday\, February 3rd\, 2024\, features 4 bands playing – special guest judges are recruited to decide their fate. For 2024 we are delighted to have secured Founder of School of Rock\, PG Academy\, record producer and screenwriter Paul Green. Joining him is his wife Kim France\, editor\, music writer and author. Back for a third year is renowned international author James Frey. Organizer Rachel Lampen says: “This event has grown from year to year in terms of popularity and talent. I have bands contacting me a year in advance to compete\, and the final is always sold out. It’s the best tonic for January and when the final two bands play the same song – the crowd go wild.”\nGates which opened in 1979\, is an iconic family sports bar and restaurant with live music every Saturday night. Tickets for the 2024 final are $22 per person and available to purchase via Eventbrite: https://www.eventbrite.com/e/gates-5th-battle-of-the-bands-final-tickets-734271615167\nGates Restaurant\, 10 Forest Street\, New Canaan\, CT 06840 / www.gatesrestaurant.com\nFor further information please contact organizer rachel@rockpaperscissors.events or call 203 970 8432.
URL:https://livenewcanaan.org/event/gates-battle-of-the-bands-2/
LOCATION:Gates Restaurant\, 2 Forest St\, New Canaan\, CT\, United States
CATEGORIES:The Arts
ATTACH;FMTTYPE=image/jpeg:https://livenewcanaan.org/wp-content/uploads/2024/01/LawnSignBOB-scaled-Nb3jXJ.tmp_.jpg
ORGANIZER;CN="Rachel Lampen":MAILTO:rachel@lampen.co.uk
END:VEVENT
BEGIN:VEVENT
DTSTART;TZID=America/New_York:20240113T200000
DTEND;TZID=America/New_York:20240210T230000
DTSTAMP:20260423T024936
CREATED:20240125T112420Z
LAST-MODIFIED:20240205T130834Z
UID:13266-1705176000-1707606000@livenewcanaan.org
SUMMARY:Gates Battle of the Bands
DESCRIPTION:Gates Restaurant is celebrating 5-years of championing local music and raising funds for Meals on Wheels\, New Canaan – in 2023 they presented a check for $4.3k. This highly charged production consists of 4-weekly heats and an electrifying final\, hosted by radio presenter Jon Kamal. Produced by Rock Paper Scissors Custom Events\, it is generously sponsored by Karl Chevrolet and CycleBar\, Stamford. The competition is fierce\, and it attracts talented bands and music lovers from all over Fairfield County.\nWeekly heats see two bands play a one-hour set\, at the end of both sets the audience collectively cheer for who they want to put through to the final. Emcee Jon Kamal will then get the final say based on song choice\, energy\, interaction\, talent\, and crowd screams. Following are the 2024 bands\, including 4 finalists from 2023.\n• Saturday\, Jan. 6th Pretty Nasty (8pm) v Captain Obvious (9:30pm)\n• Saturday\, Jan. 13th Retro Express (8pm) v Mind the Gap (9:30pm)\n• Saturday\, Jan 20th The Leftovers (8pm) v Herman & Co (9:30pm)\n• Saturday\, Jan 27th Dead Weight (8pm) v Rock Paper Soul (9:30pm)\nThe ticketed final on Saturday\, February 3rd\, 2024\, features 4 bands playing – special guest judges are recruited to decide their fate. For 2024 we are delighted to have secured Founder of School of Rock\, PG Academy\, record producer and screenwriter Paul Green. Joining him is his wife Kim France\, editor\, music writer and author. Back for a third year is renowned international author James Frey. Organizer Rachel Lampen says: “This event has grown from year to year in terms of popularity and talent. I have bands contacting me a year in advance to compete\, and the final is always sold out. It’s the best tonic for January and when the final two bands play the same song – the crowd go wild.”\nGates which opened in 1979\, is an iconic family sports bar and restaurant with live music every Saturday night. Tickets for the 2024 final are $22 per person and available to purchase via Eventbrite: https://www.eventbrite.com/e/gates-5th-battle-of-the-bands-final-tickets-734271615167\nGates Restaurant\, 10 Forest Street\, New Canaan\, CT 06840 / www.gatesrestaurant.com\nFor further information please contact organizer rachel@rockpaperscissors.events or call 203 970 8432.
URL:https://livenewcanaan.org/event/gates-battle-of-the-bands-3/
LOCATION:Gates Restaurant\, 2 Forest St\, New Canaan\, CT\, United States
CATEGORIES:The Arts
ATTACH;FMTTYPE=image/jpeg:https://livenewcanaan.org/wp-content/uploads/2024/01/LawnSignBOB-scaled-Nb3jXJ.tmp_.jpg
ORGANIZER;CN="Rachel Lampen":MAILTO:rachel@lampen.co.uk
END:VEVENT
BEGIN:VEVENT
DTSTART;TZID=America/New_York:20240120T200000
DTEND;TZID=America/New_York:20240217T230000
DTSTAMP:20260423T024936
CREATED:20240125T112427Z
LAST-MODIFIED:20240205T130838Z
UID:13281-1705780800-1708210800@livenewcanaan.org
SUMMARY:Gates Battle of the Bands
DESCRIPTION:Gates Restaurant is celebrating 5-years of championing local music and raising funds for Meals on Wheels\, New Canaan – in 2023 they presented a check for $4.3k. This highly charged production consists of 4-weekly heats and an electrifying final\, hosted by radio presenter Jon Kamal. Produced by Rock Paper Scissors Custom Events\, it is generously sponsored by Karl Chevrolet and CycleBar\, Stamford. The competition is fierce\, and it attracts talented bands and music lovers from all over Fairfield County.\nWeekly heats see two bands play a one-hour set\, at the end of both sets the audience collectively cheer for who they want to put through to the final. Emcee Jon Kamal will then get the final say based on song choice\, energy\, interaction\, talent\, and crowd screams. Following are the 2024 bands\, including 4 finalists from 2023.\n• Saturday\, Jan. 6th Pretty Nasty (8pm) v Captain Obvious (9:30pm)\n• Saturday\, Jan. 13th Retro Express (8pm) v Mind the Gap (9:30pm)\n• Saturday\, Jan 20th The Leftovers (8pm) v Herman & Co (9:30pm)\n• Saturday\, Jan 27th Dead Weight (8pm) v Rock Paper Soul (9:30pm)\nThe ticketed final on Saturday\, February 3rd\, 2024\, features 4 bands playing – special guest judges are recruited to decide their fate. For 2024 we are delighted to have secured Founder of School of Rock\, PG Academy\, record producer and screenwriter Paul Green. Joining him is his wife Kim France\, editor\, music writer and author. Back for a third year is renowned international author James Frey. Organizer Rachel Lampen says: “This event has grown from year to year in terms of popularity and talent. I have bands contacting me a year in advance to compete\, and the final is always sold out. It’s the best tonic for January and when the final two bands play the same song – the crowd go wild.”\nGates which opened in 1979\, is an iconic family sports bar and restaurant with live music every Saturday night. Tickets for the 2024 final are $22 per person and available to purchase via Eventbrite: https://www.eventbrite.com/e/gates-5th-battle-of-the-bands-final-tickets-734271615167\nGates Restaurant\, 10 Forest Street\, New Canaan\, CT 06840 / www.gatesrestaurant.com\nFor further information please contact organizer rachel@rockpaperscissors.events or call 203 970 8432.
URL:https://livenewcanaan.org/event/gates-battle-of-the-bands-4/
LOCATION:Gates Restaurant\, 2 Forest St\, New Canaan\, CT\, United States
CATEGORIES:The Arts
ATTACH;FMTTYPE=image/jpeg:https://livenewcanaan.org/wp-content/uploads/2024/01/LawnSignBOB-scaled-Nb3jXJ.tmp_.jpg
ORGANIZER;CN="Rachel Lampen":MAILTO:rachel@lampen.co.uk
END:VEVENT
BEGIN:VEVENT
DTSTART;TZID=America/New_York:20240127T200000
DTEND;TZID=America/New_York:20240224T230000
DTSTAMP:20260423T024936
CREATED:20240125T112428Z
LAST-MODIFIED:20240205T130849Z
UID:13285-1706385600-1708815600@livenewcanaan.org
SUMMARY:Gates Battle of the Bands
DESCRIPTION:Gates Restaurant is celebrating 5-years of championing local music and raising funds for Meals on Wheels\, New Canaan – in 2023 they presented a check for $4.3k. This highly charged production consists of 4-weekly heats and an electrifying final\, hosted by radio presenter Jon Kamal. Produced by Rock Paper Scissors Custom Events\, it is generously sponsored by Karl Chevrolet and CycleBar\, Stamford. The competition is fierce\, and it attracts talented bands and music lovers from all over Fairfield County.\nWeekly heats see two bands play a one-hour set\, at the end of both sets the audience collectively cheer for who they want to put through to the final. Emcee Jon Kamal will then get the final say based on song choice\, energy\, interaction\, talent\, and crowd screams. Following are the 2024 bands\, including 4 finalists from 2023.\n• Saturday\, Jan. 6th Pretty Nasty (8pm) v Captain Obvious (9:30pm)\n• Saturday\, Jan. 13th Retro Express (8pm) v Mind the Gap (9:30pm)\n• Saturday\, Jan 20th The Leftovers (8pm) v Herman & Co (9:30pm)\n• Saturday\, Jan 27th Dead Weight (8pm) v Rock Paper Soul (9:30pm)\nThe ticketed final on Saturday\, February 3rd\, 2024\, features 4 bands playing – special guest judges are recruited to decide their fate. For 2024 we are delighted to have secured Founder of School of Rock\, PG Academy\, record producer and screenwriter Paul Green. Joining him is his wife Kim France\, editor\, music writer and author. Back for a third year is renowned international author James Frey. Organizer Rachel Lampen says: “This event has grown from year to year in terms of popularity and talent. I have bands contacting me a year in advance to compete\, and the final is always sold out. It’s the best tonic for January and when the final two bands play the same song – the crowd go wild.”\nGates which opened in 1979\, is an iconic family sports bar and restaurant with live music every Saturday night. Tickets for the 2024 final are $22 per person and available to purchase via Eventbrite: https://www.eventbrite.com/e/gates-5th-battle-of-the-bands-final-tickets-734271615167\nGates Restaurant\, 10 Forest Street\, New Canaan\, CT 06840 / www.gatesrestaurant.com\nFor further information please contact organizer rachel@rockpaperscissors.events or call 203 970 8432.
URL:https://livenewcanaan.org/event/gates-battle-of-the-bands-5/
LOCATION:Gates Restaurant\, 2 Forest St\, New Canaan\, CT\, United States
CATEGORIES:The Arts
ATTACH;FMTTYPE=image/jpeg:https://livenewcanaan.org/wp-content/uploads/2024/01/LawnSignBOB-scaled-Nb3jXJ.tmp_.jpg
ORGANIZER;CN="Rachel Lampen":MAILTO:rachel@lampen.co.uk
END:VEVENT
BEGIN:VEVENT
DTSTART;TZID=America/New_York:20240203T200000
DTEND;TZID=America/New_York:20240302T230000
DTSTAMP:20260423T024936
CREATED:20240125T112950Z
LAST-MODIFIED:20240205T130845Z
UID:13332-1706990400-1709420400@livenewcanaan.org
SUMMARY:Gates Battle of the Bands
DESCRIPTION:Gates Restaurant is celebrating 5-years of championing local music and raising funds for Meals on Wheels\, New Canaan – in 2023 they presented a check for $4.3k. This highly charged production consists of 4-weekly heats and an electrifying final\, hosted by radio presenter Jon Kamal. Produced by Rock Paper Scissors Custom Events\, it is generously sponsored by Karl Chevrolet and CycleBar\, Stamford. The competition is fierce\, and it attracts talented bands and music lovers from all over Fairfield County.\nWeekly heats see two bands play a one-hour set\, at the end of both sets the audience collectively cheer for who they want to put through to the final. Emcee Jon Kamal will then get the final say based on song choice\, energy\, interaction\, talent\, and crowd screams. Following are the 2024 bands\, including 4 finalists from 2023.\n• Saturday\, Jan. 6th Pretty Nasty (8pm) v Captain Obvious (9:30pm)\n• Saturday\, Jan. 13th Retro Express (8pm) v Mind the Gap (9:30pm)\n• Saturday\, Jan 20th The Leftovers (8pm) v Herman & Co (9:30pm)\n• Saturday\, Jan 27th Dead Weight (8pm) v Rock Paper Soul (9:30pm)\nThe ticketed final on Saturday\, February 3rd\, 2024\, features 4 bands playing – special guest judges are recruited to decide their fate. For 2024 we are delighted to have secured Founder of School of Rock\, PG Academy\, record producer and screenwriter Paul Green. Joining him is his wife Kim France\, editor\, music writer and author. Back for a third year is renowned international author James Frey. Organizer Rachel Lampen says: “This event has grown from year to year in terms of popularity and talent. I have bands contacting me a year in advance to compete\, and the final is always sold out. It’s the best tonic for January and when the final two bands play the same song – the crowd go wild.”\nGates which opened in 1979\, is an iconic family sports bar and restaurant with live music every Saturday night. Tickets for the 2024 final are $22 per person and available to purchase via Eventbrite: https://www.eventbrite.com/e/gates-5th-battle-of-the-bands-final-tickets-734271615167\nGates Restaurant\, 10 Forest Street\, New Canaan\, CT 06840 / www.gatesrestaurant.com\nFor further information please contact organizer rachel@rockpaperscissors.events or call 203 970 8432.
URL:https://livenewcanaan.org/event/gates-battle-of-the-bands-6/
LOCATION:Gates Restaurant\, 2 Forest St\, New Canaan\, CT\, United States
CATEGORIES:The Arts
ATTACH;FMTTYPE=image/jpeg:https://livenewcanaan.org/wp-content/uploads/2024/01/LawnSignBOB-scaled-Nb3jXJ.tmp_.jpg
ORGANIZER;CN="Rachel Lampen":MAILTO:rachel@lampen.co.uk
END:VEVENT
END:VCALENDAR