BEGIN:VCALENDAR
VERSION:2.0
PRODID:-//LiveNewCanaan - ECPv6.15.18//NONSGML v1.0//EN
CALSCALE:GREGORIAN
METHOD:PUBLISH
X-WR-CALNAME:LiveNewCanaan
X-ORIGINAL-URL:https://livenewcanaan.org
X-WR-CALDESC:Events for LiveNewCanaan
REFRESH-INTERVAL;VALUE=DURATION:PT1H
X-Robots-Tag:noindex
X-PUBLISHED-TTL:PT1H
BEGIN:VTIMEZONE
TZID:America/New_York
BEGIN:DAYLIGHT
TZOFFSETFROM:-0500
TZOFFSETTO:-0400
TZNAME:EDT
DTSTART:20200308T070000
END:DAYLIGHT
BEGIN:STANDARD
TZOFFSETFROM:-0400
TZOFFSETTO:-0500
TZNAME:EST
DTSTART:20201101T060000
END:STANDARD
BEGIN:DAYLIGHT
TZOFFSETFROM:-0500
TZOFFSETTO:-0400
TZNAME:EDT
DTSTART:20210314T070000
END:DAYLIGHT
BEGIN:STANDARD
TZOFFSETFROM:-0400
TZOFFSETTO:-0500
TZNAME:EST
DTSTART:20211107T060000
END:STANDARD
BEGIN:DAYLIGHT
TZOFFSETFROM:-0500
TZOFFSETTO:-0400
TZNAME:EDT
DTSTART:20220313T070000
END:DAYLIGHT
BEGIN:STANDARD
TZOFFSETFROM:-0400
TZOFFSETTO:-0500
TZNAME:EST
DTSTART:20221106T060000
END:STANDARD
END:VTIMEZONE
BEGIN:VEVENT
DTSTART;TZID=America/New_York:20211002T103000
DTEND;TZID=America/New_York:20211002T173000
DTSTAMP:20260424T235520
CREATED:20210916T103202Z
LAST-MODIFIED:20210927T214550Z
UID:8835-1633170600-1633195800@livenewcanaan.org
SUMMARY:Patrik Grijalvo and Tom Waldron: Compelling Structure
DESCRIPTION:Heather Gaudio Fine Art is pleased to announce Patrik Grijalvo and Tom Waldron: Compelling Structure. This is the artists’ first exhibition at the gallery which will open on October 2nd and run through November 13th. \nWhile both artists work in different mediums\, they share an affinity in the timeless exploration of the object as aesthetic form and the spatial relationships therein. Patrik Grijalvo is a Spanish photographer who travels the world capturing buildings designed by celebrated architects with his Hasselblad analogue camera. Back in his studio\, Grijalvo prints his digitized photographs on Hahnemühle rag paper with pigmented inks and cuts the images\, singling out and selecting certain architectural elements. Rather than depicting buildings as literal subjects\, the images are recontextualized to become abstractions of shapes and forms\, or into what Grijalvo terms as the “photo object.” Walls\, windows\, passageways\, arcs and the like created by the starchitects are re-collaged into abridged abstracted compositions and arranged in varying degrees of depth\, themselves becoming objects in different planes. The resulting works are adroit visual reinterpretations of architectonic characteristics of shape\, mass\, volume\, depth\, positive and negative spaces. Grijalvo earned his fine arts degree in Spain and has since participated in several artist in residency programs throughout Europe and Asia. While he has exhibited widely in Europe\, this is his first gallery exhibition in the United States. His work is in several private and institutional collections including the Mango and Barset Collections in Barcelona; the Het Wilde Weten in Rotterdam and the Athens School of Fine Arts in Greece. \nTom Waldron’s brief background in architecture and urban planning is evident in his sensitivity to the way form\, mass and volume can reshape the physical space. Made of steel\, wood\, hydro-stone or concrete\, his sculptures are unadorned\, reduced geometric objects. Compelling curvilinear suggestions of biomorphic shapes\, ship boughs\, plinths or modernist totems create a dynamic dialogue with the viewer and the spaces they inhabit. Even the larger\, more volumetric works possess a gentle presence\, their soft edges and minimal delineations are elegant and understated in their simplicity. Waldron’s stint with architecture was brief when he discovered welding and decided to fully dedicate himself to sculpture making. His primary materials are 1/4 or 3/16-inch steel plates which are rolled on a machine used to make water or fuel tanks. He cuts and welds the pieces together\, sanding the seams with an angle grinder to achieve the desired finish. For Waldron\, the arched lines and edges are the defining essence of his work. Any minute shift can alter a sculpture in its entirety\, and he often sketches or creates cardboard maquettes to explore the way the three-dimensional designs behave in space. Waldron has works in the collections of the Albright Knox Art Gallery in Buffalo\, NY; the Albuquerque Museum\, and the Museum of Fine Arts in Santa Fe\, New Mexico\, among others. \nHeather Gaudio Fine Art specializes in emerging and established artists\, offering painting\, works on paper\, photography and sculpture. The gallery provides a full range of art advisory services\, from forming and maintaining a collection\, to securing secondary market material\, to assisting with framing and installation. The focus is on each individual client\, selecting art that best serves his or her vision\, space\, and resources. The six exhibitions offered every year are designed to present important talent and provide artwork appealing to a broad range of interests. Gallery hours are Tuesday through Saturday; 10:30am to 5:30pm; and by appointment.\nFor more information and/or high-res images\, please contact Rachael Palacios\, rachael@heathergaudiofineart.com.
URL:https://livenewcanaan.org/event/patrik-grijalvo-and-tom-waldron-compelling-structure-2/
LOCATION:Heather Gaudio Fine Art
CATEGORIES:The Arts
ATTACH;FMTTYPE=image/jpeg:https://livenewcanaan.org/wp-content/uploads/2021/09/screen-shot-2021-09-04-at-2.25.13-pm-1-cKlwyS.tmp_.jpg
END:VEVENT
BEGIN:VEVENT
DTSTART;TZID=America/New_York:20211002T103000
DTEND;TZID=America/New_York:20211003T173000
DTSTAMP:20260424T235520
CREATED:20210916T103203Z
LAST-MODIFIED:20210927T214550Z
UID:8837-1633170600-1633282200@livenewcanaan.org
SUMMARY:Seçkin Pirim: Form. Color. Pattern
DESCRIPTION:Heather Gaudio Fine Art PROJECTS is delighted to present “Seçkin Pirim: Form. Color. Pattern\,” the third exhibition at the gallery’s alternative space. The show is presented in collaboration with C24 Gallery in New York City and will run from October 2nd through November 13th. \nLiving and working in Istanbul\, Pirim creates sculptures in a wide range of media\, such as paper\, board\, or industrial materials the likes of liquid iron or plexiglass with automobile paint. He combines computer generated imagery with manual construction\, thereby blending the precision of modern technology with the art of the handcrafted. Pirim’s striking objects explore form\, color\, and pattern\, which at times blur the line between art and design. Examining the relationship between object and space and the tensions between nature and culture\, his works have a foothold in Minimalism\, Constructivism and Futurism. The sculptures stop short of being fully categorized\, however\, for Pirim’s works have a unique aesthetic. They are visual illusions of the familiar or even the unseen: sound waves\, sonic booms\, patterns seen in nature\, all repetitive forms that create a whole structure. Pirim has exhibited widely around the world\, and has been the recipient of numerous awards. His sculptures are in many prominent private collections in Europe and the United States.\nHeather Gaudio Fine Art PROJECTS\, is a new venue designed to display artworks outside the scope of the gallery’s program. Through collaborations with artists\, private dealers\, and galleries in New York City and beyond\, PROJECTS exhibits blue-chip\, contemporary masters and site-specific installations. The aim is to diversify the art landscape and conversation\, presenting collectors and the community with alternative engaging experiences and acquisition opportunities.\nFor more information and/or high-res images\, please contact Rachael Palacios\, rachael@heathergaudiofineart.com.
URL:https://livenewcanaan.org/event/seckin-pirim-form-color-pattern/
LOCATION:Heather Gaudio Fine Art
CATEGORIES:The Arts
ATTACH;FMTTYPE=image/jpeg:https://livenewcanaan.org/wp-content/uploads/2021/09/screen-shot-2021-09-09-at-12.58.11-pm-bnCLh1.tmp_.jpg
END:VEVENT
BEGIN:VEVENT
DTSTART;TZID=America/New_York:20211021T173000
DTEND;TZID=America/New_York:20211021T193000
DTSTAMP:20260424T235520
CREATED:20210927T214559Z
LAST-MODIFIED:20210927T214559Z
UID:8962-1634837400-1634844600@livenewcanaan.org
SUMMARY:Gallery Stroll
DESCRIPTION:Walk through the galleries of Heather Gaudio\, Cas Friese\, Jean Jacobs\, and the Tonk Gallery.
URL:https://livenewcanaan.org/event/gallery-stroll/
LOCATION:New  Canaan Museum & Historical Society\, 13 Oenoke Ridge\, New Canaan\, CT\, United States
CATEGORIES:Historical Society Event,October 4 Design,The Arts
ATTACH;FMTTYPE=image/jpeg:https://livenewcanaan.org/wp-content/uploads/2021/09/square_272x272-10-72DzKS.tmp_.jpg
ORGANIZER;CN="New Canaan Museum &amp%3B Historical Society":MAILTO:info@nchisotry.org.
END:VEVENT
BEGIN:VEVENT
DTSTART;TZID=America/New_York:20211022T200000
DTEND;TZID=America/New_York:20211022T220000
DTSTAMP:20260424T235520
CREATED:20211022T154446Z
LAST-MODIFIED:20211022T154518Z
UID:9197-1634932800-1634940000@livenewcanaan.org
SUMMARY:Town Player’s “Turn of the Screw”
DESCRIPTION:Revered as one of the greatest ghost stories ever told! Henry James’s novella\, “The Turn of the Screw”\, is an eerie Victorian masterpiece. The 2nd show of Town Players’ 75th Season! \nGenuine chills are provided in this tale of a governess\, left in charge of a boy and a girl at a lonely estate. She begins to suspect that the ghosts of two former servants have hideous designs upon the children. But the governess is the only one who can see the ghosts—and to complicate matters further\, the children may know more than they’re telling. If the governess is right\, the children are in terrible peril\, but if she’s wrong\, she herself might be driving them mad. With every twist in the plot (or turn of the screw) the tension increases until something—or someone—must snap. \nSee www.tpnc.org for tickets and more information. 2 hour performance with one 15 minute intermission \nNOTE: For the health and safety of all\, proof of COVID-19 vaccination is required (card or photo of the card). Masks must be worn inside the Powerhouse Theatre during the entire performance. \nDirector: Deborah Burke. Stage Manager: Katie Carriero\nStarring Lizzy Booth\, Laurel Lettieri\, Allison Pham\, Dash Prescott\, Ben Frazer\, Jennifer Prescott
URL:https://livenewcanaan.org/event/town-players-turn-of-the-screw/
LOCATION:Powerhouse Theater\, Waveny Park\, 679 South Avenue\, New Canaan\, CT\, 06840\, United States
CATEGORIES:The Arts,Town Players of New Canaan
ATTACH;FMTTYPE=image/jpeg:https://livenewcanaan.org/wp-content/uploads/2021/10/tots-show-poster-11x17.png-scaled-apmTgM.tmp_.jpg
ORGANIZER;CN="Town Players of New Canaan":MAILTO:info@tpnc.org
END:VEVENT
BEGIN:VEVENT
DTSTART;TZID=America/New_York:20211024T140000
DTEND;TZID=America/New_York:20211024T160000
DTSTAMP:20260424T235520
CREATED:20211022T154451Z
LAST-MODIFIED:20211022T154518Z
UID:9207-1635084000-1635091200@livenewcanaan.org
SUMMARY:Town Player’s “Turn of the Screw”
DESCRIPTION:Revered as one of the greatest ghost stories ever told! Henry James’s novella\, “The Turn of the Screw”\, is an eerie Victorian masterpiece. The 2nd show of Town Players’ 75th Season! \nGenuine chills are provided in this tale of a governess\, left in charge of a boy and a girl at a lonely estate. She begins to suspect that the ghosts of two former servants have hideous designs upon the children. But the governess is the only one who can see the ghosts—and to complicate matters further\, the children may know more than they’re telling. If the governess is right\, the children are in terrible peril\, but if she’s wrong\, she herself might be driving them mad. With every twist in the plot (or turn of the screw) the tension increases until something—or someone—must snap. \nSee www.tpnc.org for tickets and more information. 2 hour performance with one 15 minute intermission \nNOTE: For the health and safety of all\, proof of COVID-19 vaccination is required (card or photo of the card). Masks must be worn inside the Powerhouse Theatre during the entire performance. \nDirector: Deborah Burke. Stage Manager: Katie Carriero\nStarring Lizzy Booth\, Laurel Lettieri\, Allison Pham\, Dash Prescott\, Ben Frazer\, Jennifer Prescott
URL:https://livenewcanaan.org/event/town-players-turn-of-the-screw-2/
LOCATION:Powerhouse Theater\, Waveny Park\, 679 South Avenue\, New Canaan\, CT\, 06840\, United States
CATEGORIES:The Arts,Town Players of New Canaan
ATTACH;FMTTYPE=image/jpeg:https://livenewcanaan.org/wp-content/uploads/2021/10/tots-show-poster-11x17.png-scaled-apmTgM.tmp_.jpg
ORGANIZER;CN="Town Players of New Canaan":MAILTO:info@tpnc.org
END:VEVENT
BEGIN:VEVENT
DTSTART;TZID=America/New_York:20211029T160000
DTEND;TZID=America/New_York:20211029T180000
DTSTAMP:20260424T235520
CREATED:20210916T103205Z
LAST-MODIFIED:20211028T014821Z
UID:8849-1635523200-1635530400@livenewcanaan.org
SUMMARY:Fall Concert from New Canaan Chamber Music
DESCRIPTION:Mark your calendar for a spectacular chamber music concert with New Canaan’s own Andrew Armstrong\, pianist\, and renowned violinist James Ehnes\, “a violinist in a class of his own” per The Times. There will be two performances\, at 4pm and 7pm on Friday\, October 29th at the First Presbyterian Church\, as we expect many of their followers to attend.
URL:https://livenewcanaan.org/event/fall-concert-from-new-canaan-chamber-music/
LOCATION:First Presbyterian Church of New Canaan\, 178 Oenoke Ridge\, New Canaan\, CT\, United States
CATEGORIES:The Arts
ATTACH;FMTTYPE=image/jpeg:https://livenewcanaan.org/wp-content/uploads/2021/09/71ojenckzbl._ss500_crop-oc01JS.tmp_.jpg
ORGANIZER;CN="New Canaan Chamber Music":MAILTO:info@newcanaanchambermusic.org
END:VEVENT
BEGIN:VEVENT
DTSTART;TZID=America/New_York:20211029T200000
DTEND;TZID=America/New_York:20211029T220000
DTSTAMP:20260424T235520
CREATED:20211022T154458Z
LAST-MODIFIED:20211028T014822Z
UID:9225-1635537600-1635544800@livenewcanaan.org
SUMMARY:Town Player’s “Turn of the Screw”
DESCRIPTION:Revered as one of the greatest ghost stories ever told! Henry James’s novella\, “The Turn of the Screw”\, is an eerie Victorian masterpiece. The 2nd show of Town Players’ 75th Season! \nGenuine chills are provided in this tale of a governess\, left in charge of a boy and a girl at a lonely estate. She begins to suspect that the ghosts of two former servants have hideous designs upon the children. But the governess is the only one who can see the ghosts—and to complicate matters further\, the children may know more than they’re telling. If the governess is right\, the children are in terrible peril\, but if she’s wrong\, she herself might be driving them mad. With every twist in the plot (or turn of the screw) the tension increases until something—or someone—must snap. \nSee www.tpnc.org for tickets and more information. 2 hour performance with one 15 minute intermission \nNOTE: For the health and safety of all\, proof of COVID-19 vaccination is required (card or photo of the card). Masks must be worn inside the Powerhouse Theatre during the entire performance. \nDirector: Deborah Burke. Stage Manager: Katie Carriero\nStarring Lizzy Booth\, Laurel Lettieri\, Allison Pham\, Dash Prescott\, Ben Frazer\, Jennifer Prescott
URL:https://livenewcanaan.org/event/town-players-turn-of-the-screw-3/
LOCATION:Powerhouse Theater\, Waveny Park\, 679 South Avenue\, New Canaan\, CT\, 06840\, United States
CATEGORIES:The Arts,Town Players of New Canaan
ATTACH;FMTTYPE=image/jpeg:https://livenewcanaan.org/wp-content/uploads/2021/10/tots-show-poster-11x17.png-scaled-apmTgM.tmp_.jpg
ORGANIZER;CN="Town Players of New Canaan":MAILTO:info@tpnc.org
END:VEVENT
BEGIN:VEVENT
DTSTART;TZID=America/New_York:20211030T200000
DTEND;TZID=America/New_York:20211030T220000
DTSTAMP:20260424T235520
CREATED:20211022T154459Z
LAST-MODIFIED:20211028T014822Z
UID:9230-1635624000-1635631200@livenewcanaan.org
SUMMARY:Town Player’s “Turn of the Screw”
DESCRIPTION:Revered as one of the greatest ghost stories ever told! Henry James’s novella\, “The Turn of the Screw”\, is an eerie Victorian masterpiece. The 2nd show of Town Players’ 75th Season! \nGenuine chills are provided in this tale of a governess\, left in charge of a boy and a girl at a lonely estate. She begins to suspect that the ghosts of two former servants have hideous designs upon the children. But the governess is the only one who can see the ghosts—and to complicate matters further\, the children may know more than they’re telling. If the governess is right\, the children are in terrible peril\, but if she’s wrong\, she herself might be driving them mad. With every twist in the plot (or turn of the screw) the tension increases until something—or someone—must snap. \nSee www.tpnc.org for tickets and more information. 2 hour performance with one 15 minute intermission \nNOTE: For the health and safety of all\, proof of COVID-19 vaccination is required (card or photo of the card). Masks must be worn inside the Powerhouse Theatre during the entire performance. \nDirector: Deborah Burke. Stage Manager: Katie Carriero\nStarring Lizzy Booth\, Laurel Lettieri\, Allison Pham\, Dash Prescott\, Ben Frazer\, Jennifer Prescott
URL:https://livenewcanaan.org/event/town-players-turn-of-the-screw-4/
LOCATION:Powerhouse Theater\, Waveny Park\, 679 South Avenue\, New Canaan\, CT\, 06840\, United States
CATEGORIES:The Arts,Town Players of New Canaan
ATTACH;FMTTYPE=image/jpeg:https://livenewcanaan.org/wp-content/uploads/2021/10/tots-show-poster-11x17.png-scaled-apmTgM.tmp_.jpg
ORGANIZER;CN="Town Players of New Canaan":MAILTO:info@tpnc.org
END:VEVENT
BEGIN:VEVENT
DTSTART;TZID=America/New_York:20211031T140000
DTEND;TZID=America/New_York:20211031T160000
DTSTAMP:20260424T235520
CREATED:20211022T154459Z
LAST-MODIFIED:20211028T014822Z
UID:9231-1635688800-1635696000@livenewcanaan.org
SUMMARY:Town Player’s “Turn of the Screw”
DESCRIPTION:Revered as one of the greatest ghost stories ever told! Henry James’s novella\, “The Turn of the Screw”\, is an eerie Victorian masterpiece. The 2nd show of Town Players’ 75th Season! \nGenuine chills are provided in this tale of a governess\, left in charge of a boy and a girl at a lonely estate. She begins to suspect that the ghosts of two former servants have hideous designs upon the children. But the governess is the only one who can see the ghosts—and to complicate matters further\, the children may know more than they’re telling. If the governess is right\, the children are in terrible peril\, but if she’s wrong\, she herself might be driving them mad. With every twist in the plot (or turn of the screw) the tension increases until something—or someone—must snap. \nSee www.tpnc.org for tickets and more information. 2 hour performance with one 15 minute intermission \nNOTE: For the health and safety of all\, proof of COVID-19 vaccination is required (card or photo of the card). Masks must be worn inside the Powerhouse Theatre during the entire performance. \nDirector: Deborah Burke. Stage Manager: Katie Carriero\nStarring Lizzy Booth\, Laurel Lettieri\, Allison Pham\, Dash Prescott\, Ben Frazer\, Jennifer Prescott
URL:https://livenewcanaan.org/event/town-players-turn-of-the-screw-5/
LOCATION:Powerhouse Theater\, Waveny Park\, 679 South Avenue\, New Canaan\, CT\, 06840\, United States
CATEGORIES:The Arts,Town Players of New Canaan
ATTACH;FMTTYPE=image/jpeg:https://livenewcanaan.org/wp-content/uploads/2021/10/tots-show-poster-11x17.png-scaled-apmTgM.tmp_.jpg
ORGANIZER;CN="Town Players of New Canaan":MAILTO:info@tpnc.org
END:VEVENT
END:VCALENDAR