BEGIN:VCALENDAR
VERSION:2.0
PRODID:-//LiveNewCanaan - ECPv6.15.18//NONSGML v1.0//EN
CALSCALE:GREGORIAN
METHOD:PUBLISH
X-WR-CALNAME:LiveNewCanaan
X-ORIGINAL-URL:https://livenewcanaan.org
X-WR-CALDESC:Events for LiveNewCanaan
REFRESH-INTERVAL;VALUE=DURATION:PT1H
X-Robots-Tag:noindex
X-PUBLISHED-TTL:PT1H
BEGIN:VTIMEZONE
TZID:America/New_York
BEGIN:DAYLIGHT
TZOFFSETFROM:-0500
TZOFFSETTO:-0400
TZNAME:EDT
DTSTART:20190310T070000
END:DAYLIGHT
BEGIN:STANDARD
TZOFFSETFROM:-0400
TZOFFSETTO:-0500
TZNAME:EST
DTSTART:20191103T060000
END:STANDARD
BEGIN:DAYLIGHT
TZOFFSETFROM:-0500
TZOFFSETTO:-0400
TZNAME:EDT
DTSTART:20200308T070000
END:DAYLIGHT
BEGIN:STANDARD
TZOFFSETFROM:-0400
TZOFFSETTO:-0500
TZNAME:EST
DTSTART:20201101T060000
END:STANDARD
BEGIN:DAYLIGHT
TZOFFSETFROM:-0500
TZOFFSETTO:-0400
TZNAME:EDT
DTSTART:20210314T070000
END:DAYLIGHT
BEGIN:STANDARD
TZOFFSETFROM:-0400
TZOFFSETTO:-0500
TZNAME:EST
DTSTART:20211107T060000
END:STANDARD
END:VTIMEZONE
BEGIN:VEVENT
DTSTART;TZID=America/New_York:20200912T130000
DTEND;TZID=America/New_York:20200912T160000
DTSTAMP:20260425T230943
CREATED:20200909T112145Z
LAST-MODIFIED:20200912T113649Z
UID:6729-1599915600-1599926400@livenewcanaan.org
SUMMARY:2020 Member Show Opening Weekend
DESCRIPTION:Celebrate the opening of the Carriage Barn Arts Center annual member show with refreshments and music outside in the courtyard. Sign up online for a 1/2 hour time slot to see the exhibit. The member show features 150 works that celebrate the range\, interests\, and talents of artist members working across all subjects\, styles\, and media. The theme is open\, and members were invited to submit work that reflects on\, relates to or was created in the year 2020. \nregular gallery hours are Wed-Sat from 10am-3pm & Sun from 1-5pm\, through October 11
URL:https://livenewcanaan.org/event/2020-member-show-opening-weekend/
LOCATION:Carriage Barn Arts Center
CATEGORIES:The Arts
ATTACH;FMTTYPE=image/jpeg:https://livenewcanaan.org/wp-content/uploads/2020/09/2020-member-show-banner-blue-7CH7rp.tmp_.jpg
ORGANIZER;CN="Carriage Barn Arts Center":MAILTO:admin@carriagebarn.org
END:VEVENT
BEGIN:VEVENT
DTSTART;TZID=America/New_York:20200913T130000
DTEND;TZID=America/New_York:20200913T160000
DTSTAMP:20260425T230943
CREATED:20200909T112146Z
LAST-MODIFIED:20200913T113657Z
UID:6731-1600002000-1600012800@livenewcanaan.org
SUMMARY:2020 Member Show Opening Weekend
DESCRIPTION:Celebrate the opening of the Carriage Barn Arts Center annual member show with refreshments and music outside in the courtyard. Sign up online for a 1/2 hour time slot to see the exhibit. The member show features 150 works that celebrate the range\, interests\, and talents of artist members working across all subjects\, styles\, and media. The theme is open\, and members were invited to submit work that reflects on\, relates to or was created in the year 2020. \nregular gallery hours are Wed-Sat from 10am-3pm & Sun from 1-5pm\, through October 11
URL:https://livenewcanaan.org/event/2020-member-show-opening-weekend-2/
LOCATION:Carriage Barn Arts Center
CATEGORIES:The Arts
ATTACH;FMTTYPE=image/jpeg:https://livenewcanaan.org/wp-content/uploads/2020/09/2020-member-show-banner-blue-7CH7rp.tmp_.jpg
ORGANIZER;CN="Carriage Barn Arts Center":MAILTO:admin@carriagebarn.org
END:VEVENT
BEGIN:VEVENT
DTSTART;TZID=America/New_York:20200916T133000
DTEND;TZID=America/New_York:20200916T150000
DTSTAMP:20260425T230943
CREATED:20200909T112147Z
LAST-MODIFIED:20200916T113644Z
UID:6734-1600263000-1600268400@livenewcanaan.org
SUMMARY:Art-A-La-Carte After School Class
DESCRIPTION:Calling All Creators!! Join us for an after school art adventure with instructor Tiffany McKay. Each class will involve different skills\, materials and ideas to create a one-of-a-kind project. It is always wonderful to watch a child create and be so proud of what they have accomplished. Paint\, paper mache and other messy materials will be used so please dress accordingly.
URL:https://livenewcanaan.org/event/art-a-la-carte-after-school-class/
LOCATION:Carriage Barn Arts Center
CATEGORIES:The Arts
ATTACH;FMTTYPE=image/jpeg:https://livenewcanaan.org/wp-content/uploads/2020/09/img_9152-ZGVeUr.tmp_.jpg
ORGANIZER;CN="Carriage Barn Arts Center":MAILTO:admin@carriagebarn.org
END:VEVENT
BEGIN:VEVENT
DTSTART;TZID=America/New_York:20200923T133000
DTEND;TZID=America/New_York:20200923T150000
DTSTAMP:20260425T230943
CREATED:20200910T113649Z
LAST-MODIFIED:20200923T123654Z
UID:6741-1600867800-1600873200@livenewcanaan.org
SUMMARY:Art-A-La-Carte After School Class
DESCRIPTION:Calling All Creators!! Join us for an after school art adventure with instructor Tiffany McKay. Each class will involve different skills\, materials and ideas to create a one-of-a-kind project. It is always wonderful to watch a child create and be so proud of what they have accomplished. Paint\, paper mache and other messy materials will be used so please dress accordingly.
URL:https://livenewcanaan.org/event/art-a-la-carte-after-school-class-2/
LOCATION:Carriage Barn Arts Center
CATEGORIES:The Arts
ATTACH;FMTTYPE=image/jpeg:https://livenewcanaan.org/wp-content/uploads/2020/09/img_9152-ZGVeUr.tmp_.jpg
ORGANIZER;CN="Carriage Barn Arts Center":MAILTO:admin@carriagebarn.org
END:VEVENT
BEGIN:VEVENT
DTSTART;TZID=America/New_York:20200930T133000
DTEND;TZID=America/New_York:20200930T150000
DTSTAMP:20260425T230943
CREATED:20200913T113658Z
LAST-MODIFIED:20200930T123657Z
UID:6749-1601472600-1601478000@livenewcanaan.org
SUMMARY:Art-A-La-Carte After School Class
DESCRIPTION:Calling All Creators!! Join us for an after school art adventure with instructor Tiffany McKay. Each class will involve different skills\, materials and ideas to create a one-of-a-kind project. It is always wonderful to watch a child create and be so proud of what they have accomplished. Paint\, paper mache and other messy materials will be used so please dress accordingly.
URL:https://livenewcanaan.org/event/art-a-la-carte-after-school-class-3/
LOCATION:Carriage Barn Arts Center
CATEGORIES:The Arts
ATTACH;FMTTYPE=image/jpeg:https://livenewcanaan.org/wp-content/uploads/2020/09/img_9152-ZGVeUr.tmp_.jpg
ORGANIZER;CN="Carriage Barn Arts Center":MAILTO:admin@carriagebarn.org
END:VEVENT
END:VCALENDAR