BEGIN:VCALENDAR
VERSION:2.0
PRODID:-//LiveNewCanaan - ECPv6.15.18//NONSGML v1.0//EN
CALSCALE:GREGORIAN
METHOD:PUBLISH
X-WR-CALNAME:LiveNewCanaan
X-ORIGINAL-URL:https://livenewcanaan.org
X-WR-CALDESC:Events for LiveNewCanaan
REFRESH-INTERVAL;VALUE=DURATION:PT1H
X-Robots-Tag:noindex
X-PUBLISHED-TTL:PT1H
BEGIN:VTIMEZONE
TZID:America/New_York
BEGIN:DAYLIGHT
TZOFFSETFROM:-0500
TZOFFSETTO:-0400
TZNAME:EDT
DTSTART:20190310T070000
END:DAYLIGHT
BEGIN:STANDARD
TZOFFSETFROM:-0400
TZOFFSETTO:-0500
TZNAME:EST
DTSTART:20191103T060000
END:STANDARD
BEGIN:DAYLIGHT
TZOFFSETFROM:-0500
TZOFFSETTO:-0400
TZNAME:EDT
DTSTART:20200308T070000
END:DAYLIGHT
BEGIN:STANDARD
TZOFFSETFROM:-0400
TZOFFSETTO:-0500
TZNAME:EST
DTSTART:20201101T060000
END:STANDARD
BEGIN:DAYLIGHT
TZOFFSETFROM:-0500
TZOFFSETTO:-0400
TZNAME:EDT
DTSTART:20210314T070000
END:DAYLIGHT
BEGIN:STANDARD
TZOFFSETFROM:-0400
TZOFFSETTO:-0500
TZNAME:EST
DTSTART:20211107T060000
END:STANDARD
END:VTIMEZONE
BEGIN:VEVENT
DTSTART;VALUE=DATE:20200605
DTEND;VALUE=DATE:20200705
DTSTAMP:20260426T042307
CREATED:20200519T065151Z
LAST-MODIFIED:20200605T082249Z
UID:5833-1591315200-1593907199@livenewcanaan.org
SUMMARY:Art In The Windows Exhibit & Sale
DESCRIPTION:Celebration and showcase of art in the windows of downtown New Canaan stores.\nAll works are for sale and proceeds support local artists\, the Carriage Barn Arts Center and local businesses.\nGenerously sponsored by Hutchinson Tree Care\, The Boyd Law Group\, New Canaan Board of Realtors and Reynolds + Rowella.
URL:https://livenewcanaan.org/event/art-in-the-windows-exhibit-sale/
LOCATION:Downtown New Canaan\, New Canaan\, CT\, 06840
CATEGORIES:Carriage Barn Arts Center Event,The Arts
ATTACH;FMTTYPE=image/jpeg:https://livenewcanaan.org/wp-content/uploads/2020/05/aitw-sq-logo-2020-O4UIPJ.tmp_.jpg
ORGANIZER;CN="Carriage Barn Arts Center":MAILTO:admin@carriagebarn.org
END:VEVENT
BEGIN:VEVENT
DTSTART;TZID=America/New_York:20200619T170000
DTEND;TZID=America/New_York:20200619T180000
DTSTAMP:20260426T042307
CREATED:20200527T073650Z
LAST-MODIFIED:20200619T092144Z
UID:5916-1592586000-1592589600@livenewcanaan.org
SUMMARY:Sculpture Soirée
DESCRIPTION:We may not be able to celebrate in person\, but we can still celebrate together! \nJoin the New Canaan Land Trust on June 19 for the virtual opening celebration of the New Canaan Sculpture Trail. The Sculpture Soiree promises a fun-filled cocktail hour with live entertainment\, games\, drinks\, and plenty of opportunities to support the New Canaan Land Trust. All funds raised during this event will support the Land Trust’s summer youth programs\, and ensure that NCLT’s preserves remain a haven for our community\, and wildlife that reside there. \nLearn more at: https://sculpture.newcanaanlandtrust.org/opening-celebration/
URL:https://livenewcanaan.org/event/sculpture-soiree/
LOCATION:Zoom
CATEGORIES:The Arts
ATTACH;FMTTYPE=image/jpeg:https://livenewcanaan.org/wp-content/uploads/2020/05/ncst_horizontal_med-Bcx3NM.tmp_.jpg
ORGANIZER;CN="New Canaan Land Trust":MAILTO:info@newcanaanlandtrust.org
END:VEVENT
END:VCALENDAR