BEGIN:VCALENDAR
VERSION:2.0
PRODID:-//LiveNewCanaan - ECPv6.15.18//NONSGML v1.0//EN
CALSCALE:GREGORIAN
METHOD:PUBLISH
X-WR-CALNAME:LiveNewCanaan
X-ORIGINAL-URL:https://livenewcanaan.org
X-WR-CALDESC:Events for LiveNewCanaan
REFRESH-INTERVAL;VALUE=DURATION:PT1H
X-Robots-Tag:noindex
X-PUBLISHED-TTL:PT1H
BEGIN:VTIMEZONE
TZID:America/New_York
BEGIN:DAYLIGHT
TZOFFSETFROM:-0500
TZOFFSETTO:-0400
TZNAME:EDT
DTSTART:20230312T070000
END:DAYLIGHT
BEGIN:STANDARD
TZOFFSETFROM:-0400
TZOFFSETTO:-0500
TZNAME:EST
DTSTART:20231105T060000
END:STANDARD
BEGIN:DAYLIGHT
TZOFFSETFROM:-0500
TZOFFSETTO:-0400
TZNAME:EDT
DTSTART:20240310T070000
END:DAYLIGHT
BEGIN:STANDARD
TZOFFSETFROM:-0400
TZOFFSETTO:-0500
TZNAME:EST
DTSTART:20241103T060000
END:STANDARD
BEGIN:DAYLIGHT
TZOFFSETFROM:-0500
TZOFFSETTO:-0400
TZNAME:EDT
DTSTART:20250309T070000
END:DAYLIGHT
BEGIN:STANDARD
TZOFFSETFROM:-0400
TZOFFSETTO:-0500
TZNAME:EST
DTSTART:20251102T060000
END:STANDARD
END:VTIMEZONE
BEGIN:VEVENT
DTSTART;TZID=America/New_York:20241213T173000
DTEND;TZID=America/New_York:20241213T203000
DTSTAMP:20260420T134604
CREATED:20241212T121844Z
LAST-MODIFIED:20241212T121844Z
UID:14664-1734111000-1734121800@livenewcanaan.org
SUMMARY:Silvermine Holiday Art & Craft Sale
DESCRIPTION:Annual Holiday Sale with all art and crafts for sale created by Silvermine School of Art Adult Students and Silvermine Instructors. You will find ceramics\, paintings\, sculptures\, prints\, jewelry\, drawings\, photographs\, fiber arts\, cards\, ornaments\, and more at affordable prices.\n \nFriday\, December 13  /  5:30pm – 8:30pm\nSaturday\, December 14  /  10am – 4pm\nProceeds from this event support the Silvermine Scholarship Fund\,\nproviding opportunities to under-resourced children to attend Silvermine classes.\n 
URL:https://livenewcanaan.org/event/silvermine-holiday-art-craft-sale/
LOCATION:1037 Silvermine Road\, 2 New Ln\, New Canaan\, CT\, United States
CATEGORIES:Steal & Deals
ATTACH;FMTTYPE=image/png:https://livenewcanaan.org/wp-content/uploads/2024/12/Holiday-Sale-replacement-image-1-CRulr3.tmp_.png
ORGANIZER;CN="Silvermine Arts Center":MAILTO:info@silverminearts.org
END:VEVENT
BEGIN:VEVENT
DTSTART;TZID=America/New_York:20241214T100000
DTEND;TZID=America/New_York:20241214T160000
DTSTAMP:20260420T134604
CREATED:20241212T121852Z
LAST-MODIFIED:20241212T121852Z
UID:14668-1734170400-1734192000@livenewcanaan.org
SUMMARY:Silvermine Holiday Art & Craft Sale
DESCRIPTION:Annual Holiday Sale with all art and crafts for sale created by Silvermine School of Art Adult Students and Silvermine Instructors. You will find ceramics\, paintings\, sculptures\, prints\, jewelry\, drawings\, photographs\, fiber arts\, cards\, ornaments\, and more at affordable prices.\n \nFriday\, December 13  /  5:30pm – 8:30pm\nSaturday\, December 14  /  10am – 4pm\nProceeds from this event support the Silvermine Scholarship Fund\,\nproviding opportunities to under-resourced children to attend Silvermine classes.\n 
URL:https://livenewcanaan.org/event/silvermine-holiday-art-craft-sale-2/
LOCATION:1037 Silvermine Road\, 2 New Ln\, New Canaan\, CT\, United States
CATEGORIES:Steal & Deals
ATTACH;FMTTYPE=image/png:https://livenewcanaan.org/wp-content/uploads/2024/12/Holiday-Sale-replacement-image-1-CRulr3.tmp_.png
ORGANIZER;CN="Silvermine Arts Center":MAILTO:info@silverminearts.org
END:VEVENT
END:VCALENDAR