BEGIN:VCALENDAR
VERSION:2.0
PRODID:-//LiveNewCanaan - ECPv6.15.18//NONSGML v1.0//EN
CALSCALE:GREGORIAN
METHOD:PUBLISH
X-WR-CALNAME:LiveNewCanaan
X-ORIGINAL-URL:https://livenewcanaan.org
X-WR-CALDESC:Events for LiveNewCanaan
REFRESH-INTERVAL;VALUE=DURATION:PT1H
X-Robots-Tag:noindex
X-PUBLISHED-TTL:PT1H
BEGIN:VTIMEZONE
TZID:America/New_York
BEGIN:DAYLIGHT
TZOFFSETFROM:-0500
TZOFFSETTO:-0400
TZNAME:EDT
DTSTART:20230312T070000
END:DAYLIGHT
BEGIN:STANDARD
TZOFFSETFROM:-0400
TZOFFSETTO:-0500
TZNAME:EST
DTSTART:20231105T060000
END:STANDARD
BEGIN:DAYLIGHT
TZOFFSETFROM:-0500
TZOFFSETTO:-0400
TZNAME:EDT
DTSTART:20240310T070000
END:DAYLIGHT
BEGIN:STANDARD
TZOFFSETFROM:-0400
TZOFFSETTO:-0500
TZNAME:EST
DTSTART:20241103T060000
END:STANDARD
BEGIN:DAYLIGHT
TZOFFSETFROM:-0500
TZOFFSETTO:-0400
TZNAME:EDT
DTSTART:20250309T070000
END:DAYLIGHT
BEGIN:STANDARD
TZOFFSETFROM:-0400
TZOFFSETTO:-0500
TZNAME:EST
DTSTART:20251102T060000
END:STANDARD
END:VTIMEZONE
BEGIN:VEVENT
DTSTART;VALUE=DATE:20240131
DTEND;VALUE=DATE:20240201
DTSTAMP:20260421T074752
CREATED:20240125T112428Z
LAST-MODIFIED:20240125T112428Z
UID:13290-1706659200-1706745599@livenewcanaan.org
SUMMARY:Shoe Inn Winter Sale
DESCRIPTION:COME IN AND SAVE UP TO 75% OFF BOOTS AND SHOES\nWINTER ACCESSORIES THAKE 25% OFF\nGOING AWAY WE GOT YOU COVERED WITH OUR GREAT RESORT LOOKS
URL:https://livenewcanaan.org/event/shoe-inn-winter-sale-7/
LOCATION:CT
CATEGORIES:Steal & Deals
ATTACH;FMTTYPE=image/png:https://livenewcanaan.org/wp-content/uploads/2024/01/NC-SALE-SIGN-i8s0Vy.tmp_.png
END:VEVENT
BEGIN:VEVENT
DTSTART;VALUE=DATE:20240201
DTEND;VALUE=DATE:20240202
DTSTAMP:20260421T074752
CREATED:20240125T112934Z
LAST-MODIFIED:20240125T112934Z
UID:13305-1706745600-1706831999@livenewcanaan.org
SUMMARY:Shoe Inn Winter Sale
DESCRIPTION:COME IN AND SAVE UP TO 75% OFF BOOTS AND SHOES\nWINTER ACCESSORIES THAKE 25% OFF\nGOING AWAY WE GOT YOU COVERED WITH OUR GREAT RESORT LOOKS
URL:https://livenewcanaan.org/event/shoe-inn-winter-sale-8/
LOCATION:CT
CATEGORIES:Steal & Deals
ATTACH;FMTTYPE=image/png:https://livenewcanaan.org/wp-content/uploads/2024/01/NC-SALE-SIGN-i8s0Vy.tmp_.png
END:VEVENT
BEGIN:VEVENT
DTSTART;VALUE=DATE:20240202
DTEND;VALUE=DATE:20240203
DTSTAMP:20260421T074752
CREATED:20240125T112937Z
LAST-MODIFIED:20240125T112937Z
UID:13311-1706832000-1706918399@livenewcanaan.org
SUMMARY:Shoe Inn Winter Sale
DESCRIPTION:COME IN AND SAVE UP TO 75% OFF BOOTS AND SHOES\nWINTER ACCESSORIES THAKE 25% OFF\nGOING AWAY WE GOT YOU COVERED WITH OUR GREAT RESORT LOOKS
URL:https://livenewcanaan.org/event/shoe-inn-winter-sale-9/
LOCATION:CT
CATEGORIES:Steal & Deals
ATTACH;FMTTYPE=image/png:https://livenewcanaan.org/wp-content/uploads/2024/01/NC-SALE-SIGN-i8s0Vy.tmp_.png
END:VEVENT
BEGIN:VEVENT
DTSTART;VALUE=DATE:20240203
DTEND;VALUE=DATE:20240204
DTSTAMP:20260421T074752
CREATED:20240125T112943Z
LAST-MODIFIED:20240125T112943Z
UID:13320-1706918400-1707004799@livenewcanaan.org
SUMMARY:Shoe Inn Winter Sale
DESCRIPTION:COME IN AND SAVE UP TO 75% OFF BOOTS AND SHOES\nWINTER ACCESSORIES THAKE 25% OFF\nGOING AWAY WE GOT YOU COVERED WITH OUR GREAT RESORT LOOKS
URL:https://livenewcanaan.org/event/shoe-inn-winter-sale-10/
LOCATION:CT
CATEGORIES:Steal & Deals
ATTACH;FMTTYPE=image/png:https://livenewcanaan.org/wp-content/uploads/2024/01/NC-SALE-SIGN-i8s0Vy.tmp_.png
END:VEVENT
BEGIN:VEVENT
DTSTART;VALUE=DATE:20240204
DTEND;VALUE=DATE:20240205
DTSTAMP:20260421T074752
CREATED:20240125T112945Z
LAST-MODIFIED:20240125T112945Z
UID:13323-1707004800-1707091199@livenewcanaan.org
SUMMARY:Shoe Inn Winter Sale
DESCRIPTION:COME IN AND SAVE UP TO 75% OFF BOOTS AND SHOES\nWINTER ACCESSORIES THAKE 25% OFF\nGOING AWAY WE GOT YOU COVERED WITH OUR GREAT RESORT LOOKS
URL:https://livenewcanaan.org/event/shoe-inn-winter-sale-11/
LOCATION:CT
CATEGORIES:Steal & Deals
ATTACH;FMTTYPE=image/png:https://livenewcanaan.org/wp-content/uploads/2024/01/NC-SALE-SIGN-i8s0Vy.tmp_.png
END:VEVENT
BEGIN:VEVENT
DTSTART;VALUE=DATE:20240205
DTEND;VALUE=DATE:20240206
DTSTAMP:20260421T074752
CREATED:20240125T112950Z
LAST-MODIFIED:20240205T130839Z
UID:13331-1707091200-1707177599@livenewcanaan.org
SUMMARY:Shoe Inn Winter Sale
DESCRIPTION:COME IN AND SAVE UP TO 75% OFF BOOTS AND SHOES\nWINTER ACCESSORIES THAKE 25% OFF\nGOING AWAY WE GOT YOU COVERED WITH OUR GREAT RESORT LOOKS
URL:https://livenewcanaan.org/event/shoe-inn-winter-sale-14/
LOCATION:CT
CATEGORIES:Steal & Deals
ATTACH;FMTTYPE=image/png:https://livenewcanaan.org/wp-content/uploads/2024/01/NC-SALE-SIGN-i8s0Vy.tmp_.png
END:VEVENT
BEGIN:VEVENT
DTSTART;VALUE=DATE:20240206
DTEND;VALUE=DATE:20240207
DTSTAMP:20260421T074752
CREATED:20240125T112950Z
LAST-MODIFIED:20240205T130842Z
UID:13330-1707177600-1707263999@livenewcanaan.org
SUMMARY:Shoe Inn Winter Sale
DESCRIPTION:COME IN AND SAVE UP TO 75% OFF BOOTS AND SHOES\nWINTER ACCESSORIES THAKE 25% OFF\nGOING AWAY WE GOT YOU COVERED WITH OUR GREAT RESORT LOOKS
URL:https://livenewcanaan.org/event/shoe-inn-winter-sale-13/
LOCATION:CT
CATEGORIES:Steal & Deals
ATTACH;FMTTYPE=image/png:https://livenewcanaan.org/wp-content/uploads/2024/01/NC-SALE-SIGN-i8s0Vy.tmp_.png
END:VEVENT
BEGIN:VEVENT
DTSTART;VALUE=DATE:20240207
DTEND;VALUE=DATE:20240208
DTSTAMP:20260421T074752
CREATED:20240125T112946Z
LAST-MODIFIED:20240205T130839Z
UID:13327-1707264000-1707350399@livenewcanaan.org
SUMMARY:Shoe Inn Winter Sale
DESCRIPTION:COME IN AND SAVE UP TO 75% OFF BOOTS AND SHOES\nWINTER ACCESSORIES THAKE 25% OFF\nGOING AWAY WE GOT YOU COVERED WITH OUR GREAT RESORT LOOKS
URL:https://livenewcanaan.org/event/shoe-inn-winter-sale-12/
LOCATION:CT
CATEGORIES:Steal & Deals
ATTACH;FMTTYPE=image/png:https://livenewcanaan.org/wp-content/uploads/2024/01/NC-SALE-SIGN-i8s0Vy.tmp_.png
END:VEVENT
BEGIN:VEVENT
DTSTART;VALUE=DATE:20240208
DTEND;VALUE=DATE:20240209
DTSTAMP:20260421T074752
CREATED:20240125T112952Z
LAST-MODIFIED:20240205T130849Z
UID:13335-1707350400-1707436799@livenewcanaan.org
SUMMARY:Shoe Inn Winter Sale
DESCRIPTION:COME IN AND SAVE UP TO 75% OFF BOOTS AND SHOES\nWINTER ACCESSORIES THAKE 25% OFF\nGOING AWAY WE GOT YOU COVERED WITH OUR GREAT RESORT LOOKS
URL:https://livenewcanaan.org/event/shoe-inn-winter-sale-15/
LOCATION:CT
CATEGORIES:Steal & Deals
ATTACH;FMTTYPE=image/png:https://livenewcanaan.org/wp-content/uploads/2024/01/NC-SALE-SIGN-i8s0Vy.tmp_.png
END:VEVENT
BEGIN:VEVENT
DTSTART;VALUE=DATE:20240209
DTEND;VALUE=DATE:20240210
DTSTAMP:20260421T074752
CREATED:20240125T112955Z
LAST-MODIFIED:20240205T130845Z
UID:13338-1707436800-1707523199@livenewcanaan.org
SUMMARY:Shoe Inn Winter Sale
DESCRIPTION:COME IN AND SAVE UP TO 75% OFF BOOTS AND SHOES\nWINTER ACCESSORIES THAKE 25% OFF\nGOING AWAY WE GOT YOU COVERED WITH OUR GREAT RESORT LOOKS
URL:https://livenewcanaan.org/event/shoe-inn-winter-sale-16/
LOCATION:CT
CATEGORIES:Steal & Deals
ATTACH;FMTTYPE=image/png:https://livenewcanaan.org/wp-content/uploads/2024/01/NC-SALE-SIGN-i8s0Vy.tmp_.png
END:VEVENT
BEGIN:VEVENT
DTSTART;VALUE=DATE:20240210
DTEND;VALUE=DATE:20240211
DTSTAMP:20260421T074752
CREATED:20240205T130849Z
LAST-MODIFIED:20240205T130849Z
UID:13393-1707523200-1707609599@livenewcanaan.org
SUMMARY:Shoe Inn Winter Sale
DESCRIPTION:COME IN AND SAVE UP TO 75% OFF BOOTS AND SHOES\nWINTER ACCESSORIES THAKE 25% OFF\nGOING AWAY WE GOT YOU COVERED WITH OUR GREAT RESORT LOOKS
URL:https://livenewcanaan.org/event/shoe-inn-winter-sale-17/
LOCATION:CT
CATEGORIES:Steal & Deals
ATTACH;FMTTYPE=image/png:https://livenewcanaan.org/wp-content/uploads/2024/01/NC-SALE-SIGN-i8s0Vy.tmp_.png
END:VEVENT
BEGIN:VEVENT
DTSTART;VALUE=DATE:20240211
DTEND;VALUE=DATE:20240212
DTSTAMP:20260421T074752
CREATED:20240205T130849Z
LAST-MODIFIED:20240205T130849Z
UID:13395-1707609600-1707695999@livenewcanaan.org
SUMMARY:Shoe Inn Winter Sale
DESCRIPTION:COME IN AND SAVE UP TO 75% OFF BOOTS AND SHOES\nWINTER ACCESSORIES THAKE 25% OFF\nGOING AWAY WE GOT YOU COVERED WITH OUR GREAT RESORT LOOKS
URL:https://livenewcanaan.org/event/shoe-inn-winter-sale-18/
LOCATION:CT
CATEGORIES:Steal & Deals
ATTACH;FMTTYPE=image/png:https://livenewcanaan.org/wp-content/uploads/2024/01/NC-SALE-SIGN-i8s0Vy.tmp_.png
END:VEVENT
BEGIN:VEVENT
DTSTART;VALUE=DATE:20240215
DTEND;VALUE=DATE:20240216
DTSTAMP:20260421T074752
CREATED:20240215T133716Z
LAST-MODIFIED:20240215T133850Z
UID:13407-1707955200-1708041599@livenewcanaan.org
SUMMARY:Shoe Inn Winter Sale
DESCRIPTION:COME IN AND SAVE UP TO 75% OFF BOOTS AND SHOES\nWINTER ACCESSORIES THAKE 25% OFF\nGOING AWAY WE GOT YOU COVERED WITH OUR GREAT RESORT LOOKS
URL:https://livenewcanaan.org/event/shoe-inn-winter-sale-19/
LOCATION:CT
CATEGORIES:Steal & Deals
ATTACH;FMTTYPE=image/png:https://livenewcanaan.org/wp-content/uploads/2024/01/NC-SALE-SIGN-i8s0Vy.tmp_.png
END:VEVENT
BEGIN:VEVENT
DTSTART;VALUE=DATE:20240216
DTEND;VALUE=DATE:20240217
DTSTAMP:20260421T074752
CREATED:20240215T133721Z
LAST-MODIFIED:20240215T133850Z
UID:13413-1708041600-1708127999@livenewcanaan.org
SUMMARY:Shoe Inn Winter Sale
DESCRIPTION:COME IN AND SAVE UP TO 75% OFF BOOTS AND SHOES\nWINTER ACCESSORIES THAKE 25% OFF\nGOING AWAY WE GOT YOU COVERED WITH OUR GREAT RESORT LOOKS
URL:https://livenewcanaan.org/event/shoe-inn-winter-sale-20/
LOCATION:CT
CATEGORIES:Steal & Deals
ATTACH;FMTTYPE=image/png:https://livenewcanaan.org/wp-content/uploads/2024/01/NC-SALE-SIGN-i8s0Vy.tmp_.png
END:VEVENT
BEGIN:VEVENT
DTSTART;VALUE=DATE:20240217
DTEND;VALUE=DATE:20240218
DTSTAMP:20260421T074752
CREATED:20240215T133723Z
LAST-MODIFIED:20240215T133851Z
UID:13419-1708128000-1708214399@livenewcanaan.org
SUMMARY:Shoe Inn Winter Sale
DESCRIPTION:COME IN AND SAVE UP TO 75% OFF BOOTS AND SHOES\nWINTER ACCESSORIES THAKE 25% OFF\nGOING AWAY WE GOT YOU COVERED WITH OUR GREAT RESORT LOOKS
URL:https://livenewcanaan.org/event/shoe-inn-winter-sale-21/
LOCATION:CT
CATEGORIES:Steal & Deals
ATTACH;FMTTYPE=image/png:https://livenewcanaan.org/wp-content/uploads/2024/01/NC-SALE-SIGN-i8s0Vy.tmp_.png
END:VEVENT
END:VCALENDAR