BEGIN:VCALENDAR
VERSION:2.0
PRODID:-//LiveNewCanaan - ECPv6.15.18//NONSGML v1.0//EN
CALSCALE:GREGORIAN
METHOD:PUBLISH
X-WR-CALNAME:LiveNewCanaan
X-ORIGINAL-URL:https://livenewcanaan.org
X-WR-CALDESC:Events for LiveNewCanaan
REFRESH-INTERVAL;VALUE=DURATION:PT1H
X-Robots-Tag:noindex
X-PUBLISHED-TTL:PT1H
BEGIN:VTIMEZONE
TZID:America/New_York
BEGIN:DAYLIGHT
TZOFFSETFROM:-0500
TZOFFSETTO:-0400
TZNAME:EDT
DTSTART:20230312T070000
END:DAYLIGHT
BEGIN:STANDARD
TZOFFSETFROM:-0400
TZOFFSETTO:-0500
TZNAME:EST
DTSTART:20231105T060000
END:STANDARD
BEGIN:DAYLIGHT
TZOFFSETFROM:-0500
TZOFFSETTO:-0400
TZNAME:EDT
DTSTART:20240310T070000
END:DAYLIGHT
BEGIN:STANDARD
TZOFFSETFROM:-0400
TZOFFSETTO:-0500
TZNAME:EST
DTSTART:20241103T060000
END:STANDARD
BEGIN:DAYLIGHT
TZOFFSETFROM:-0500
TZOFFSETTO:-0400
TZNAME:EDT
DTSTART:20250309T070000
END:DAYLIGHT
BEGIN:STANDARD
TZOFFSETFROM:-0400
TZOFFSETTO:-0500
TZNAME:EST
DTSTART:20251102T060000
END:STANDARD
END:VTIMEZONE
BEGIN:VEVENT
DTSTART;VALUE=DATE:20240125
DTEND;VALUE=DATE:20240126
DTSTAMP:20260421T092812
CREATED:20240125T112420Z
LAST-MODIFIED:20240125T112420Z
UID:13267-1706140800-1706227199@livenewcanaan.org
SUMMARY:Shoe Inn Winter Sale
DESCRIPTION:COME IN AND SAVE UP TO 75% OFF BOOTS AND SHOES\nWINTER ACCESSORIES THAKE 25% OFF\nGOING AWAY WE GOT YOU COVERED WITH OUR GREAT RESORT LOOKS
URL:https://livenewcanaan.org/event/shoe-inn-winter-sale-2/
LOCATION:CT
CATEGORIES:Steal & Deals
ATTACH;FMTTYPE=image/png:https://livenewcanaan.org/wp-content/uploads/2024/01/NC-SALE-SIGN-i8s0Vy.tmp_.png
END:VEVENT
BEGIN:VEVENT
DTSTART;VALUE=DATE:20240126
DTEND;VALUE=DATE:20240127
DTSTAMP:20260421T092812
CREATED:20240125T112426Z
LAST-MODIFIED:20240125T112426Z
UID:13277-1706227200-1706313599@livenewcanaan.org
SUMMARY:Shoe Inn Winter Sale
DESCRIPTION:COME IN AND SAVE UP TO 75% OFF BOOTS AND SHOES\nWINTER ACCESSORIES THAKE 25% OFF\nGOING AWAY WE GOT YOU COVERED WITH OUR GREAT RESORT LOOKS
URL:https://livenewcanaan.org/event/shoe-inn-winter-sale-3/
LOCATION:CT
CATEGORIES:Steal & Deals
ATTACH;FMTTYPE=image/png:https://livenewcanaan.org/wp-content/uploads/2024/01/NC-SALE-SIGN-i8s0Vy.tmp_.png
END:VEVENT
BEGIN:VEVENT
DTSTART;VALUE=DATE:20240127
DTEND;VALUE=DATE:20240128
DTSTAMP:20260421T092812
CREATED:20240125T112417Z
LAST-MODIFIED:20240125T112417Z
UID:13264-1706313600-1706399999@livenewcanaan.org
SUMMARY:Shoe Inn Winter Sale
DESCRIPTION:COME IN AND SAVE UP TO 75% OFF BOOTS AND SHOES\nWINTER ACCESSORIES THAKE 25% OFF\nGOING AWAY WE GOT YOU COVERED WITH OUR GREAT RESORT LOOKS
URL:https://livenewcanaan.org/event/shoe-inn-winter-sale/
LOCATION:CT
CATEGORIES:Steal & Deals
ATTACH;FMTTYPE=image/png:https://livenewcanaan.org/wp-content/uploads/2024/01/NC-SALE-SIGN-i8s0Vy.tmp_.png
END:VEVENT
BEGIN:VEVENT
DTSTART;VALUE=DATE:20240128
DTEND;VALUE=DATE:20240129
DTSTAMP:20260421T092812
CREATED:20240125T112428Z
LAST-MODIFIED:20240125T112428Z
UID:13286-1706400000-1706486399@livenewcanaan.org
SUMMARY:Shoe Inn Winter Sale
DESCRIPTION:COME IN AND SAVE UP TO 75% OFF BOOTS AND SHOES\nWINTER ACCESSORIES THAKE 25% OFF\nGOING AWAY WE GOT YOU COVERED WITH OUR GREAT RESORT LOOKS
URL:https://livenewcanaan.org/event/shoe-inn-winter-sale-4/
LOCATION:CT
CATEGORIES:Steal & Deals
ATTACH;FMTTYPE=image/png:https://livenewcanaan.org/wp-content/uploads/2024/01/NC-SALE-SIGN-i8s0Vy.tmp_.png
END:VEVENT
BEGIN:VEVENT
DTSTART;VALUE=DATE:20240129
DTEND;VALUE=DATE:20240130
DTSTAMP:20260421T092812
CREATED:20240125T112428Z
LAST-MODIFIED:20240125T112428Z
UID:13287-1706486400-1706572799@livenewcanaan.org
SUMMARY:Shoe Inn Winter Sale
DESCRIPTION:COME IN AND SAVE UP TO 75% OFF BOOTS AND SHOES\nWINTER ACCESSORIES THAKE 25% OFF\nGOING AWAY WE GOT YOU COVERED WITH OUR GREAT RESORT LOOKS
URL:https://livenewcanaan.org/event/shoe-inn-winter-sale-5/
LOCATION:CT
CATEGORIES:Steal & Deals
ATTACH;FMTTYPE=image/png:https://livenewcanaan.org/wp-content/uploads/2024/01/NC-SALE-SIGN-i8s0Vy.tmp_.png
END:VEVENT
BEGIN:VEVENT
DTSTART;VALUE=DATE:20240130
DTEND;VALUE=DATE:20240131
DTSTAMP:20260421T092812
CREATED:20240125T112428Z
LAST-MODIFIED:20240125T112428Z
UID:13288-1706572800-1706659199@livenewcanaan.org
SUMMARY:Shoe Inn Winter Sale
DESCRIPTION:COME IN AND SAVE UP TO 75% OFF BOOTS AND SHOES\nWINTER ACCESSORIES THAKE 25% OFF\nGOING AWAY WE GOT YOU COVERED WITH OUR GREAT RESORT LOOKS
URL:https://livenewcanaan.org/event/shoe-inn-winter-sale-6/
LOCATION:CT
CATEGORIES:Steal & Deals
ATTACH;FMTTYPE=image/png:https://livenewcanaan.org/wp-content/uploads/2024/01/NC-SALE-SIGN-i8s0Vy.tmp_.png
END:VEVENT
BEGIN:VEVENT
DTSTART;VALUE=DATE:20240131
DTEND;VALUE=DATE:20240201
DTSTAMP:20260421T092812
CREATED:20240125T112428Z
LAST-MODIFIED:20240125T112428Z
UID:13290-1706659200-1706745599@livenewcanaan.org
SUMMARY:Shoe Inn Winter Sale
DESCRIPTION:COME IN AND SAVE UP TO 75% OFF BOOTS AND SHOES\nWINTER ACCESSORIES THAKE 25% OFF\nGOING AWAY WE GOT YOU COVERED WITH OUR GREAT RESORT LOOKS
URL:https://livenewcanaan.org/event/shoe-inn-winter-sale-7/
LOCATION:CT
CATEGORIES:Steal & Deals
ATTACH;FMTTYPE=image/png:https://livenewcanaan.org/wp-content/uploads/2024/01/NC-SALE-SIGN-i8s0Vy.tmp_.png
END:VEVENT
END:VCALENDAR