BEGIN:VCALENDAR
VERSION:2.0
PRODID:-//LiveNewCanaan - ECPv6.15.18//NONSGML v1.0//EN
CALSCALE:GREGORIAN
METHOD:PUBLISH
X-WR-CALNAME:LiveNewCanaan
X-ORIGINAL-URL:https://livenewcanaan.org
X-WR-CALDESC:Events for LiveNewCanaan
REFRESH-INTERVAL;VALUE=DURATION:PT1H
X-Robots-Tag:noindex
X-PUBLISHED-TTL:PT1H
BEGIN:VTIMEZONE
TZID:America/New_York
BEGIN:DAYLIGHT
TZOFFSETFROM:-0500
TZOFFSETTO:-0400
TZNAME:EDT
DTSTART:20230312T070000
END:DAYLIGHT
BEGIN:STANDARD
TZOFFSETFROM:-0400
TZOFFSETTO:-0500
TZNAME:EST
DTSTART:20231105T060000
END:STANDARD
BEGIN:DAYLIGHT
TZOFFSETFROM:-0500
TZOFFSETTO:-0400
TZNAME:EDT
DTSTART:20240310T070000
END:DAYLIGHT
BEGIN:STANDARD
TZOFFSETFROM:-0400
TZOFFSETTO:-0500
TZNAME:EST
DTSTART:20241103T060000
END:STANDARD
BEGIN:DAYLIGHT
TZOFFSETFROM:-0500
TZOFFSETTO:-0400
TZNAME:EDT
DTSTART:20250309T070000
END:DAYLIGHT
BEGIN:STANDARD
TZOFFSETFROM:-0400
TZOFFSETTO:-0500
TZNAME:EST
DTSTART:20251102T060000
END:STANDARD
END:VTIMEZONE
BEGIN:VEVENT
DTSTART;TZID=America/New_York:20241004T180000
DTEND;TZID=America/New_York:20241004T200000
DTSTAMP:20260420T162907
CREATED:20240930T060336Z
LAST-MODIFIED:20240930T060336Z
UID:14431-1728064800-1728072000@livenewcanaan.org
SUMMARY:Wine Tasting with Carl Franco at NCM&HS
DESCRIPTION:Kick off October4design with wine tasting sponsored by Carl Franco of Francos Wine Merchants and Kobrand Fine Wine and Spirits.  Enjoy French\, Italian and American wines and champagnes\, including selections from Cakebread Cellars and Champagne Taittinger\, along with delicious hors d’oeuvres by Suzanne Jonker.  Space is limited for this very special evening. 
URL:https://livenewcanaan.org/event/wine-tasting-with-carl-franco-at-ncmhs/
LOCATION:New Canaan Museum & Historical Society\, 13 Oenoke Ridge\, NEW CANAAN\, 06840
CATEGORIES:October 4 Design
END:VEVENT
BEGIN:VEVENT
DTSTART;TZID=America/New_York:20241016T120000
DTEND;TZID=America/New_York:20241016T180000
DTSTAMP:20260420T162907
CREATED:20240930T060346Z
LAST-MODIFIED:20240930T060346Z
UID:14453-1729080000-1729101600@livenewcanaan.org
SUMMARY:Chelle Summer Vintage Textiles Trunk Show at the Gores Pavilion
DESCRIPTION:Michelle Rusk transforms vintage textiles into modern designs of bags\, dresses\, and home goods with a retro twist.  Using everything from fabrics\, recipes\, and Clue cards\, she creates whimsical products that have sold out at Palm Springs Modernism Week.  This is her first ever show in New Canaan.  \nYou can also order online before October 10 at chellesummer.com and pick up at the Gores Pavilion to avoid shipping fees. Just indicate “pick up” at check-out.\nThe trunk show will begin at noon and there will be a reception\, with wine\, from 4-6pm.\n@chelle_summer
URL:https://livenewcanaan.org/event/chelle-summer-vintage-textiles-trunk-show-at-the-gores-pavilion/
LOCATION:New Canaan Museum & Historical Society\, 13 Oenoke Ridge\, NEW CANAAN\, 06840
CATEGORIES:October 4 Design
ATTACH;FMTTYPE=image/jpeg:https://livenewcanaan.org/wp-content/uploads/2024/09/Chelle-o2r7do.tmp_.jpg
END:VEVENT
BEGIN:VEVENT
DTSTART;TZID=America/New_York:20241016T120000
DTEND;TZID=America/New_York:20241016T180000
DTSTAMP:20260420T162907
CREATED:20241010T074432Z
LAST-MODIFIED:20241010T074432Z
UID:14500-1729080000-1729101600@livenewcanaan.org
SUMMARY:Chelle Summer Vintage Textiles Trunk Show at the Gores Pavilion
DESCRIPTION:Michelle Rusk transforms vintage textiles into modern designs of bags\, dresses\, and home goods with a retro twist.  Using everything from fabrics\, recipes\, and Clue cards\, she creates whimsical products that have sold out at Palm Springs Modernism Week.  This is her first ever show in New Canaan.  \nYou can also order online before October 10 at chellesummer.com and pick up at the Gores Pavilion to avoid shipping fees. Just indicate “pick up” at check-out.\nThe trunk show will begin at noon and there will be a reception\, with wine\, from 4-6pm.\n@chelle_summer
URL:https://livenewcanaan.org/event/chelle-summer-vintage-textiles-trunk-show-at-the-gores-pavilion-2/
LOCATION:New Canaan Museum & Historical Society\, 13 Oenoke Ridge\, NEW CANAAN\, 06840
CATEGORIES:October 4 Design
ATTACH;FMTTYPE=image/jpeg:https://livenewcanaan.org/wp-content/uploads/2024/09/Chelle-o2r7do.tmp_.jpg
END:VEVENT
BEGIN:VEVENT
DTSTART;TZID=America/New_York:20241017T113000
DTEND;TZID=America/New_York:20241017T140000
DTSTAMP:20260420T162907
CREATED:20240930T060350Z
LAST-MODIFIED:20240930T060350Z
UID:14459-1729164600-1729173600@livenewcanaan.org
SUMMARY:Lunch for Design
DESCRIPTION:In this talk\, the artist will delve into the evolution of her artwork\, tracing the path that led her to develop a unique artistic practice of unweaving linens to create her modern-day tapestries. Friese will share her inspirations and challenges that shape her approach\, and discuss how she stays true to her artistic vision. As both an artist and gallery owner\, she will explore how curating others’ works has expanded her creative horizons\, allowing her to balance personal expression with the joy of fostering a diverse artistic community. Come hear about her journey as an artist and how she navigates the dual roles of creator and curator.\nCas Friese (b.1979) is an American mixed-media artist known for her work that bridges photography and textiles. A native of California\, Friese has lived in London and New York before settling in the Northeast with her family. Before fully dedicating herself to her art\, she held executive roles in the luxury goods retail sector\, an experience that subtly informed her keen eye for detail and composition. @casfriese\nA delicious luncheon\, with wine\, will be catered by Diane Browne Catering.
URL:https://livenewcanaan.org/event/lunch-for-design/
LOCATION:New Canaan Museum & Historical Society\, 13 Oenoke Ridge\, NEW CANAAN\, 06840
CATEGORIES:October 4 Design
ATTACH;FMTTYPE=image/jpeg:https://livenewcanaan.org/wp-content/uploads/2024/09/IMG_5985-scaled-Z8bJWl.tmp_.jpg
END:VEVENT
BEGIN:VEVENT
DTSTART;TZID=America/New_York:20241019T130000
DTEND;TZID=America/New_York:20241019T170000
DTSTAMP:20260420T162907
CREATED:20240930T060353Z
LAST-MODIFIED:20240930T060353Z
UID:14463-1729342800-1729357200@livenewcanaan.org
SUMMARY:Sacred Spaces Architectural Tour
DESCRIPTION:Join Mark Markiewicz\, AIA\, on this journey to discover three fabulous sacred spaces in Fairfield County.  The selections are all examples of midcentury modern architecture\, and Mark will place them in their historical context.  At each stop\, knowledgeable docents will explain the design decisions\, construction details\, and preservation challenges today.  The tour concludes with a reception back at the Museum.  Space is limited to 25 people.  To register: https://lp.constantcontactpages.com/ev/reg/45sqh92
URL:https://livenewcanaan.org/event/sacred-spaces-architectural-tour/
LOCATION:New Canaan Museum & Historical Society\, 13 Oenoke Ridge\, NEW CANAAN\, 06840
CATEGORIES:October 4 Design
ATTACH;FMTTYPE=image/jpeg:https://livenewcanaan.org/wp-content/uploads/2024/09/PedroGuerrero.SalernoRowayton4-810x1024-1-IZB9JG.tmp_.jpg
END:VEVENT
BEGIN:VEVENT
DTSTART;TZID=America/New_York:20241019T130000
DTEND;TZID=America/New_York:20241019T170000
DTSTAMP:20260420T162907
CREATED:20241010T074435Z
LAST-MODIFIED:20241010T074435Z
UID:14506-1729342800-1729357200@livenewcanaan.org
SUMMARY:Sacred Spaces Architectural Tour
DESCRIPTION:Join Mark Markiewicz\, AIA\, on this journey to discover three fabulous sacred spaces in Fairfield County.  The selections are all examples of midcentury modern architecture\, and Mark will place them in their historical context.  At each stop\, knowledgeable docents will explain the design decisions\, construction details\, and preservation challenges today.  The tour concludes with a reception back at the Museum.  Space is limited to 25 people.  To register: https://lp.constantcontactpages.com/ev/reg/45sqh92
URL:https://livenewcanaan.org/event/sacred-spaces-architectural-tour-2/
LOCATION:New Canaan Museum & Historical Society\, 13 Oenoke Ridge\, NEW CANAAN\, 06840
CATEGORIES:October 4 Design
ATTACH;FMTTYPE=image/jpeg:https://livenewcanaan.org/wp-content/uploads/2024/09/PedroGuerrero.SalernoRowayton4-810x1024-1-IZB9JG.tmp_.jpg
END:VEVENT
END:VCALENDAR