BEGIN:VCALENDAR
VERSION:2.0
PRODID:-//LiveNewCanaan - ECPv6.15.18//NONSGML v1.0//EN
CALSCALE:GREGORIAN
METHOD:PUBLISH
X-ORIGINAL-URL:https://livenewcanaan.org
X-WR-CALDESC:Events for LiveNewCanaan
REFRESH-INTERVAL;VALUE=DURATION:PT1H
X-Robots-Tag:noindex
X-PUBLISHED-TTL:PT1H
BEGIN:VTIMEZONE
TZID:America/New_York
BEGIN:DAYLIGHT
TZOFFSETFROM:-0500
TZOFFSETTO:-0400
TZNAME:EDT
DTSTART:20220313T070000
END:DAYLIGHT
BEGIN:STANDARD
TZOFFSETFROM:-0400
TZOFFSETTO:-0500
TZNAME:EST
DTSTART:20221106T060000
END:STANDARD
BEGIN:DAYLIGHT
TZOFFSETFROM:-0500
TZOFFSETTO:-0400
TZNAME:EDT
DTSTART:20230312T070000
END:DAYLIGHT
BEGIN:STANDARD
TZOFFSETFROM:-0400
TZOFFSETTO:-0500
TZNAME:EST
DTSTART:20231105T060000
END:STANDARD
BEGIN:DAYLIGHT
TZOFFSETFROM:-0500
TZOFFSETTO:-0400
TZNAME:EDT
DTSTART:20240310T070000
END:DAYLIGHT
BEGIN:STANDARD
TZOFFSETFROM:-0400
TZOFFSETTO:-0500
TZNAME:EST
DTSTART:20241103T060000
END:STANDARD
END:VTIMEZONE
BEGIN:VEVENT
DTSTART;TZID=America/New_York:20231014T143000
DTEND;TZID=America/New_York:20231014T170000
DTSTAMP:20260421T132211
CREATED:20231011T111730Z
LAST-MODIFIED:20231011T111730Z
UID:12711-1697293800-1697302800@livenewcanaan.org
SUMMARY:Exhibition opening - Circle Square Triangle: The Architecture of Myron Goldfinger
DESCRIPTION:Circle\, Square\, Triangle explores the architecture of midcentury modernist Myron Goldfinger. This extensive exhibition features models and photographs of Goldfinger’s extensive body of work. A panel discussion moderated by George Smart of US Modernist begins at 2:30.\nThe event is free and open to all.\nThe exhibit will remain open until 12/31/23 during museum hours.
URL:https://livenewcanaan.org/event/exhibition-opening-circle-square-triangle-the-architecture-of-myron-goldfinger/
LOCATION:New Canaan Museum & Historical Society\, 13 Oenoke Ridge\, NEW CANAAN\, 06840
CATEGORIES:October 4 Design
ATTACH;FMTTYPE=image/jpeg:https://livenewcanaan.org/wp-content/uploads/2023/10/IMG_8278-1-l2eG20.tmp_.jpg
ORGANIZER;CN="New Canaan Museum &amp%3B Historical Society":MAILTO:info@nchisotry.org.
END:VEVENT
BEGIN:VEVENT
DTSTART;TZID=America/New_York:20231015T160000
DTEND;TZID=America/New_York:20231015T173000
DTSTAMP:20260421T132211
CREATED:20231011T111731Z
LAST-MODIFIED:20231011T111731Z
UID:12715-1697385600-1697391000@livenewcanaan.org
SUMMARY:Making it Modern: Elements in Architecture and Design
DESCRIPTION:New Canaan\, whose architecture spans from the colonial to the contemporary\, is the perfect setting for a discussion on the intersection of traditional and modern styles. Interior designer Christina Roughan and architect Thomas Kligerman share how their work links interior design and architecture across this stylistic gap and how a clever handling of the two extremes can yield a rich and rewarding interpretation of new residential design.”\nChristina Roughan founded her acclaimed international design firm Roughan Interiors in 2009 with offices in Fairfield County CT and NYC. Designing since 1994\, Roughan began her design career with iconic lifestyle brands Polo Ralph Lauren and Tommy Hilfiger\, designing retail stores and showrooms worldwide. Known for her talent of combining modern design and traditional interiors\, Christina’s knowledge of art\, mid-century modern\, and fashion serve her clients well in designing their residences\, yachts\, or equestrian properties around the globe. Her work has been published in numerous titles including Elle Decor\, House Beautiful\, House & Garden\, The Wall Street Journal\, CTC&G\, and Bedford New Canaan Magazine. Christina lives with her family in Weston CT in a 200 year old house with modern elements of design.\nBorn of a life of travel and living throughout the United States and overseas\, Thomas Kligerman has a deep interest in the rich history of domestic architecture\, interiors and landscapes as well as in the design process itself. Tom studies the design from hand-sketched concept through computer modeling\, 3D printing and full size mockups to hone the firm’s final designs. He serves on the boards of several charitable and educational institutions centering on architecture and the environment.\nMr. Kligerman’s latest book will be available for sale. The event is free.
URL:https://livenewcanaan.org/event/making-it-modern-elements-in-architecture-and-design/
LOCATION:New Canaan Museum & Historical Society\, 13 Oenoke Ridge\, NEW CANAAN\, 06840
CATEGORIES:October 4 Design
ATTACH;FMTTYPE=image/jpeg:https://livenewcanaan.org/wp-content/uploads/2023/10/Making-it-Modern-WW4MZF.tmp_.jpg
ORGANIZER;CN="New Canaan Museum &amp%3B Historical Society":MAILTO:info@nchisotry.org.
END:VEVENT
BEGIN:VEVENT
DTSTART;TZID=America/New_York:20231019T113000
DTEND;TZID=America/New_York:20231019T140000
DTSTAMP:20260421T132211
CREATED:20231011T111733Z
LAST-MODIFIED:20231011T111733Z
UID:12725-1697715000-1697724000@livenewcanaan.org
SUMMARY:Lunch4design on 1950’s fashion with Ned Lazaro
DESCRIPTION:A seated lunch with wine is catered by Diane Browne.\nThe keynote address is “Getting the Sack – Understanding a Late 1950s Garment.” It proposes to analyze the sack dress within the context of American fashion during the fall of 1957 and spring of 1958. The modern garment\, featuring an undefined waistline that abstracted the female body beneath\, was both extremely popular and extremely controversial. The uproar against the style has become legendary\, but to term the style a failure glosses over a more nuanced trajectory of 1950s styles\, and the legacy the sack dress actually established for Western women’s fashion. In hindsight the arguments against the sack centered around gendered expectations of how a woman was supposed to appear in her clothes. Through an understanding of the precedents\, timeline\, and reactions to the garment\, as well as a material culture analysis\, Lazaro’s talk contextualizes both the sack’s moment in dress history as well as its legacy and contribution to 20th-century fashion.\nDavid E. (Ned) Lazaro is the Associate Curator of Costume and Textiles at the Wadsworth Atheneum in Hartford\, Connecticut. He holds a master’s degree from the University of Massachusetts\, Amherst. Ned has researched\, lectured\, published\, and taught on various aspects of Western clothing and textiles from the 17th through 21st centuries. His research focuses on design history\, the aesthetics and sensory experiences of fashion\, and identity formation.\nTo purchase tickets\, please click on this link: www.eventbrite.com/e/lunch4design-tickets-680140718197?aff=oddtdtcreator
URL:https://livenewcanaan.org/event/lunch4design-on-1950s-fashion-with-ned-lazaro/
LOCATION:New Canaan Museum & Historical Society\, 13 Oenoke Ridge\, NEW CANAAN\, 06840
CATEGORIES:October 4 Design
ATTACH;FMTTYPE=image/jpeg:https://livenewcanaan.org/wp-content/uploads/2023/10/scaled_768-1-lWluCw.tmp_.jpg
ORGANIZER;CN="New Canaan Museum &amp%3B Historical Society":MAILTO:info@nchisotry.org.
END:VEVENT
BEGIN:VEVENT
DTSTART;TZID=America/New_York:20231026T180000
DTEND;TZID=America/New_York:20231026T190000
DTSTAMP:20260421T132211
CREATED:20231011T111750Z
LAST-MODIFIED:20231020T124846Z
UID:12747-1698343200-1698346800@livenewcanaan.org
SUMMARY:What's the Big Deal about Mid-Century Architecture
DESCRIPTION:New Canaan is filled with some of the best examples of Mid-Century Modern architecture. But\nthat was 60-70 ago and architecture has certainly moved on. Frederick Noyes will discuss why\nwe keep going back to look at this period\, why it was so important—and where we go from here. The lecture is free and open to all.\nFrederick Noyes\, FAIA\, has spent his professional life immersed in his passions of\narchitecture\, biology\, and education. He trained at Harvard: an AB in biology (1966)\, and a\nM.Arch from the Graduate School of Design (1972). He was elected to the AIA College of\nFellows (2001) and was awarded an honorary Doctorate of Education from the Boston\nArchitectural College (BAC) in 2007.\nMr. Noyes was raised in New Canaan\, Connecticut\, where he was weaned on the\ninfluences of the first generation of great modern architects Marcel Breuer\, Philip Johnson\,\nand his father\, Eliot Noyes. He has run his own architectural firm for over 40 years\ndesigning everything from houses and hospitals.
URL:https://livenewcanaan.org/event/whats-the-big-deal-about-mid-century-architecture/
LOCATION:New Canaan Museum & Historical Society\, 13 Oenoke Ridge\, NEW CANAAN\, 06840
CATEGORIES:October 4 Design
ATTACH;FMTTYPE=image/jpeg:https://livenewcanaan.org/wp-content/uploads/2023/10/Fred-Noyes-lG0dCI.tmp_.jpg
ORGANIZER;CN="New Canaan Museum &amp%3B Historical Society":MAILTO:info@nchisotry.org.
END:VEVENT
BEGIN:VEVENT
DTSTART;TZID=America/New_York:20231029T160000
DTEND;TZID=America/New_York:20231029T170000
DTSTAMP:20260421T132211
CREATED:20231020T124856Z
LAST-MODIFIED:20231020T124856Z
UID:12810-1698595200-1698598800@livenewcanaan.org
SUMMARY:Pop! Art from the 1950s to the 1960s
DESCRIPTION:The New Canaan Museum and Historical Society welcomes ArtScapades to present Pop!: Art From the 1950s to the 1960s\nPop art emerged in the UK and the US during the 1950s. Initially\, Pop Art was seen as radical and shocking\, then became accepted as an exciting\, colorful\, and vibrant art movement. ArtScapades will look at the lives and works of Andy Warhol\, Roy Lichtenstein\, and David Hockney. These artists celebrated commonplace objects and everyday people\, seeking to elevate popular culture to the level of fine art.\nRobin Hoffman and Jodi Stiffelman\, of ArtScapades\, began teaching art appreciation in 1998. They have presented at libraries\, art centers\, and museums in Connecticut\, New York\, New Jersey\, Massachusetts\, and Florida.
URL:https://livenewcanaan.org/event/pop-art-from-the-1950s-to-the-1960s/
LOCATION:New Canaan Museum & Historical Society\, 13 Oenoke Ridge\, NEW CANAAN\, 06840
CATEGORIES:October 4 Design
ATTACH;FMTTYPE=image/jpeg:https://livenewcanaan.org/wp-content/uploads/2023/10/Pop-1-ojRfLK.tmp_.jpg
ORGANIZER;CN="New Canaan Museum &amp%3B Historical Society":MAILTO:info@nchisotry.org.
END:VEVENT
END:VCALENDAR