BEGIN:VCALENDAR
VERSION:2.0
PRODID:-//LiveNewCanaan - ECPv6.15.18//NONSGML v1.0//EN
CALSCALE:GREGORIAN
METHOD:PUBLISH
X-WR-CALNAME:LiveNewCanaan
X-ORIGINAL-URL:https://livenewcanaan.org
X-WR-CALDESC:Events for LiveNewCanaan
REFRESH-INTERVAL;VALUE=DURATION:PT1H
X-Robots-Tag:noindex
X-PUBLISHED-TTL:PT1H
BEGIN:VTIMEZONE
TZID:America/New_York
BEGIN:DAYLIGHT
TZOFFSETFROM:-0500
TZOFFSETTO:-0400
TZNAME:EDT
DTSTART:20210314T070000
END:DAYLIGHT
BEGIN:STANDARD
TZOFFSETFROM:-0400
TZOFFSETTO:-0500
TZNAME:EST
DTSTART:20211107T060000
END:STANDARD
BEGIN:DAYLIGHT
TZOFFSETFROM:-0500
TZOFFSETTO:-0400
TZNAME:EDT
DTSTART:20220313T070000
END:DAYLIGHT
BEGIN:STANDARD
TZOFFSETFROM:-0400
TZOFFSETTO:-0500
TZNAME:EST
DTSTART:20221106T060000
END:STANDARD
BEGIN:DAYLIGHT
TZOFFSETFROM:-0500
TZOFFSETTO:-0400
TZNAME:EDT
DTSTART:20230312T070000
END:DAYLIGHT
BEGIN:STANDARD
TZOFFSETFROM:-0400
TZOFFSETTO:-0500
TZNAME:EST
DTSTART:20231105T060000
END:STANDARD
END:VTIMEZONE
BEGIN:VEVENT
DTSTART;TZID=America/New_York:20221015T100000
DTEND;TZID=America/New_York:20221015T140000
DTSTAMP:20260422T093817
CREATED:20220808T061008Z
LAST-MODIFIED:20220905T131903Z
UID:10662-1665828000-1665842400@livenewcanaan.org
SUMMARY:Historic Walking Tour of New Canaan
DESCRIPTION:Join us for a 2-mile walking tour of downtown New Canaan. Learn about the history of the town and some of its significant architecture\, and explore inside four of its sacred spaces. Knowledgeable guides will share stories of the people and events that helped shape New Canaan\, and point out some hidden gems in the Historic District\, God’s Acre\, and beyond. The tour is free\, takes approximately two hours\, and ends with refreshments at the New Canaan Historical Society. Parking is available at 13 Oenoke Ridge. Tour times will start at 10:00 am and at 2:00 pm.
URL:https://livenewcanaan.org/event/historic-walking-tour-of-new-canaan/
LOCATION:New  Canaan Museum & Historical Society\, 13 Oenoke Ridge\, New Canaan\, CT\, United States
CATEGORIES:October 4 Design
ATTACH;FMTTYPE=image/jpeg:https://livenewcanaan.org/wp-content/uploads/2022/08/7781c4ed-9e0a-466e-b803-0139447e8217_4_5005_c-uoij0I.tmp_.jpg
ORGANIZER;CN="New Canaan Museum &amp%3B Historical Society":MAILTO:info@nchisotry.org.
END:VEVENT
BEGIN:VEVENT
DTSTART;TZID=America/New_York:20221020T140000
DTEND;TZID=America/New_York:20221020T190000
DTSTAMP:20260422T093817
CREATED:20220808T061009Z
LAST-MODIFIED:20220905T131903Z
UID:10665-1666274400-1666292400@livenewcanaan.org
SUMMARY:Modern Architecture Tour
DESCRIPTION:The Thursday afternoon tour takes visitors on a docent-led tour to three of New Canaan’s finest architectural gems: The Glass House designed by Philip Johnson\, SANAA’s Grace Farms\, and Eliot Noyes’ home. Tour these architectural masterpieces\, learn about the architects and what inspired them\, and enjoy a drive through bucolic New Canaan. The event concludes with a wine and cheese reception at the New Canaan Museum & Historical Society. Transportation will be provided. Ample parking for cars at the Museum (13 Oenoke Ridge Road\, New Canaan).
URL:https://livenewcanaan.org/event/modern-architecture-tour/
LOCATION:New Canaan Museum & Historical Society\, 13 Oenoke Ridge\, NEW CANAAN\, 06840
CATEGORIES:Historical Society Event,October 4 Design
ATTACH;FMTTYPE=image/jpeg:https://livenewcanaan.org/wp-content/uploads/2022/08/7781c4ed-9e0a-466e-b803-0139447e8217_4_5005_c-1-2oheJa.tmp_.jpg
END:VEVENT
END:VCALENDAR