BEGIN:VCALENDAR
VERSION:2.0
PRODID:-//LiveNewCanaan - ECPv6.15.18//NONSGML v1.0//EN
CALSCALE:GREGORIAN
METHOD:PUBLISH
X-WR-CALNAME:LiveNewCanaan
X-ORIGINAL-URL:https://livenewcanaan.org
X-WR-CALDESC:Events for LiveNewCanaan
REFRESH-INTERVAL;VALUE=DURATION:PT1H
X-Robots-Tag:noindex
X-PUBLISHED-TTL:PT1H
BEGIN:VTIMEZONE
TZID:America/New_York
BEGIN:DAYLIGHT
TZOFFSETFROM:-0500
TZOFFSETTO:-0400
TZNAME:EDT
DTSTART:20230312T070000
END:DAYLIGHT
BEGIN:STANDARD
TZOFFSETFROM:-0400
TZOFFSETTO:-0500
TZNAME:EST
DTSTART:20231105T060000
END:STANDARD
BEGIN:DAYLIGHT
TZOFFSETFROM:-0500
TZOFFSETTO:-0400
TZNAME:EDT
DTSTART:20240310T070000
END:DAYLIGHT
BEGIN:STANDARD
TZOFFSETFROM:-0400
TZOFFSETTO:-0500
TZNAME:EST
DTSTART:20241103T060000
END:STANDARD
BEGIN:DAYLIGHT
TZOFFSETFROM:-0500
TZOFFSETTO:-0400
TZNAME:EDT
DTSTART:20250309T070000
END:DAYLIGHT
BEGIN:STANDARD
TZOFFSETFROM:-0400
TZOFFSETTO:-0500
TZNAME:EST
DTSTART:20251102T060000
END:STANDARD
END:VTIMEZONE
BEGIN:VEVENT
DTSTART;TZID=America/New_York:20241217T170000
DTEND;TZID=America/New_York:20241217T170000
DTSTAMP:20260423T112155
CREATED:20241212T121900Z
LAST-MODIFIED:20241212T121900Z
UID:14679-1734454800-1734454800@livenewcanaan.org
SUMMARY:The Nutcracker: Hear the Story\, See a Performance\, Learn a Dance
DESCRIPTION:The New England Academy of Dance (NEAD) brings the holiday magic of The Nutcracker ballet to New Canaan Library\, showcasing dancers from NEAD as well as esteemed professionals from New York City. Under the direction of Frances Ortiz\, Ginna Ortiz\, and Ted Thomas\, NEAD will present an educational\, family-friendly performance of The Nutcracker. The demonstration will include a reading of The Nutcracker book by the Sugar Plum Fairy\, followed by a variation performance. Other characters from The Nutcracker will join and help with the interactive portion\, where children can learn a dance from the ballet. The demonstration is ideal for children ages five through ten\, but all are welcome.\nThe New England Academy of Dance (NEAD) is a pre-professional ballet academy focused on training aspiring young artists to achieve the highest standard of classical dance education. New England Dance Theater (NEDT) is the non-profit arm of the New England Academy of Dance (NEAD) who are a group of dedicated parents and local volunteers working together to create greater access\, awareness\, and appreciation of the performing arts through dance.
URL:https://livenewcanaan.org/event/the-nutcracker-hear-the-story-see-a-performance-learn-a-dance/
LOCATION:New Canaan Library\, 151 Main St\, New Canaan\, CT\, United States
CATEGORIES:New Canaan Library Event
ATTACH;FMTTYPE=image/jpeg:https://livenewcanaan.org/wp-content/uploads/2024/12/Ballet-Dancer-Nutcracker-83C6AI.tmp_.jpg
ORGANIZER;CN="New Canaan Library":MAILTO:kblance@newcanaanlibrary.org
END:VEVENT
END:VCALENDAR