BEGIN:VCALENDAR
VERSION:2.0
PRODID:-//LiveNewCanaan - ECPv6.15.18//NONSGML v1.0//EN
CALSCALE:GREGORIAN
METHOD:PUBLISH
X-ORIGINAL-URL:https://livenewcanaan.org
X-WR-CALDESC:Events for LiveNewCanaan
REFRESH-INTERVAL;VALUE=DURATION:PT1H
X-Robots-Tag:noindex
X-PUBLISHED-TTL:PT1H
BEGIN:VTIMEZONE
TZID:America/New_York
BEGIN:DAYLIGHT
TZOFFSETFROM:-0500
TZOFFSETTO:-0400
TZNAME:EDT
DTSTART:20230312T070000
END:DAYLIGHT
BEGIN:STANDARD
TZOFFSETFROM:-0400
TZOFFSETTO:-0500
TZNAME:EST
DTSTART:20231105T060000
END:STANDARD
BEGIN:DAYLIGHT
TZOFFSETFROM:-0500
TZOFFSETTO:-0400
TZNAME:EDT
DTSTART:20240310T070000
END:DAYLIGHT
BEGIN:STANDARD
TZOFFSETFROM:-0400
TZOFFSETTO:-0500
TZNAME:EST
DTSTART:20241103T060000
END:STANDARD
BEGIN:DAYLIGHT
TZOFFSETFROM:-0500
TZOFFSETTO:-0400
TZNAME:EDT
DTSTART:20250309T070000
END:DAYLIGHT
BEGIN:STANDARD
TZOFFSETFROM:-0400
TZOFFSETTO:-0500
TZNAME:EST
DTSTART:20251102T060000
END:STANDARD
END:VTIMEZONE
BEGIN:VEVENT
DTSTART;TZID=America/New_York:20240501T173000
DTEND;TZID=America/New_York:20240501T190000
DTSTAMP:20260423T231806
CREATED:20240425T112114Z
LAST-MODIFIED:20240425T112114Z
UID:13919-1714584600-1714590000@livenewcanaan.org
SUMMARY:Exhibition Torrance York: Semaphore; A Journey through Parkinson’s\, Opens at New Canaan Library’s Lightburn Gallery
DESCRIPTION:New Canaan Library announces the opening of Torrance York: Semaphore; A Journey through Parkinson’s\, an exploration of the artist’s creative journey after a diagnosis of Parkinson’s Disease (PD) nine years ago. The exhibition opens in the Lightburn Gallery\, with a reception and gallery talk with Ms. York and the curator from 5:30 – 7:00 pm. All are welcome; please register to attend\, newcanaanlibrary.org/events.\nAfter her diagnosis\, York’s photography underwent a shift in perspective and process. Pre-diagnosis\, her work was focused predominantly on landscapes\, notably her Common Ground series depicting Irwin and Waveny Park\, and her Road Works series capturing skid marks from unusual camera angles. Over the last few years\, her subject matter and technique have undergone a transformation—her road maps becoming mind maps.\nOn the one hand\, York’s photographs have provided her with coping mechanisms and\, on the other\, a way to communicate her challenges and observations to others. The result is an illuminating and inspirational body of work that engages the viewer to perceive mundane yet wondrous objects with a new lens that may be relatable to many.\nThe exhibition is curated by Arianne Kolb and Micaela Porta and sponsored by Parkinson’s Body and Mind\, Fairfield County. A wide range of Parkinson’s-related programs\, from workshops and talks to hands-on activities and exercise\, will be offered throughout the 6-month run of the exhibition.\nTorrance York\, a lens-based artist living in Connecticut\, earned a BA from Yale and an MFA from Rhode Island School of Design. Exhibited nationally and internationally\, her work is held in public and private collections. In 2010 she received a Connecticut Artist Fellowship grant. York serves on the Board of the Educational Video Center in NYC where she formerly taught documentary video and is an Artist Guild Member of Silvermine Arts Center.
URL:https://livenewcanaan.org/event/exhibition-torrance-york-semaphore-a-journey-through-parkinsons-opens-at-new-canaan-librarys-lightburn-gallery/
LOCATION:New Canaan Library\, Lightburn Gallery\, 151 Main Street\, New Canaan\, CT\, 06840\, United States
CATEGORIES:New Canaan Library Event
ATTACH;FMTTYPE=image/jpeg:https://livenewcanaan.org/wp-content/uploads/2024/04/Torrance-York-Untitled-5365-from-Semaphore-scaled-QB5IU1.tmp_.jpg
END:VEVENT
BEGIN:VEVENT
DTSTART;TZID=America/New_York:20240503T140000
DTEND;TZID=America/New_York:20240503T160000
DTSTAMP:20260423T231806
CREATED:20240425T112119Z
LAST-MODIFIED:20240425T112119Z
UID:13929-1714744800-1714752000@livenewcanaan.org
SUMMARY:Musicals in May: Screening of Top Hat\, starring Fred Astaire & Ginger Rogers
DESCRIPTION:New Canaan Library presents the first musical movie in May: TOP HAT\, the quintessential Fred Astaire/Ginger Rogers film.\nFred Astaire stars as a tap dancer and Ginger Rogers as his beautiful neighbor. They dance\, and romance from London to Venice in this tip-top musical full of classic Irving Berlin tunes. This was Astaire and Rogers’ fourth of 10 screen pairings and was nominated for the Best Picture Oscar. Runtime 100 minutes.
URL:https://livenewcanaan.org/event/musicals-in-may-screening-of-top-hat-starring-fred-astaire-ginger-rogers/
LOCATION:New Canaan Library\, Bartlett Auditorium\, 151 Main Street\, New Canaan\, CT\, 06840\, United States
CATEGORIES:New Canaan Library Event
ATTACH;FMTTYPE=image/jpeg:https://livenewcanaan.org/wp-content/uploads/2024/04/tophat1-aDggAo.tmp_.jpg
ORGANIZER;CN="New Canaan Library":MAILTO:kblance@newcanaanlibrary.org
END:VEVENT
BEGIN:VEVENT
DTSTART;TZID=America/New_York:20240514T100000
DTEND;TZID=America/New_York:20240514T113000
DTSTAMP:20260423T231806
CREATED:20240509T131142Z
LAST-MODIFIED:20240509T131400Z
UID:14002-1715680800-1715686200@livenewcanaan.org
SUMMARY:"Autism Grows Up" Panel Discussion
DESCRIPTION:Women Empowering Women Institute and The New Canaan Library present Autism Grows Up. A panel discussion about the difficulties parents go through during their special needs child’s transition years.
URL:https://livenewcanaan.org/event/autism-grows-up-panel-discussion/
LOCATION:New Canaan Library\, 151 Main Street\, New Canaan\, CT\, 06840
CATEGORIES:Community Discussion,New Canaan Library Event
ORGANIZER;CN="Women Empowering Women":MAILTO:karen@wewinstitute.org
END:VEVENT
BEGIN:VEVENT
DTSTART;TZID=America/New_York:20240515T183000
DTEND;TZID=America/New_York:20240515T193000
DTSTAMP:20260423T231806
CREATED:20240509T131144Z
LAST-MODIFIED:20240509T131400Z
UID:14009-1715797800-1715801400@livenewcanaan.org
SUMMARY:Ian Rowe Presents the Four Point Plan to 'Discover Their Pathway to Power'
DESCRIPTION:Author Ian Rowe presents his book Agency: The Four Point Plan (F.R.E.E.) for ALL Children to Overcome the Victimhood Narrative and Discover Their Pathway to Power. This book describes four pillars that can uplift every young person as they make the passage into adulthood: Family\, Religion\, Education\, and Entrepreneurship. Together\, these pillars embody the true meaning of freedom\, wherein people are motivated to embrace the ennobling responsibilities of building healthy social structures and shaping the outcomes of their own lives.\nIan Rowe is a senior fellow at the American Enterprise Institute\, where he focuses on education and upward mobility\, family formation\, and adoption. Mr. Rowe is also the cofounder of Vertex Partnership Academies\, a network of character-based International Baccalaureate high schools inaugurated in the Bronx in 2022; the chairman of the board of Spence-Chapin\, a nonprofit adoption services organization; and the cofounder of the National Summer School Initiative. He concurrently serves as a senior visiting fellow at the Woodson Center and a writer for the 1776 Unites Campaign.
URL:https://livenewcanaan.org/event/ian-rowe-presents-the-four-point-plan-to-discover-their-pathway-to-power/
LOCATION:New Canaan Library\, 151 Main Street\, New Canaan\, CT\, 06840
CATEGORIES:New Canaan Library Event
ATTACH;FMTTYPE=image/png:https://livenewcanaan.org/wp-content/uploads/2024/05/Ian-rowe-nWnG54.tmp_.png
ORGANIZER;CN="New Canaan Library":MAILTO:kblance@newcanaanlibrary.org
END:VEVENT
END:VCALENDAR