BEGIN:VCALENDAR
VERSION:2.0
PRODID:-//LiveNewCanaan - ECPv6.15.18//NONSGML v1.0//EN
CALSCALE:GREGORIAN
METHOD:PUBLISH
X-WR-CALNAME:LiveNewCanaan
X-ORIGINAL-URL:https://livenewcanaan.org
X-WR-CALDESC:Events for LiveNewCanaan
REFRESH-INTERVAL;VALUE=DURATION:PT1H
X-Robots-Tag:noindex
X-PUBLISHED-TTL:PT1H
BEGIN:VTIMEZONE
TZID:America/New_York
BEGIN:DAYLIGHT
TZOFFSETFROM:-0500
TZOFFSETTO:-0400
TZNAME:EDT
DTSTART:20230312T070000
END:DAYLIGHT
BEGIN:STANDARD
TZOFFSETFROM:-0400
TZOFFSETTO:-0500
TZNAME:EST
DTSTART:20231105T060000
END:STANDARD
BEGIN:DAYLIGHT
TZOFFSETFROM:-0500
TZOFFSETTO:-0400
TZNAME:EDT
DTSTART:20240310T070000
END:DAYLIGHT
BEGIN:STANDARD
TZOFFSETFROM:-0400
TZOFFSETTO:-0500
TZNAME:EST
DTSTART:20241103T060000
END:STANDARD
BEGIN:DAYLIGHT
TZOFFSETFROM:-0500
TZOFFSETTO:-0400
TZNAME:EDT
DTSTART:20250309T070000
END:DAYLIGHT
BEGIN:STANDARD
TZOFFSETFROM:-0400
TZOFFSETTO:-0500
TZNAME:EST
DTSTART:20251102T060000
END:STANDARD
END:VTIMEZONE
BEGIN:VEVENT
DTSTART;TZID=America/New_York:20240401T183000
DTEND;TZID=America/New_York:20240401T200000
DTSTAMP:20260424T011522
CREATED:20240311T070519Z
LAST-MODIFIED:20240329T072716Z
UID:13639-1711996200-1712001600@livenewcanaan.org
SUMMARY:Bestselling Author Jeanette Walls Presents Her Latest Novel\, Hang the Moon\, at New Canaan Library
DESCRIPTION:New Canaan Library welcomes author Jeannette Walls\, speaking about her latest hit novel\, Hang the Moon\, which tells the tale of an indomitable young woman\, and is set in rural Virginia during the Prohibition era.\nJeannette Walls became a household name with the publication of her memoir\, Glass Castle\, which remained on the New York Times bestseller list for over eight years. Her following novels\, The Silver Star\, Half Broke Horses\, and Hang the Moon were instant hits\, keeping readers engrossed with her skillful storytelling and masterful character development.\nThe event will begin with a half-hour reception at 6:30pm\, followed by the talk at 7pm. Elm Street Books will be onsite to sell copies of Jeannette Walls’s books.
URL:https://livenewcanaan.org/event/bestselling-author-jeanette-walls-presents-her-latest-novel-hang-the-moon-at-new-canaan-library/
LOCATION:New Canaan Library\, Bartlett Auditorium\, 151 Main Street\, New Canaan\, CT\, 06840\, United States
CATEGORIES:New Canaan Library Event
ATTACH;FMTTYPE=image/png:https://livenewcanaan.org/wp-content/uploads/2024/03/jeanette-walls-duo-wOBlyG.tmp_.png
END:VEVENT
BEGIN:VEVENT
DTSTART;TZID=America/New_York:20240402T183000
DTEND;TZID=America/New_York:20240402T200000
DTSTAMP:20260424T011522
CREATED:20240322T063333Z
LAST-MODIFIED:20240329T072716Z
UID:13682-1712082600-1712088000@livenewcanaan.org
SUMMARY:Acclaimed Author Don Winslow Discusses His Final Novel\, City in Ruins
DESCRIPTION:Award winning and New York Times bestselling Don Winslow comes to New Canaan Library to speak about his work\, and introduce his latest and final novel\, City in Ruins. Mr. Winslow will be participating in an audience Q&A and signing copies of his novel at the event.\nFollowing City on Fire and City of Dreams\, City in Ruins is the explosive conclusion to Don Winslow’s epic\, genre-defining crime trilogy and the final book of Winslow’s extraordinary career.\nDon Winslow is the author of twenty-five acclaimed\, award-winning international bestsellers\, including Savages\, The Kings of Cool\, The Cartel\, The Force\, The Border\, City on Fire\, and City of Dreams. Savages was made into a feature film by three-time Oscar-winning writer-director Oliver Stone. Winslow’s epic Cartel trilogy has been adapted for TV and will appear as a weekly series on FX. He has recently written a series of award-winning short stories for Audible\, narrated by four-time Oscar nominee Ed Harris. A former investigator\, anti-terrorist trainer\, and trial consultant\, Winslow has announced that City in Ruins will be his final novel.
URL:https://livenewcanaan.org/event/acclaimed-author-don-winslow-discusses-his-final-novel-city-in-ruins/
LOCATION:New Canaan Library\, 151 Main St\, New Canaan\, CT\, United States
CATEGORIES:New Canaan Library Event
ATTACH;FMTTYPE=image/png:https://livenewcanaan.org/wp-content/uploads/2024/03/winslow-duo-Qn5CsY.tmp_.png
END:VEVENT
BEGIN:VEVENT
DTSTART;TZID=America/New_York:20240409T190000
DTEND;TZID=America/New_York:20240409T200000
DTSTAMP:20260424T011522
CREATED:20240329T072718Z
LAST-MODIFIED:20240408T103255Z
UID:13723-1712689200-1712692800@livenewcanaan.org
SUMMARY:Baseball’s Greatest Rivalries
DESCRIPTION:Springtime means baseball\, and baseball means rivalries. Baseball entrepreneur and podcaster Kelley Franco invites baseball fans to a crash course on baseball’s greatest rivalries. Kelley will discuss Levels 101\, 201\, 301\, and 401 of the fiercest clashes in the game\, and the most famous rivalries: Yankees/Red Sox\, and Dodgers/Giants. She will then dig deep into other well-known matchups\, including Cubs/Cardinals\, Ted Williams/Joe DiMaggio\, and some off-the-field surprises.\nCasual and serious fans alike are invited to bring their favorite baseball cap\, their baseball acumen\, and their sense of nostalgia to this fun evening.\nKelley Franco is a baseball media entrepreneur\, host of the podcast “A Date in October with KFT\,” and owner of Three Inning Fan LLC. She has been a guest lecturer at the Baseball Hall of Fame and a baseball contributor on CNN’s Financial Network. By day\, Kelley is a practicing attorney here in New Canaan at her firm\, Franco and Associates.
URL:https://livenewcanaan.org/event/baseballs-greatest-rivalries/
LOCATION:New Canaan Library\, 151 Main Street\, New Canaan\, CT\, 06840\, United States
CATEGORIES:New Canaan Library Event
ATTACH;FMTTYPE=image/jpeg:https://livenewcanaan.org/wp-content/uploads/2024/03/Headshot-Kelley-Franco-scaled-SR45AB.tmp_.jpg
ORGANIZER;CN="New Canaan Library":MAILTO:kblance@newcanaanlibrary.org
END:VEVENT
BEGIN:VEVENT
DTSTART;TZID=America/New_York:20240411T183000
DTEND;TZID=America/New_York:20240411T193000
DTSTAMP:20260424T011522
CREATED:20240408T103257Z
LAST-MODIFIED:20240408T103257Z
UID:13821-1712860200-1712863800@livenewcanaan.org
SUMMARY:Award-Winning Anchor Alisyn Camerota Presents Memoir\, Combat Love
DESCRIPTION:Emmy Award winning news anchor Alisyn Camerota and actress Stephanie Szostak will be in conversation about Ms. Camerota’s new memoir.\nCombat Love is Alisyn Camerota’s story of growing up\, longing for stability and attachment as the foundation of her family crumbles. Set in the Jersey Shore during the pleasure-seeking 1980s\, Camerota finds the belonging she craves courtesy of a local punk rock band named Shrapnel and their diehard fans. Combat Love chronicles her near-misses and misadventures at clubs like CBGB and Max’s Kansas City\, coupled with the sex\, drugs\, and punk rock of 1980s New Jersey. By the time she leaves home at sixteen\, it feels like home had left her long ago.\nTwo-time Emmy-award-winning Camerota retraces her steps down an often-gritty path toward her dream of becoming a journalist. At times heartbreaking and pulse-pounding\, Combat Love is an inspiration for anyone who’s ever searched for that elusive place called home.\nElm Street Books will be onsite with copies of Combat Love for sale.
URL:https://livenewcanaan.org/event/award-winning-anchor-alisyn-camerota-presents-memoir-combat-love/
LOCATION:New Canaan Library\, Bartlett Auditorium\, 151 Main Street\, New Canaan\, CT\, 06840\, United States
CATEGORIES:New Canaan Library Event
ATTACH;FMTTYPE=image/png:https://livenewcanaan.org/wp-content/uploads/2024/04/camerota-duo-aV0fhd.tmp_.png
ORGANIZER;CN="New Canaan Library":MAILTO:kblance@newcanaanlibrary.org
END:VEVENT
BEGIN:VEVENT
DTSTART;TZID=America/New_York:20240421T180000
DTEND;TZID=America/New_York:20240421T190000
DTSTAMP:20260424T011522
CREATED:20240417T111434Z
LAST-MODIFIED:20240417T111434Z
UID:13881-1713722400-1713726000@livenewcanaan.org
SUMMARY:After-Hours Jazz Performance with the Laura Anglade Quartet
DESCRIPTION:The Laura Anglade jazz quartet comes to New Canaan Library for a special\, after-hours performance. Laura Anglade has made a mark in the vibrant music scenes of New York\, Paris\, Toronto\, and Montreal. She will be joined by a stellar ensemble\, including Ben Rosenblum on piano and accordion\, Paul Sikivie on bass\, and Ben Zweig on the drums.\nThe Quartet will perform their own arrangements\, drawing from the Great American Songbook as well as some French classics made famous by Michael Lengrand\, Barbara\, Charles Trenet\, and more.
URL:https://livenewcanaan.org/event/after-hours-jazz-performance-with-the-laura-anglade-quartet/
LOCATION:New Canaan Library\, Bartlett Auditorium\, 151 Main Street\, New Canaan\, CT\, 06840\, United States
CATEGORIES:New Canaan Library Event
ATTACH;FMTTYPE=image/jpeg:https://livenewcanaan.org/wp-content/uploads/2024/04/Laura-Anglade-trio-xBTxir.tmp_.jpg
END:VEVENT
BEGIN:VEVENT
DTSTART;TZID=America/New_York:20240425T180000
DTEND;TZID=America/New_York:20240425T200000
DTSTAMP:20260424T011522
CREATED:20240417T111441Z
LAST-MODIFIED:20240417T111441Z
UID:13899-1714068000-1714075200@livenewcanaan.org
SUMMARY:Lidia Bastianich\, Celebrity Chef and Emmy Award Winning TV Host\, To Speak at New Canaan Library
DESCRIPTION:New Canaan Library is proud to host a special evening featuring top celebrity chef\, restaurateur\, and cookbook author\, Lidia Bastianich. Ms. Bastianich will be speaking about her life and latest cookbook\, Lidia’s: From Our Family Table to Yours\, co-authored by her daughter Tanya Bastianich Manuali. In it\, she shares the dishes she often cooks for those she loves the most\, many inspired by her beloved mother. It includes a personal collection of more than a hundred favorite family recipes and anecdotes from this award-winning “doyenne of Italian cooking” as she was named by The New York Times.\nThe talk will be followed by a Q & A with the audience\, after which Ms. Bastianich will sign copies of her book. Proceeds will benefit the Library’s Annual Fund which helps support all programs and services at the Library. General Admission and Benefactor tickets are available on the Library’s website. Benefactor tickets include an opportunity to meet Ms. Bastianich and share some Italian aperitivos.
URL:https://livenewcanaan.org/event/lidia-bastianich-celebrity-chef-and-emmy-award-winning-tv-host-to-speak-at-new-canaan-library/
LOCATION:New Canaan Library\, Bartlett Auditorium\, 151 Main Street\, New Canaan\, CT\, 06840\, United States
CATEGORIES:New Canaan Library Event
ATTACH;FMTTYPE=image/jpeg:https://livenewcanaan.org/wp-content/uploads/2024/04/Lidia-g24uWq.tmp_.jpg
ORGANIZER;CN="New Canaan Library":MAILTO:kblance@newcanaanlibrary.org
END:VEVENT
END:VCALENDAR