BEGIN:VCALENDAR
VERSION:2.0
PRODID:-//LiveNewCanaan - ECPv6.15.18//NONSGML v1.0//EN
CALSCALE:GREGORIAN
METHOD:PUBLISH
X-ORIGINAL-URL:https://livenewcanaan.org
X-WR-CALDESC:Events for LiveNewCanaan
REFRESH-INTERVAL;VALUE=DURATION:PT1H
X-Robots-Tag:noindex
X-PUBLISHED-TTL:PT1H
BEGIN:VTIMEZONE
TZID:America/New_York
BEGIN:DAYLIGHT
TZOFFSETFROM:-0500
TZOFFSETTO:-0400
TZNAME:EDT
DTSTART:20220313T070000
END:DAYLIGHT
BEGIN:STANDARD
TZOFFSETFROM:-0400
TZOFFSETTO:-0500
TZNAME:EST
DTSTART:20221106T060000
END:STANDARD
BEGIN:DAYLIGHT
TZOFFSETFROM:-0500
TZOFFSETTO:-0400
TZNAME:EDT
DTSTART:20230312T070000
END:DAYLIGHT
BEGIN:STANDARD
TZOFFSETFROM:-0400
TZOFFSETTO:-0500
TZNAME:EST
DTSTART:20231105T060000
END:STANDARD
BEGIN:DAYLIGHT
TZOFFSETFROM:-0500
TZOFFSETTO:-0400
TZNAME:EDT
DTSTART:20240310T070000
END:DAYLIGHT
BEGIN:STANDARD
TZOFFSETFROM:-0400
TZOFFSETTO:-0500
TZNAME:EST
DTSTART:20241103T060000
END:STANDARD
END:VTIMEZONE
BEGIN:VEVENT
DTSTART;TZID=America/New_York:20231112T153000
DTEND;TZID=America/New_York:20231112T170000
DTSTAMP:20260424T091338
CREATED:20231109T141219Z
LAST-MODIFIED:20231109T141219Z
UID:12889-1699803000-1699808400@livenewcanaan.org
SUMMARY:How to Taste:  A Guide to Discovering Flavor and Savoring Life
DESCRIPTION:Join author and expert taster Mandy Naglich as she discusses her book How to Taste: A Guide to Discovering Flavor and Savoring Life and presents an array of tasty examples to cultivate one’s sensory skills. Her captivating book takes one from novice to master\, transforming the reader from a person who eats to a person who tastes. Elevate your sense of taste and get to know the lingo of professional tasters as you taste\, smell and sample foods during this unique event.\nMandy Naglich is a food and beverage journalist\, beer educator\, Advanced Cicerone\, AROXA Certified Taster\, Certified Cider Professional\, National Homebrew Competition gold medalist\, and has earned the certification of WSET Level 1 Spirits. She lives\, writes\, and brews in New York City with her husband\, Wes.
URL:https://livenewcanaan.org/event/how-to-taste-a-guide-to-discovering-flavor-and-savoring-life/
LOCATION:New Canaan Library\, 151 Main St\, New Canaan\, CT\, United States
CATEGORIES:New Canaan Library Event
ATTACH;FMTTYPE=image/png:https://livenewcanaan.org/wp-content/uploads/2023/11/MandyNaglichbookcover-5uTLjl.tmp_.png
ORGANIZER;CN="New Canaan Library":MAILTO:kblance@newcanaanlibrary.org
END:VEVENT
BEGIN:VEVENT
DTSTART;TZID=America/New_York:20231115T190000
DTEND;TZID=America/New_York:20231115T200000
DTSTAMP:20260424T091338
CREATED:20231109T141224Z
LAST-MODIFIED:20231109T141224Z
UID:12899-1700074800-1700078400@livenewcanaan.org
SUMMARY:Icons of American History Reconsidered: From Milton Friedman to the Pony Express
DESCRIPTION:History\, myth\, and the American ideal are the topics of discussion when biographer Jennifer Burns and journalist Will Grant speak about their latest books\, Milton Friedman: The Last Conservative\, and The Last Ride of the Pony Express: My 2\,000-Mile Horseback Journey into the Old West\, respectively. The topics of their books dovetail in the examination of American cultural ideals of rugged individualism and free market capitalism.\nJennifer Burns\, a New Canaan native and graduate of New Canaan Country School\, is Associate Professor of History at Stanford University\, where she teaches courses on American history. She is the author of Goddess of the Market: Ayn Rand and the American Right (Oxford\, 2009).\nWill Grant is a writer\, journalist\, cowboy\, and adventurer\, who has written for Outside magazine\, The Wall Street Journal\, Bloomberg Businessweek\, and many other publications.
URL:https://livenewcanaan.org/event/icons-of-american-history-reconsidered-from-milton-friedman-to-the-pony-express/
LOCATION:New Canaan Library\, 151 Main St\, New Canaan\, CT\, United States
CATEGORIES:New Canaan Library Event
ATTACH;FMTTYPE=image/png:https://livenewcanaan.org/wp-content/uploads/2023/11/miltonfponyexpress-VLXv7b.tmp_.png
END:VEVENT
BEGIN:VEVENT
DTSTART;TZID=America/New_York:20231117T110000
DTEND;TZID=America/New_York:20231117T120000
DTSTAMP:20260424T091338
CREATED:20231109T141253Z
LAST-MODIFIED:20231109T141253Z
UID:12916-1700218800-1700222400@livenewcanaan.org
SUMMARY:Nutrition Labels 101: Understanding the labels on your food
DESCRIPTION:What do food labels really tell you? Dr. Raquel Harrison (MD\, FACEP\, dipABLM)\, dual board certified in emergency medicine and lifestyle medicine\, presents a thorough and demystifying overview of food labels. In addition to protein\, fat\, or carbohydrate percentage\, labels tell us about sodium content\, sugar and much more. And\, what about nutrition in your fruits and vegetables\, which don’t have labels? Start eating healthier with these easy tips!\nWith over 12 years of experience working in large urban emergency departments\, Dr. Harrison has been heavily impacted by how often lifestyle choices result in visits to the hospital. Leveraging years working in education as an assistant professor and assistant residency director at Yale School of Medicine\, she now directs her passion for teaching towards educating others about lifestyle medicine and its critical role in preventing and reversing diseases.
URL:https://livenewcanaan.org/event/nutrition-labels-101-understanding-the-labels-on-your-food/
LOCATION:New Canaan Library\, 151 Main St\, New Canaan\, CT\, United States
CATEGORIES:New Canaan Library Event
ATTACH;FMTTYPE=image/jpeg:https://livenewcanaan.org/wp-content/uploads/2023/11/Dr.-Raquel-Harrison-KvnC2e.tmp_.jpg
END:VEVENT
END:VCALENDAR