BEGIN:VCALENDAR
VERSION:2.0
PRODID:-//LiveNewCanaan - ECPv6.15.18//NONSGML v1.0//EN
CALSCALE:GREGORIAN
METHOD:PUBLISH
X-ORIGINAL-URL:https://livenewcanaan.org
X-WR-CALDESC:Events for LiveNewCanaan
REFRESH-INTERVAL;VALUE=DURATION:PT1H
X-Robots-Tag:noindex
X-PUBLISHED-TTL:PT1H
BEGIN:VTIMEZONE
TZID:America/New_York
BEGIN:DAYLIGHT
TZOFFSETFROM:-0500
TZOFFSETTO:-0400
TZNAME:EDT
DTSTART:20220313T070000
END:DAYLIGHT
BEGIN:STANDARD
TZOFFSETFROM:-0400
TZOFFSETTO:-0500
TZNAME:EST
DTSTART:20221106T060000
END:STANDARD
BEGIN:DAYLIGHT
TZOFFSETFROM:-0500
TZOFFSETTO:-0400
TZNAME:EDT
DTSTART:20230312T070000
END:DAYLIGHT
BEGIN:STANDARD
TZOFFSETFROM:-0400
TZOFFSETTO:-0500
TZNAME:EST
DTSTART:20231105T060000
END:STANDARD
BEGIN:DAYLIGHT
TZOFFSETFROM:-0500
TZOFFSETTO:-0400
TZNAME:EDT
DTSTART:20240310T070000
END:DAYLIGHT
BEGIN:STANDARD
TZOFFSETFROM:-0400
TZOFFSETTO:-0500
TZNAME:EST
DTSTART:20241103T060000
END:STANDARD
END:VTIMEZONE
BEGIN:VEVENT
DTSTART;TZID=America/New_York:20230829T190000
DTEND;TZID=America/New_York:20230829T200000
DTSTAMP:20260424T140608
CREATED:20230818T124407Z
LAST-MODIFIED:20230818T124407Z
UID:12242-1693335600-1693339200@livenewcanaan.org
SUMMARY:An Evening with Argentine Guitarist Carlos Pavan
DESCRIPTION:New Canaan Library invites you to immerse yourself in the beauty and drama of Argentine music when guitarist Carlos Pavan performs familiar classical themes\, creatively mixed with Argentine tango\, folk dances\, and jazz harmonies. Using classic and modern forms and techniques\, Pavan elicits beats and tones that are familiar\, yet new and amplified by the expertly engineered acoustics of the Jim and Dede Bartlett Auditorium.\nArgentina born/Brooklyn based composer and guitarist Carlos Pavan arrived in New York in 2000 to pursue musical studies with maestros Jorge Morel\, Dave Smey (Brooklyn Conservatory) and Pablo Ziegler (A. Piazzolla’s pianist). Since then\, he’s performed at well-renowned venues such as Lincoln Center\, New York City Center\, New England Conservatory Jordan Hall (Boston)\, Brooklyn Borough Hall\, Merkin Hall at Kaufman Center\, Philadelphia Museum\, and Hudson River Museum\, among others. He has performed internationally in France\, Ireland\, Portugal\, Scandinavia\, and Japan.
URL:https://livenewcanaan.org/event/an-evening-with-argentine-guitarist-carlos-pavan/
LOCATION:New Canaan Library\, Bartlett Auditorium\, 151 Main Street\, New Canaan\, CT\, 06840\, United States
CATEGORIES:New Canaan Library Event
ATTACH;FMTTYPE=image/jpeg:https://livenewcanaan.org/wp-content/uploads/2023/08/Carlos-Pavan-scaled-3rUisr.tmp_.jpg
END:VEVENT
END:VCALENDAR