BEGIN:VCALENDAR
VERSION:2.0
PRODID:-//LiveNewCanaan - ECPv6.15.18//NONSGML v1.0//EN
CALSCALE:GREGORIAN
METHOD:PUBLISH
X-ORIGINAL-URL:https://livenewcanaan.org
X-WR-CALDESC:Events for LiveNewCanaan
REFRESH-INTERVAL;VALUE=DURATION:PT1H
X-Robots-Tag:noindex
X-PUBLISHED-TTL:PT1H
BEGIN:VTIMEZONE
TZID:America/New_York
BEGIN:DAYLIGHT
TZOFFSETFROM:-0500
TZOFFSETTO:-0400
TZNAME:EDT
DTSTART:20220313T070000
END:DAYLIGHT
BEGIN:STANDARD
TZOFFSETFROM:-0400
TZOFFSETTO:-0500
TZNAME:EST
DTSTART:20221106T060000
END:STANDARD
BEGIN:DAYLIGHT
TZOFFSETFROM:-0500
TZOFFSETTO:-0400
TZNAME:EDT
DTSTART:20230312T070000
END:DAYLIGHT
BEGIN:STANDARD
TZOFFSETFROM:-0400
TZOFFSETTO:-0500
TZNAME:EST
DTSTART:20231105T060000
END:STANDARD
BEGIN:DAYLIGHT
TZOFFSETFROM:-0500
TZOFFSETTO:-0400
TZNAME:EDT
DTSTART:20240310T070000
END:DAYLIGHT
BEGIN:STANDARD
TZOFFSETFROM:-0400
TZOFFSETTO:-0500
TZNAME:EST
DTSTART:20241103T060000
END:STANDARD
END:VTIMEZONE
BEGIN:VEVENT
DTSTART;TZID=America/New_York:20230131T190000
DTEND;TZID=America/New_York:20230131T210000
DTSTAMP:20260425T000044
CREATED:20230116T144121Z
LAST-MODIFIED:20230116T144121Z
UID:11320-1675191600-1675198800@livenewcanaan.org
SUMMARY:Drop-in Tuesday Adult Sketch Nights At The Carriage Barn
DESCRIPTION:Drop-in Tuesday Adult Sketch Nights At The Carriage Barn\n \nJanuary 31- February 21 onwards\, Tuesday evenings from 7-9pm \nAll are welcome to join our regular drop-in sketch nights at the Carriage Barn\, facilitated by Vanessa Curri and other members of the group. Work on a different still-life composition in pencil/charcoals each week using newsprint technique. Sessions are accessible for all skill levels and no experience is necessary. Come work with others in a relaxed and supportive environment. If desired\, BYO snack/beverage of choice. \nThe cost is $15 for Carriage Barn members and students (age 25 & under) / $25 for non-members. Bring your own supplies\, pencils\, and kneaded erasers only\, please. Stools and drawing boards will be provided. \n  \n 
URL:https://livenewcanaan.org/event/drop-in-tuesday-adult-sketch-nights-at-the-carriage-barn-3/
LOCATION:Carriage Barn Arts Center
CATEGORIES:New Canaan Library Event
ATTACH;FMTTYPE=image/jpeg:https://livenewcanaan.org/wp-content/uploads/2023/01/Screen-Shot-2023-01-10-at-1.50.56-PM.jpg
END:VEVENT
BEGIN:VEVENT
DTSTART;TZID=America/New_York:20230201T160000
DTEND;TZID=America/New_York:20230201T170000
DTSTAMP:20260425T000044
CREATED:20230112T104136Z
LAST-MODIFIED:20230112T104444Z
UID:11282-1675267200-1675270800@livenewcanaan.org
SUMMARY:After School Woodworking class
DESCRIPTION:After School Woodworking classAfter School Woodworking class at the Carriage Barn:Three Wednesdays\, Feb. 1\, 8 & 15 from 4-5pm \n  \nRegister kids (ages 7 & up) for this three-week after-school woodworking class at the Carriage Barn. Participants will create a swivel-top treasure box to store their toys\, coins\, or other treasures! Kids will learn basic woodworking skills utilizing hammers\, screwdrivers\, and occasional power drill. \nThe cost for this three-session workshop is $165\, or $150 for family members.\nhttps://carriagebarn.org/afterschool-woodworking/ \n 
URL:https://livenewcanaan.org/event/afterschool-woodworking-class-1-february/
LOCATION:Carriage Barn Arts Center
CATEGORIES:New Canaan Library Event
ATTACH;FMTTYPE=image/png:https://livenewcanaan.org/wp-content/uploads/2023/01/Screen-Shot-2023-01-10-at-12.43.36-PM.png
END:VEVENT
BEGIN:VEVENT
DTSTART;TZID=America/New_York:20230207T190000
DTEND;TZID=America/New_York:20230207T210000
DTSTAMP:20260425T000044
CREATED:20230116T144213Z
LAST-MODIFIED:20230116T144213Z
UID:11322-1675796400-1675803600@livenewcanaan.org
SUMMARY:Drop-in Tuesday Adult Sketch Nights At The Carriage Barn
DESCRIPTION:Drop-in Tuesday Adult Sketch Nights At The Carriage Barn\n \nFebruary 7 onwards\, Tuesday evenings from 7-9pm \nAll are welcome to join our regular drop-in sketch nights at the Carriage Barn\, facilitated by Vanessa Curri and other members of the group. Work on a different still-life composition in pencil/charcoals each week using newsprint technique. Sessions are accessible for all skill levels and no experience is necessary. Come work with others in a relaxed and supportive environment. If desired\, BYO snack/beverage of choice. \nThe cost is $15 for Carriage Barn members and students (age 25 & under) / $25 for non-members. Bring your own supplies\, pencils\, and kneaded erasers only\, please. Stools and drawing boards will be provided. \n  \n 
URL:https://livenewcanaan.org/event/drop-in-tuesday-adult-sketch-nights-at-the-carriage-barn-4/
LOCATION:Carriage Barn Arts Center
CATEGORIES:New Canaan Library Event
ATTACH;FMTTYPE=image/jpeg:https://livenewcanaan.org/wp-content/uploads/2023/01/Screen-Shot-2023-01-10-at-1.50.56-PM.jpg
END:VEVENT
BEGIN:VEVENT
DTSTART;TZID=America/New_York:20230208T160000
DTEND;TZID=America/New_York:20230208T170000
DTSTAMP:20260425T000044
CREATED:20230112T104353Z
LAST-MODIFIED:20230112T104458Z
UID:11285-1675872000-1675875600@livenewcanaan.org
SUMMARY:After School Woodworking class
DESCRIPTION:After School Woodworking class at the Carriage Barn:Three Wednesdays\, Feb. 1\, 8 & 15 from 4-5pm \n  \nRegister kids (ages 7 & up) for this three-week after-school woodworking class at the Carriage Barn. Participants will create a swivel-top treasure box to store their toys\, coins\, or other treasures! Kids will learn basic woodworking skills utilizing hammers\, screwdrivers\, and occasional power drill. \nThe cost for this three-session workshop is $165\, or $150 for family members.\nhttps://carriagebarn.org/afterschool-woodworking/ \n 
URL:https://livenewcanaan.org/event/afterschool-woodworking-class-8-february/
LOCATION:Carriage Barn Arts Center
CATEGORIES:New Canaan Library Event
ATTACH;FMTTYPE=image/png:https://livenewcanaan.org/wp-content/uploads/2023/01/Screen-Shot-2023-01-10-at-12.43.36-PM.png
END:VEVENT
BEGIN:VEVENT
DTSTART;TZID=America/New_York:20230214T190000
DTEND;TZID=America/New_York:20230214T210000
DTSTAMP:20260425T000044
CREATED:20230116T144311Z
LAST-MODIFIED:20230116T144311Z
UID:11324-1676401200-1676408400@livenewcanaan.org
SUMMARY:Drop-in Tuesday Adult Sketch Nights At The Carriage Barn
DESCRIPTION:Drop-in Tuesday Adult Sketch Nights At The Carriage Barn\n \nFebruary 14 onwards\, Tuesday evenings from 7-9pm \nAll are welcome to join our regular drop-in sketch nights at the Carriage Barn\, facilitated by Vanessa Curri and other members of the group. Work on a different still-life composition in pencil/charcoals each week using newsprint technique. Sessions are accessible for all skill levels and no experience is necessary. Come work with others in a relaxed and supportive environment. If desired\, BYO snack/beverage of choice. \nThe cost is $15 for Carriage Barn members and students (age 25 & under) / $25 for non-members. Bring your own supplies\, pencils\, and kneaded erasers only\, please. Stools and drawing boards will be provided. \n  \n 
URL:https://livenewcanaan.org/event/drop-in-tuesday-adult-sketch-nights-at-the-carriage-barn-5/
LOCATION:Carriage Barn Arts Center
CATEGORIES:New Canaan Library Event
ATTACH;FMTTYPE=image/jpeg:https://livenewcanaan.org/wp-content/uploads/2023/01/Screen-Shot-2023-01-10-at-1.50.56-PM.jpg
END:VEVENT
BEGIN:VEVENT
DTSTART;TZID=America/New_York:20230215T160000
DTEND;TZID=America/New_York:20230215T170000
DTSTAMP:20260425T000044
CREATED:20230112T104559Z
LAST-MODIFIED:20230112T104559Z
UID:11289-1676476800-1676480400@livenewcanaan.org
SUMMARY:After School Woodworking class
DESCRIPTION:After School Woodworking class at the Carriage Barn:Three Wednesdays\, Feb. 1\, 8 & 15 from 4-5pm \n  \nRegister kids (ages 7 & up) for this three-week after-school woodworking class at the Carriage Barn. Participants will create a swivel-top treasure box to store their toys\, coins\, or other treasures! Kids will learn basic woodworking skills utilizing hammers\, screwdrivers\, and occasional power drill. \nThe cost for this three-session workshop is $165\, or $150 for family members.\nhttps://carriagebarn.org/afterschool-woodworking/ \n 
URL:https://livenewcanaan.org/event/after-school-woodworking-class-15-february/
LOCATION:Carriage Barn Arts Center
CATEGORIES:New Canaan Library Event
ATTACH;FMTTYPE=image/png:https://livenewcanaan.org/wp-content/uploads/2023/01/Screen-Shot-2023-01-10-at-12.43.36-PM.png
END:VEVENT
BEGIN:VEVENT
DTSTART;TZID=America/New_York:20230217T200000
DTEND;TZID=America/New_York:20230217T210000
DTSTAMP:20260425T000044
CREATED:20220914T114704Z
LAST-MODIFIED:20230131T133033Z
UID:10784-1676664000-1676667600@livenewcanaan.org
SUMMARY:Live Theater – Ordinary People
DESCRIPTION:TOP ACTORS WILL “WOW” YOU IN THIS POWERFUL PLAY …\nEXPLORING THE DIFFICULT ISSUE OF MENTAL HEALTH. \nOVERVIEW: This play is based on the Oscar-winning “Best Picture” movie starring Donald Sutherland\, Mary Tyler Moore and Timothy Hutton\, by first-time director Robert Redford\, and the best-selling novel by Judith Guest. It explores the complex relationships of an ordinary family struggling to heal from an unexpected tragedy. \nPLOT: Teenager Conrad Jarrett is wracked with guilt over the death of his older brother Buck from a boating accident. What’s left of Conrad’s family – his successful\, well-intentioned father and his stylish\, organized mother – is in jeopardy\, as is Conrad himself. They are “ordinary people” coping with the omnipresent human emotions of loss\, grief\, guilt\, depression and love. This powerful play goes to the root of the Jarretts’ relationships\, exploring how the family grows apart in its struggle to heal yet ultimately moves forward with hope. \nWHY THIS PLAY?\nIn presenting this emotional story\, we endeavor to contribute to the conversation within our community around the important issue of mental health. Through the unique experience of live theater\, we seek to encourage contemplation and conversation\, destigmatize mental illness\, and increase empathy for those who are struggling. After all\, each of us is an ordinary person who\, at any time\, could experience sudden hardship like the Jarretts. Our shared understanding of this universal dilemma brings us together and reminds us of our humanity. \nRAISING AWARENESS: We also aim to raise awareness of the many wonderful resources New Canaan and our neighboring communities offer for mental health support. Additionally\, we thank our sponsors: Silver Hill Hospital\, New Canaan Human Services\, Connecticut Humanities\, and Russell and Katie Barksdale. We are especially grateful to Dr. Michael Groat\, chief clinical officer at Silver Hill Hospital\, for advising our cast and crew as they strive to identify with the characters and for hosting talkbacks with our audiences following each Sunday matinee performance. \nSUNDAY TALKBACKS: Audiences of our Sunday matinees are welcome to stay after the performance for a “talkback\,” an open discussion with Deborah Burke\, director of Ordinary People\, and Dr. Michael Groat\, chief clinical officer at Silver Hill Hospital\, who assisted our cast and crew with understanding the complex emotions portrayed in the play. The talkbacks are included in the price of admission. \nFOR MORE INFO AND TICKETS: https://tpnc.org/shows/ordinary-people/
URL:https://livenewcanaan.org/event/live-theater-ordinary-people-feb-17/
LOCATION:THE POWERHOUSE THEATER AT WAVENY PARK\, BOX 201\, New Cannan\, CT\, 06840
CATEGORIES:New Canaan Library Event
ATTACH;FMTTYPE=image/jpeg:https://livenewcanaan.org/wp-content/uploads/2022/09/LOGO_Ordinary-People-600x400-copy.jpg
END:VEVENT
BEGIN:VEVENT
DTSTART;TZID=America/New_York:20230218T200000
DTEND;TZID=America/New_York:20230218T210000
DTSTAMP:20260425T000044
CREATED:20230131T132624Z
LAST-MODIFIED:20230131T132624Z
UID:11333-1676750400-1676754000@livenewcanaan.org
SUMMARY:Live Theater – Ordinary People
DESCRIPTION:TOP ACTORS WILL “WOW” YOU IN THIS POWERFUL PLAY …\nEXPLORING THE DIFFICULT ISSUE OF MENTAL HEALTH. \nOVERVIEW: This play is based on the Oscar-winning “Best Picture” movie starring Donald Sutherland\, Mary Tyler Moore and Timothy Hutton\, by first-time director Robert Redford\, and the best-selling novel by Judith Guest. It explores the complex relationships of an ordinary family struggling to heal from an unexpected tragedy. \nPLOT: Teenager Conrad Jarrett is wracked with guilt over the death of his older brother Buck from a boating accident. What’s left of Conrad’s family – his successful\, well-intentioned father and his stylish\, organized mother – is in jeopardy\, as is Conrad himself. They are “ordinary people” coping with the omnipresent human emotions of loss\, grief\, guilt\, depression and love. This powerful play goes to the root of the Jarretts’ relationships\, exploring how the family grows apart in its struggle to heal yet ultimately moves forward with hope. \nWHY THIS PLAY?\nIn presenting this emotional story\, we endeavor to contribute to the conversation within our community around the important issue of mental health. Through the unique experience of live theater\, we seek to encourage contemplation and conversation\, destigmatize mental illness\, and increase empathy for those who are struggling. After all\, each of us is an ordinary person who\, at any time\, could experience sudden hardship like the Jarretts. Our shared understanding of this universal dilemma brings us together and reminds us of our humanity. \nRAISING AWARENESS: We also aim to raise awareness of the many wonderful resources New Canaan and our neighboring communities offer for mental health support. Additionally\, we thank our sponsors: Silver Hill Hospital\, New Canaan Human Services\, Connecticut Humanities\, and Russell and Katie Barksdale. We are especially grateful to Dr. Michael Groat\, chief clinical officer at Silver Hill Hospital\, for advising our cast and crew as they strive to identify with the characters and for hosting talkbacks with our audiences following each Sunday matinee performance. \nSUNDAY TALKBACKS: Audiences of our Sunday matinees are welcome to stay after the performance for a “talkback\,” an open discussion with Deborah Burke\, director of Ordinary People\, and Dr. Michael Groat\, chief clinical officer at Silver Hill Hospital\, who assisted our cast and crew with understanding the complex emotions portrayed in the play. The talkbacks are included in the price of admission. \nFOR MORE INFO AND TICKETS: https://tpnc.org/shows/ordinary-people/
URL:https://livenewcanaan.org/event/live-theater-ordinary-people-feb-18/
LOCATION:THE POWERHOUSE THEATER AT WAVENY PARK\, BOX 201\, New Cannan\, CT\, 06840
CATEGORIES:New Canaan Library Event
ATTACH;FMTTYPE=image/jpeg:https://livenewcanaan.org/wp-content/uploads/2022/09/LOGO_Ordinary-People-600x400-copy.jpg
END:VEVENT
BEGIN:VEVENT
DTSTART;TZID=America/New_York:20230219T140000
DTEND;TZID=America/New_York:20230219T150000
DTSTAMP:20260425T000044
CREATED:20230131T133423Z
LAST-MODIFIED:20230131T133423Z
UID:11344-1676815200-1676818800@livenewcanaan.org
SUMMARY:Live Theater – Ordinary People
DESCRIPTION:TOP ACTORS WILL “WOW” YOU IN THIS POWERFUL PLAY …\nEXPLORING THE DIFFICULT ISSUE OF MENTAL HEALTH. \nOVERVIEW: This play is based on the Oscar-winning “Best Picture” movie starring Donald Sutherland\, Mary Tyler Moore and Timothy Hutton\, by first-time director Robert Redford\, and the best-selling novel by Judith Guest. It explores the complex relationships of an ordinary family struggling to heal from an unexpected tragedy. \nPLOT: Teenager Conrad Jarrett is wracked with guilt over the death of his older brother Buck from a boating accident. What’s left of Conrad’s family – his successful\, well-intentioned father and his stylish\, organized mother – is in jeopardy\, as is Conrad himself. They are “ordinary people” coping with the omnipresent human emotions of loss\, grief\, guilt\, depression and love. This powerful play goes to the root of the Jarretts’ relationships\, exploring how the family grows apart in its struggle to heal yet ultimately moves forward with hope. \nWHY THIS PLAY?\nIn presenting this emotional story\, we endeavor to contribute to the conversation within our community around the important issue of mental health. Through the unique experience of live theater\, we seek to encourage contemplation and conversation\, destigmatize mental illness\, and increase empathy for those who are struggling. After all\, each of us is an ordinary person who\, at any time\, could experience sudden hardship like the Jarretts. Our shared understanding of this universal dilemma brings us together and reminds us of our humanity. \nRAISING AWARENESS: We also aim to raise awareness of the many wonderful resources New Canaan and our neighboring communities offer for mental health support. Additionally\, we thank our sponsors: Silver Hill Hospital\, New Canaan Human Services\, Connecticut Humanities\, and Russell and Katie Barksdale. We are especially grateful to Dr. Michael Groat\, chief clinical officer at Silver Hill Hospital\, for advising our cast and crew as they strive to identify with the characters and for hosting talkbacks with our audiences following each Sunday matinee performance. \nSUNDAY TALKBACKS: Audiences of our Sunday matinees are welcome to stay after the performance for a “talkback\,” an open discussion with Deborah Burke\, director of Ordinary People\, and Dr. Michael Groat\, chief clinical officer at Silver Hill Hospital\, who assisted our cast and crew with understanding the complex emotions portrayed in the play. The talkbacks are included in the price of admission. \nFOR MORE INFO AND TICKETS: https://tpnc.org/shows/ordinary-people/
URL:https://livenewcanaan.org/event/live-theater-ordinary-people-feb-19/
LOCATION:THE POWERHOUSE THEATER AT WAVENY PARK\, BOX 201\, New Cannan\, CT\, 06840
CATEGORIES:New Canaan Library Event
ATTACH;FMTTYPE=image/jpeg:https://livenewcanaan.org/wp-content/uploads/2022/09/LOGO_Ordinary-People-600x400-copy.jpg
END:VEVENT
BEGIN:VEVENT
DTSTART;TZID=America/New_York:20230221T190000
DTEND;TZID=America/New_York:20230221T210000
DTSTAMP:20260425T000044
CREATED:20230116T144405Z
LAST-MODIFIED:20230116T144405Z
UID:11326-1677006000-1677013200@livenewcanaan.org
SUMMARY:Drop-in Tuesday Adult Sketch Nights At The Carriage Barn
DESCRIPTION:Drop-in Tuesday Adult Sketch Nights At The Carriage Barn\n \nFebruary 21 onwards\, Tuesday evenings from 7-9pm \nAll are welcome to join our regular drop-in sketch nights at the Carriage Barn\, facilitated by Vanessa Curri and other members of the group. Work on a different still-life composition in pencil/charcoals each week using newsprint technique. Sessions are accessible for all skill levels and no experience is necessary. Come work with others in a relaxed and supportive environment. If desired\, BYO snack/beverage of choice. \nThe cost is $15 for Carriage Barn members and students (age 25 & under) / $25 for non-members. Bring your own supplies\, pencils\, and kneaded erasers only\, please. Stools and drawing boards will be provided. \n  \n 
URL:https://livenewcanaan.org/event/drop-in-tuesday-adult-sketch-nights-at-the-carriage-barn-6/
LOCATION:Carriage Barn Arts Center
CATEGORIES:New Canaan Library Event
ATTACH;FMTTYPE=image/jpeg:https://livenewcanaan.org/wp-content/uploads/2023/01/Screen-Shot-2023-01-10-at-1.50.56-PM.jpg
END:VEVENT
BEGIN:VEVENT
DTSTART;TZID=America/New_York:20230224T200000
DTEND;TZID=America/New_York:20230224T210000
DTSTAMP:20260425T000044
CREATED:20230131T132726Z
LAST-MODIFIED:20230131T133036Z
UID:11335-1677268800-1677272400@livenewcanaan.org
SUMMARY:Live Theater – Ordinary People
DESCRIPTION:TOP ACTORS WILL “WOW” YOU IN THIS POWERFUL PLAY …\nEXPLORING THE DIFFICULT ISSUE OF MENTAL HEALTH. \nOVERVIEW: This play is based on the Oscar-winning “Best Picture” movie starring Donald Sutherland\, Mary Tyler Moore and Timothy Hutton\, by first-time director Robert Redford\, and the best-selling novel by Judith Guest. It explores the complex relationships of an ordinary family struggling to heal from an unexpected tragedy. \nPLOT: Teenager Conrad Jarrett is wracked with guilt over the death of his older brother Buck from a boating accident. What’s left of Conrad’s family – his successful\, well-intentioned father and his stylish\, organized mother – is in jeopardy\, as is Conrad himself. They are “ordinary people” coping with the omnipresent human emotions of loss\, grief\, guilt\, depression and love. This powerful play goes to the root of the Jarretts’ relationships\, exploring how the family grows apart in its struggle to heal yet ultimately moves forward with hope. \nWHY THIS PLAY?\nIn presenting this emotional story\, we endeavor to contribute to the conversation within our community around the important issue of mental health. Through the unique experience of live theater\, we seek to encourage contemplation and conversation\, destigmatize mental illness\, and increase empathy for those who are struggling. After all\, each of us is an ordinary person who\, at any time\, could experience sudden hardship like the Jarretts. Our shared understanding of this universal dilemma brings us together and reminds us of our humanity. \nRAISING AWARENESS: We also aim to raise awareness of the many wonderful resources New Canaan and our neighboring communities offer for mental health support. Additionally\, we thank our sponsors: Silver Hill Hospital\, New Canaan Human Services\, Connecticut Humanities\, and Russell and Katie Barksdale. We are especially grateful to Dr. Michael Groat\, chief clinical officer at Silver Hill Hospital\, for advising our cast and crew as they strive to identify with the characters and for hosting talkbacks with our audiences following each Sunday matinee performance. \nSUNDAY TALKBACKS: Audiences of our Sunday matinees are welcome to stay after the performance for a “talkback\,” an open discussion with Deborah Burke\, director of Ordinary People\, and Dr. Michael Groat\, chief clinical officer at Silver Hill Hospital\, who assisted our cast and crew with understanding the complex emotions portrayed in the play. The talkbacks are included in the price of admission. \nFOR MORE INFO AND TICKETS: https://tpnc.org/shows/ordinary-people/
URL:https://livenewcanaan.org/event/live-theater-ordinary-people-feb-24/
LOCATION:THE POWERHOUSE THEATER AT WAVENY PARK\, BOX 201\, New Cannan\, CT\, 06840
CATEGORIES:New Canaan Library Event
ATTACH;FMTTYPE=image/jpeg:https://livenewcanaan.org/wp-content/uploads/2022/09/LOGO_Ordinary-People-600x400-copy.jpg
END:VEVENT
BEGIN:VEVENT
DTSTART;TZID=America/New_York:20230225T200000
DTEND;TZID=America/New_York:20230225T210000
DTSTAMP:20260425T000044
CREATED:20230206T131107Z
LAST-MODIFIED:20230207T142521Z
UID:11427-1677355200-1677358800@livenewcanaan.org
SUMMARY:Ordinary People – Fundraising Event
DESCRIPTION:Dinner and drinks followed by the 8 PM …\nOrdinary People performance\, benefitting the New Canaan Urgent Assessment Program. \n  \nJoin the Town Players of New Canaan for this SPECIAL EVENT to benefit the New Canaan Urgent Assessment Program and raise mental health awareness. \nTickets for the general public will go on sale February 12th: https://tpnc.org/special-events/ \nWhen:\nSaturday\, Feb. 25\, 2023 \nWhat & Where:\n6 – 7:45 PM Dinner and Drinks at Carriage Barn Arts Center in Waveny Park\n8 – 10 PM Ordinary People performance at The Powerhouse Theatre in Waveny Park \nWhy:\nAll proceeds from ticket sales and donations for the February 25 performance will benefit the New Canaan Urgent Assessment Program (NCUA) Program\, a collaboration between the Town of New Canaan and Silver Hill Hospital to connect those in urgent need with a timely\, psychiatric assessment and referral for ongoing care. \nPhone: 203-594-3636\nEmail: info@tpnc.org\nFor more information\, click here. \nGroat cast photo caption Jan2023
URL:https://livenewcanaan.org/event/ordinary-people-fundraising-event/
LOCATION:THE POWERHOUSE THEATER AT WAVENY PARK\, BOX 201\, New Cannan\, CT\, 06840
CATEGORIES:New Canaan Library Event
ATTACH;FMTTYPE=image/png:https://livenewcanaan.org/wp-content/uploads/2023/02/large-Fundraiser_Poster_2.25.23.png
END:VEVENT
BEGIN:VEVENT
DTSTART;TZID=America/New_York:20230226T140000
DTEND;TZID=America/New_York:20230226T150000
DTSTAMP:20260425T000044
CREATED:20230131T133506Z
LAST-MODIFIED:20230131T133506Z
UID:11346-1677420000-1677423600@livenewcanaan.org
SUMMARY:Live Theater – Ordinary People
DESCRIPTION:TOP ACTORS WILL “WOW” YOU IN THIS POWERFUL PLAY …\nEXPLORING THE DIFFICULT ISSUE OF MENTAL HEALTH. \nOVERVIEW: This play is based on the Oscar-winning “Best Picture” movie starring Donald Sutherland\, Mary Tyler Moore and Timothy Hutton\, by first-time director Robert Redford\, and the best-selling novel by Judith Guest. It explores the complex relationships of an ordinary family struggling to heal from an unexpected tragedy. \nPLOT: Teenager Conrad Jarrett is wracked with guilt over the death of his older brother Buck from a boating accident. What’s left of Conrad’s family – his successful\, well-intentioned father and his stylish\, organized mother – is in jeopardy\, as is Conrad himself. They are “ordinary people” coping with the omnipresent human emotions of loss\, grief\, guilt\, depression and love. This powerful play goes to the root of the Jarretts’ relationships\, exploring how the family grows apart in its struggle to heal yet ultimately moves forward with hope. \nWHY THIS PLAY?\nIn presenting this emotional story\, we endeavor to contribute to the conversation within our community around the important issue of mental health. Through the unique experience of live theater\, we seek to encourage contemplation and conversation\, destigmatize mental illness\, and increase empathy for those who are struggling. After all\, each of us is an ordinary person who\, at any time\, could experience sudden hardship like the Jarretts. Our shared understanding of this universal dilemma brings us together and reminds us of our humanity. \nRAISING AWARENESS: We also aim to raise awareness of the many wonderful resources New Canaan and our neighboring communities offer for mental health support. Additionally\, we thank our sponsors: Silver Hill Hospital\, New Canaan Human Services\, Connecticut Humanities\, and Russell and Katie Barksdale. We are especially grateful to Dr. Michael Groat\, chief clinical officer at Silver Hill Hospital\, for advising our cast and crew as they strive to identify with the characters and for hosting talkbacks with our audiences following each Sunday matinee performance. \nSUNDAY TALKBACKS: Audiences of our Sunday matinees are welcome to stay after the performance for a “talkback\,” an open discussion with Deborah Burke\, director of Ordinary People\, and Dr. Michael Groat\, chief clinical officer at Silver Hill Hospital\, who assisted our cast and crew with understanding the complex emotions portrayed in the play. The talkbacks are included in the price of admission. \nFOR MORE INFO AND TICKETS: https://tpnc.org/shows/ordinary-people/
URL:https://livenewcanaan.org/event/live-theater-ordinary-people-feb-26/
LOCATION:THE POWERHOUSE THEATER AT WAVENY PARK\, BOX 201\, New Cannan\, CT\, 06840
CATEGORIES:New Canaan Library Event
ATTACH;FMTTYPE=image/jpeg:https://livenewcanaan.org/wp-content/uploads/2022/09/LOGO_Ordinary-People-600x400-copy.jpg
END:VEVENT
END:VCALENDAR