BEGIN:VCALENDAR
VERSION:2.0
PRODID:-//LiveNewCanaan - ECPv6.15.18//NONSGML v1.0//EN
CALSCALE:GREGORIAN
METHOD:PUBLISH
X-WR-CALNAME:LiveNewCanaan
X-ORIGINAL-URL:https://livenewcanaan.org
X-WR-CALDESC:Events for LiveNewCanaan
REFRESH-INTERVAL;VALUE=DURATION:PT1H
X-Robots-Tag:noindex
X-PUBLISHED-TTL:PT1H
BEGIN:VTIMEZONE
TZID:America/New_York
BEGIN:DAYLIGHT
TZOFFSETFROM:-0500
TZOFFSETTO:-0400
TZNAME:EDT
DTSTART:20240310T070000
END:DAYLIGHT
BEGIN:STANDARD
TZOFFSETFROM:-0400
TZOFFSETTO:-0500
TZNAME:EST
DTSTART:20241103T060000
END:STANDARD
BEGIN:DAYLIGHT
TZOFFSETFROM:-0500
TZOFFSETTO:-0400
TZNAME:EDT
DTSTART:20250309T070000
END:DAYLIGHT
BEGIN:STANDARD
TZOFFSETFROM:-0400
TZOFFSETTO:-0500
TZNAME:EST
DTSTART:20251102T060000
END:STANDARD
BEGIN:DAYLIGHT
TZOFFSETFROM:-0500
TZOFFSETTO:-0400
TZNAME:EDT
DTSTART:20260308T070000
END:DAYLIGHT
BEGIN:STANDARD
TZOFFSETFROM:-0400
TZOFFSETTO:-0500
TZNAME:EST
DTSTART:20261101T060000
END:STANDARD
END:VTIMEZONE
BEGIN:VEVENT
DTSTART;TZID=America/New_York:20250906T103000
DTEND;TZID=America/New_York:20250906T120000
DTSTAMP:20260422T195849
CREATED:20250830T110042Z
LAST-MODIFIED:20250830T110042Z
UID:14902-1757154600-1757160000@livenewcanaan.org
SUMMARY:Yoga and Movement with Pilin Anice
DESCRIPTION:Experience movement and music in the light-filled Court with renowned mindfulness and wellness expert\, Pilin Anice. This invigorating class takes participants through a breath-centered yoga practice while incorporating live music.nnPlease note\, this youga class will be held outdoors and are subject to cancellation due to rain. In the event of rain\, classes will be cancelled and refunded.
URL:https://livenewcanaan.org/event/yoga-and-movement-with-pilin-anice-6/
CATEGORIES:Grace Farms Event
END:VEVENT
BEGIN:VEVENT
DTSTART;TZID=America/New_York:20250913T110000
DTEND;TZID=America/New_York:20250913T120000
DTSTAMP:20260422T195849
CREATED:20250830T110103Z
LAST-MODIFIED:20250830T110103Z
UID:14912-1757761200-1757764800@livenewcanaan.org
SUMMARY:Nature Workshops by Kimberly Kelly: Slow Flower
DESCRIPTION:Inspired by the slow flower movement\, this hands-on workshop led by Grace Farms Director of Horticulture Kimberly Kelly promotes seasonal and sustainable cut flowers\, and emphasizes the importance of knowing a flower’s origin.
URL:https://livenewcanaan.org/event/nature-workshops-by-kimberly-kelly-slow-flower/
CATEGORIES:Grace Farms Event
END:VEVENT
BEGIN:VEVENT
DTSTART;TZID=America/New_York:20250913T150000
DTEND;TZID=America/New_York:20250913T160000
DTSTAMP:20260422T195849
CREATED:20250830T110105Z
LAST-MODIFIED:20250830T110105Z
UID:14913-1757775600-1757779200@livenewcanaan.org
SUMMARY:Alicja Kwade: ParaPosition Sculpture
DESCRIPTION:Experience the opening of ParaPosition\, a remarkable sculpture by Alicja Kwade\, made of slim interlocking steel frames supporting four boulders and a blue chair made of bronze\, in celebration of Grace Farms’ 10 Year Season.nnAt 3 pm\, Kwade will join Grace Farms’ Chief Strategic Officer and Founding Creative Director\, Chelsea Thatcher\, for a conversation about her inspiration and the sculpture’s dialogue with our site and mission.nnAbout ParaPosition:nParaPosition’s array of steel and stone draws viewers into the frame of this massive\, yet fragile\, universe. The substantial stones\, with their immense weight\, appear to defy gravity in an almost weightless balancing act. The chair beckons viewers to reflect on our relationship with the world and contemplate the fundamental nature of our existence.nnImage courtesy of the artist and 303 Gallery\, New York
URL:https://livenewcanaan.org/event/alicja-kwade-paraposition-sculpture/
CATEGORIES:Grace Farms Event
END:VEVENT
BEGIN:VEVENT
DTSTART;TZID=America/New_York:20250913T183000
DTEND;TZID=America/New_York:20250913T193000
DTSTAMP:20260422T195849
CREATED:20250830T110106Z
LAST-MODIFIED:20250830T110106Z
UID:14914-1757788200-1757791800@livenewcanaan.org
SUMMARY:Mocktails
DESCRIPTION:Enjoy an evening of crafting and sipping delicious mocktails with Grace Farms Pastry Chef and Educator Leah Jones. Follow Chef Leah’s recipes to create three seasonal beverages from ingredients inspired by Grace Farms Tea & Coffee\, while discovering connections between food\, culture\, and community.nnCulinary Experiences with Chef Leah Jones offer educational and interactive explorations of the complex ways in which food intersects with our lives.
URL:https://livenewcanaan.org/event/mocktails/
CATEGORIES:Grace Farms Event
END:VEVENT
BEGIN:VEVENT
DTSTART;TZID=America/New_York:20250919T150000
DTEND;TZID=America/New_York:20250919T163000
DTSTAMP:20260422T195849
CREATED:20250830T110300Z
LAST-MODIFIED:20250830T110300Z
UID:14929-1758294000-1758299400@livenewcanaan.org
SUMMARY:Afternoon Tea at Grace Farms
DESCRIPTION:Gather with your friends\, family\, or neighbors in the glass-enclosed Pavilion at Grace Farms to enjoy a pot of warm tea with an eye-catching assortment of delightful bites that fuse traditional English and Japanese flavors. Inspired by the elegance of English tea service\, this joyful afternoon of good conversation and original flavors is hosted by Pastry Chef and Educator Leah Jones and Tea Expert Frank Kwei.
URL:https://livenewcanaan.org/event/afternoon-tea-at-grace-farms/
CATEGORIES:Grace Farms Event
END:VEVENT
END:VCALENDAR