BEGIN:VCALENDAR
VERSION:2.0
PRODID:-//LiveNewCanaan - ECPv6.15.18//NONSGML v1.0//EN
CALSCALE:GREGORIAN
METHOD:PUBLISH
X-WR-CALNAME:LiveNewCanaan
X-ORIGINAL-URL:https://livenewcanaan.org
X-WR-CALDESC:Events for LiveNewCanaan
REFRESH-INTERVAL;VALUE=DURATION:PT1H
X-Robots-Tag:noindex
X-PUBLISHED-TTL:PT1H
BEGIN:VTIMEZONE
TZID:America/New_York
BEGIN:DAYLIGHT
TZOFFSETFROM:-0500
TZOFFSETTO:-0400
TZNAME:EDT
DTSTART:20240310T070000
END:DAYLIGHT
BEGIN:STANDARD
TZOFFSETFROM:-0400
TZOFFSETTO:-0500
TZNAME:EST
DTSTART:20241103T060000
END:STANDARD
BEGIN:DAYLIGHT
TZOFFSETFROM:-0500
TZOFFSETTO:-0400
TZNAME:EDT
DTSTART:20250309T070000
END:DAYLIGHT
BEGIN:STANDARD
TZOFFSETFROM:-0400
TZOFFSETTO:-0500
TZNAME:EST
DTSTART:20251102T060000
END:STANDARD
BEGIN:DAYLIGHT
TZOFFSETFROM:-0500
TZOFFSETTO:-0400
TZNAME:EDT
DTSTART:20260308T070000
END:DAYLIGHT
BEGIN:STANDARD
TZOFFSETFROM:-0400
TZOFFSETTO:-0500
TZNAME:EST
DTSTART:20261101T060000
END:STANDARD
END:VTIMEZONE
BEGIN:VEVENT
DTSTART;TZID=America/New_York:20250124T183000
DTEND;TZID=America/New_York:20250124T201500
DTSTAMP:20260423T091110
CREATED:20250103T115423Z
LAST-MODIFIED:20250117T105757Z
UID:14710-1737743400-1737749700@livenewcanaan.org
SUMMARY:Humanity in Architecture Film Festival
DESCRIPTION:A weekend of films\, conversations\, and more celebrating architecture’s impact on people and communities\, presented by Grace Farms and Architecture & Design Film Festival\nJoin Grace Farms for a weekend of films exploring the built environment’s power to enrich our human experience and to remind us of our capacity to create positive change in the world.\nThe opening night premiere of Strange & Familiar: Architecture on Fogo Island will be followed by a dialogue between visionary Zita Cobb and Grace Farms CEO and Founder Sharon Prince\, alongside Kyle Bergman\, Festival Director & Founder of Architecture & Design Film Festival\, and Toshihiro Oki\, Grace Farms Architecture Advisor.\nOn Saturday\, enjoy a full day of films amplifying Grace Farms’ longstanding belief that architecture moves us and inspires us to address the most pressing humanitarian issues of our time.
URL:https://livenewcanaan.org/event/humanity-in-architecture-film-festival/
LOCATION:Grace Farms\, 365 Lukes Wood Rd\, New Canaan\, CT\, United States
CATEGORIES:Grace Farms Event
ATTACH;FMTTYPE=image/png:https://livenewcanaan.org/wp-content/uploads/2025/01/Film-Festival_Web-LuQcFL.tmp_.png
ORGANIZER;CN="Grace Farms":MAILTO:info@gracefarms.org
END:VEVENT
BEGIN:VEVENT
DTSTART;TZID=America/New_York:20250125T103000
DTEND;TZID=America/New_York:20250125T194500
DTSTAMP:20260423T091110
CREATED:20250103T115427Z
LAST-MODIFIED:20250117T105758Z
UID:14713-1737801000-1737834300@livenewcanaan.org
SUMMARY:Humanity in Architecture Film Festival
DESCRIPTION:A weekend of films\, conversations\, and more celebrating architecture’s impact on people and communities\, presented by Grace Farms and Architecture & Design Film Festival\nJoin Grace Farms for a weekend of films exploring the built environment’s power to enrich our human experience and to remind us of our capacity to create positive change in the world.\nThe opening night premiere of Strange & Familiar: Architecture on Fogo Island will be followed by a dialogue between visionary Zita Cobb and Grace Farms CEO and Founder Sharon Prince\, alongside Kyle Bergman\, Festival Director & Founder of Architecture & Design Film Festival\, and Toshihiro Oki\, Grace Farms Architecture Advisor.\nOn Saturday\, enjoy a full day of films amplifying Grace Farms’ longstanding belief that architecture moves us and inspires us to address the most pressing humanitarian issues of our time.
URL:https://livenewcanaan.org/event/humanity-in-architecture-film-festival-2/
LOCATION:Grace Farms\, 365 Lukes Wood Rd\, New Canaan\, CT\, United States
CATEGORIES:Grace Farms Event
ATTACH;FMTTYPE=image/png:https://livenewcanaan.org/wp-content/uploads/2025/01/Film-Festival_Web-LuQcFL.tmp_.png
ORGANIZER;CN="Grace Farms":MAILTO:info@gracefarms.org
END:VEVENT
BEGIN:VEVENT
DTSTART;TZID=America/New_York:20250130T190000
DTEND;TZID=America/New_York:20250130T200000
DTSTAMP:20260423T091110
CREATED:20250103T115427Z
LAST-MODIFIED:20250117T105801Z
UID:14714-1738263600-1738267200@livenewcanaan.org
SUMMARY:Seasonal Stories with Architectural Photographer James Florio
DESCRIPTION:Architectural photographer James Florio is Grace Farms’ Artist-in-Residence\, visiting throughout the seasons to build a body of work composed on large format film.\nEncounter Florio’s creative process during this mid-residency presentation in the Grace Farms Library\, which will temporarily transform to display his work\, along with curated elements representing his Montana studio. Florio will share stories about immersing himself into the rhythms of nature to document the changing seasons at Grace Farms\, in a conversation with Grace Farms Chief Strategy Officer and Founding Creative Director\, Chelsea Thatcher. Complimentary tea will be provided.\nLarge format film removes barriers between the viewer and image to capture the world as it is: simple yet complex\, imperfect but beautiful. During his residency\, Florio explores how the River building—with glass walls that remove barriers between people and nature—transforms with the landscape across the seasons.
URL:https://livenewcanaan.org/event/seasonal-stories-with-architectural-photographer-james-florio/
LOCATION:Grace Farms\, 365 Lukes Wood Rd\, New Canaan\, CT\, United States
CATEGORIES:Grace Farms Event
ATTACH;FMTTYPE=image/png:https://livenewcanaan.org/wp-content/uploads/2025/01/James-Florio-2025-Web-0sEKSi.tmp_.png
ORGANIZER;CN="Grace Farms":MAILTO:info@gracefarms.org
END:VEVENT
END:VCALENDAR