BEGIN:VCALENDAR
VERSION:2.0
PRODID:-//LiveNewCanaan - ECPv6.15.18//NONSGML v1.0//EN
CALSCALE:GREGORIAN
METHOD:PUBLISH
X-ORIGINAL-URL:https://livenewcanaan.org
X-WR-CALDESC:Events for LiveNewCanaan
REFRESH-INTERVAL;VALUE=DURATION:PT1H
X-Robots-Tag:noindex
X-PUBLISHED-TTL:PT1H
BEGIN:VTIMEZONE
TZID:America/New_York
BEGIN:DAYLIGHT
TZOFFSETFROM:-0500
TZOFFSETTO:-0400
TZNAME:EDT
DTSTART:20230312T070000
END:DAYLIGHT
BEGIN:STANDARD
TZOFFSETFROM:-0400
TZOFFSETTO:-0500
TZNAME:EST
DTSTART:20231105T060000
END:STANDARD
BEGIN:DAYLIGHT
TZOFFSETFROM:-0500
TZOFFSETTO:-0400
TZNAME:EDT
DTSTART:20240310T070000
END:DAYLIGHT
BEGIN:STANDARD
TZOFFSETFROM:-0400
TZOFFSETTO:-0500
TZNAME:EST
DTSTART:20241103T060000
END:STANDARD
BEGIN:DAYLIGHT
TZOFFSETFROM:-0500
TZOFFSETTO:-0400
TZNAME:EDT
DTSTART:20250309T070000
END:DAYLIGHT
BEGIN:STANDARD
TZOFFSETFROM:-0400
TZOFFSETTO:-0500
TZNAME:EST
DTSTART:20251102T060000
END:STANDARD
END:VTIMEZONE
BEGIN:VEVENT
DTSTART;TZID=America/New_York:20240504T100000
DTEND;TZID=America/New_York:20240504T170000
DTSTAMP:20260423T221731
CREATED:20240329T073037Z
LAST-MODIFIED:20240425T112124Z
UID:13773-1714816800-1714842000@livenewcanaan.org
SUMMARY:With Every Fiber | Exhibit Grand Opening
DESCRIPTION:Attend pop-up talks hosted by Grace Farms Chief Strategy Officer and Founding Creative Director Chelsea Thatcher to commemorate the opening of Grace Farms’ newest exhibit\, With Every Fiber. Learn more about how With Every Fiber embraces Grace Farms Foundation’s values and commitments to raising awareness of forced labor in the building materials supply chain.
URL:https://livenewcanaan.org/event/with-every-fiber-exhibit-grand-opening/
LOCATION:Grace Farms\, 365 Lukes Wood Road\, New Canaan\, CT\, 06840\, United States
CATEGORIES:Grace Farms Event
ATTACH;FMTTYPE=image/png:https://livenewcanaan.org/wp-content/uploads/2024/03/With-Every-Fiber-qcu1e2.tmp_.png
ORGANIZER;CN="Grace Farms":MAILTO:info@gracefarms.org
END:VEVENT
BEGIN:VEVENT
DTSTART;TZID=America/New_York:20240504T100000
DTEND;TZID=America/New_York:20240504T170000
DTSTAMP:20260423T221731
CREATED:20240425T112120Z
LAST-MODIFIED:20240425T112120Z
UID:13933-1714816800-1714842000@livenewcanaan.org
SUMMARY:With Every Fiber | Exhibit Grand Opening
DESCRIPTION:Attend pop-up talks hosted by Grace Farms Chief Strategy Officer and Founding Creative Director Chelsea Thatcher to commemorate the opening of Grace Farms’ newest exhibit\, With Every Fiber. Learn more about how With Every Fiber embraces Grace Farms Foundation’s values and commitments to raising awareness of forced labor in the building materials supply chain.
URL:https://livenewcanaan.org/event/with-every-fiber-exhibit-grand-opening-2/
LOCATION:Grace Farms\, 365 Lukes Wood Road\, New Canaan\, CT\, 06840\, United States
CATEGORIES:Grace Farms Event
ORGANIZER;CN="Grace Farms":MAILTO:info@gracefarms.org
END:VEVENT
BEGIN:VEVENT
DTSTART;TZID=America/New_York:20240504T103000
DTEND;TZID=America/New_York:20240504T120000
DTSTAMP:20260423T221731
CREATED:20240329T073037Z
LAST-MODIFIED:20240425T112124Z
UID:13770-1714818600-1714824000@livenewcanaan.org
SUMMARY:Yoga and Movement with Pilin Anice
DESCRIPTION:Step into the airy Court in the River building for a movement class designed for all levels led by Pilin Anice\, a renowned yoga\, dance\, and meditation instructor\, as well as faculty member at Kripalu and Ailey Extension.
URL:https://livenewcanaan.org/event/yoga-and-movement-with-pilin-anice-3/
LOCATION:Grace Farms\, 365 Lukes Wood Road\, New Canaan\, CT\, 06840\, United States
CATEGORIES:Grace Farms Event
ATTACH;FMTTYPE=image/png:https://livenewcanaan.org/wp-content/uploads/2024/03/Wellness-with-Pilin-NC-copy-UDuWRI.tmp_.png
ORGANIZER;CN="Grace Farms":MAILTO:info@gracefarms.org
END:VEVENT
BEGIN:VEVENT
DTSTART;TZID=America/New_York:20240504T110000
DTEND;TZID=America/New_York:20240504T120000
DTSTAMP:20260423T221731
CREATED:20240425T112121Z
LAST-MODIFIED:20240425T112121Z
UID:13936-1714820400-1714824000@livenewcanaan.org
SUMMARY:Birdwatching Walk
DESCRIPTION:Birdwatchers of all experience levels\, join birder and educator Frank Mantlik for a guided walk through our scenic nature trails in search of migratory birds returning north after the winter.\nFrank Mantlik is a former president of the Connecticut Ornithological Association and currently serves on its Avian Records Committee. Also a photographer\, his images have been featured in The New York Times\, American Birds\, Birding\, and Bird Watcher’s Digest.
URL:https://livenewcanaan.org/event/birdwatching-walk/
LOCATION:Grace Farms\, 365 Lukes Wood Road\, New Canaan\, CT\, 06840\, United States
CATEGORIES:Grace Farms Event
ATTACH;FMTTYPE=image/png:https://livenewcanaan.org/wp-content/uploads/2024/04/Bird-ul72Rz.tmp_.png
ORGANIZER;CN="Grace Farms":MAILTO:info@gracefarms.org
END:VEVENT
BEGIN:VEVENT
DTSTART;TZID=America/New_York:20240511T110000
DTEND;TZID=America/New_York:20240511T120000
DTSTAMP:20260423T221731
CREATED:20240509T131136Z
LAST-MODIFIED:20240509T131400Z
UID:13995-1715425200-1715428800@livenewcanaan.org
SUMMARY:Birdwatching Walk
DESCRIPTION:Birdwatchers of all experience levels\, join birder and educator Frank Mantlik for a guided walk through our scenic nature trails in search of migratory birds returning north after the winter.\nFrank Mantlik is a former president of the Connecticut Ornithological Association and currently serves on its Avian Records Committee. Also a photographer\, his images have been featured in The New York Times\, American Birds\, Birding\, and Bird Watcher’s Digest.
URL:https://livenewcanaan.org/event/birdwatching-walk-2/
LOCATION:Grace Farms\, 365 Lukes Wood Road\, New Canaan\, CT\, 06840\, United States
CATEGORIES:Grace Farms Event
ATTACH;FMTTYPE=image/png:https://livenewcanaan.org/wp-content/uploads/2024/04/Bird-ul72Rz.tmp_.png
ORGANIZER;CN="Grace Farms":MAILTO:info@gracefarms.org
END:VEVENT
BEGIN:VEVENT
DTSTART;TZID=America/New_York:20240512T150000
DTEND;TZID=America/New_York:20240512T160000
DTSTAMP:20260423T221731
CREATED:20240509T131139Z
LAST-MODIFIED:20240509T131400Z
UID:13999-1715526000-1715529600@livenewcanaan.org
SUMMARY:Global Groceries | The World of Food
DESCRIPTION:Explore the origins of popular ingredients on this deep dive into the relationship between groceries and geography. Learn about the journey your food takes before it arrives on your plate\, and why shopping seasonally can help create delicious dishes\, and more.\nChef’s Palate\, hosted by Grace Farms Founding Pastry Chef and educator Leah Jones\, is a series of educational conversations designed to inspire new perspectives on everyday ingredients\, groceries\, and meals.
URL:https://livenewcanaan.org/event/global-groceries-the-world-of-food/
LOCATION:Grace Farms\, 365 Lukes Wood Road\, New Canaan\, CT\, 06840\, United States
CATEGORIES:Grace Farms Event
ATTACH;FMTTYPE=image/png:https://livenewcanaan.org/wp-content/uploads/2024/05/Chefs-Palate-Global-Groceries-czMbZw.tmp_.png
ORGANIZER;CN="Grace Farms":MAILTO:info@gracefarms.org
END:VEVENT
END:VCALENDAR