BEGIN:VCALENDAR
VERSION:2.0
PRODID:-//LiveNewCanaan - ECPv6.15.18//NONSGML v1.0//EN
CALSCALE:GREGORIAN
METHOD:PUBLISH
X-WR-CALNAME:LiveNewCanaan
X-ORIGINAL-URL:https://livenewcanaan.org
X-WR-CALDESC:Events for LiveNewCanaan
REFRESH-INTERVAL;VALUE=DURATION:PT1H
X-Robots-Tag:noindex
X-PUBLISHED-TTL:PT1H
BEGIN:VTIMEZONE
TZID:America/New_York
BEGIN:DAYLIGHT
TZOFFSETFROM:-0500
TZOFFSETTO:-0400
TZNAME:EDT
DTSTART:20230312T070000
END:DAYLIGHT
BEGIN:STANDARD
TZOFFSETFROM:-0400
TZOFFSETTO:-0500
TZNAME:EST
DTSTART:20231105T060000
END:STANDARD
BEGIN:DAYLIGHT
TZOFFSETFROM:-0500
TZOFFSETTO:-0400
TZNAME:EDT
DTSTART:20240310T070000
END:DAYLIGHT
BEGIN:STANDARD
TZOFFSETFROM:-0400
TZOFFSETTO:-0500
TZNAME:EST
DTSTART:20241103T060000
END:STANDARD
BEGIN:DAYLIGHT
TZOFFSETFROM:-0500
TZOFFSETTO:-0400
TZNAME:EDT
DTSTART:20250309T070000
END:DAYLIGHT
BEGIN:STANDARD
TZOFFSETFROM:-0400
TZOFFSETTO:-0500
TZNAME:EST
DTSTART:20251102T060000
END:STANDARD
END:VTIMEZONE
BEGIN:VEVENT
DTSTART;TZID=America/New_York:20240307T190000
DTEND;TZID=America/New_York:20240307T200000
DTSTAMP:20260424T015040
CREATED:20240307T144853Z
LAST-MODIFIED:20240307T144853Z
UID:13542-1709838000-1709841600@livenewcanaan.org
SUMMARY:Building AI for the Greater Good
DESCRIPTION:Hear from leaders exploring the vast field of AI as a tool for fostering positive outcomes and advancing equity. Moderator Karen Kariuki\, Grace Farms Senior Program Officer\, will be joined onstage by Stephanie Dinkins\, Kusama Endowed Chair in Art at Stony Brook University and advocate for inclusive AI; Liz Grennan\, Global Co-Lead for McKinsey’s Digital Trust service line; and Mia Shah-Dand\, Founder of Women in AI Ethics and Lighthouse3\, a consultancy focusing on responsible AI and data governance.
URL:https://livenewcanaan.org/event/building-ai-for-the-greater-good/
LOCATION:Grace Farms\, 365 Lukes Wood Road\, New Canaan\, CT\, 06840\, United States
CATEGORIES:Grace Farms Event
ATTACH;FMTTYPE=image/png:https://livenewcanaan.org/wp-content/uploads/2024/03/030723-Building-AI-speaker-image7-EXAA6Z.tmp_.png
ORGANIZER;CN="Grace Farms":MAILTO:info@gracefarms.org
END:VEVENT
BEGIN:VEVENT
DTSTART;TZID=America/New_York:20240309T150000
DTEND;TZID=America/New_York:20240309T160000
DTSTAMP:20260424T015040
CREATED:20240307T144904Z
LAST-MODIFIED:20240307T144904Z
UID:13552-1709996400-1710000000@livenewcanaan.org
SUMMARY:Chef’s Palate | The Science of Flavor
DESCRIPTION:Refine your palate during this interactive sensory experience led by Grace Farms’ Pastry Chef Leah Jones\, who discusses the science behind our taste buds\, explores memorable flavor pairings\, and demonstrates how to rely on each sense to become a stronger cook who can craft an unforgettable dish full of flavor.
URL:https://livenewcanaan.org/event/chefs-palate-the-science-of-flavor/
LOCATION:Grace Farms\, 365 Lukes Wood Road\, New Canaan\, CT\, 06840\, United States
CATEGORIES:Grace Farms Event
ATTACH;FMTTYPE=image/png:https://livenewcanaan.org/wp-content/uploads/2024/03/Science-of-Flavor-Web-hKZzRx.tmp_.png
ORGANIZER;CN="Grace Farms":MAILTO:info@gracefarms.org
END:VEVENT
BEGIN:VEVENT
DTSTART;TZID=America/New_York:20240316T110000
DTEND;TZID=America/New_York:20240316T120000
DTSTAMP:20260424T015040
CREATED:20240307T144914Z
LAST-MODIFIED:20240311T070517Z
UID:13571-1710586800-1710590400@livenewcanaan.org
SUMMARY:Gardening Workshop | Beekeeping Basics
DESCRIPTION:Learn the fundamentals and seasonal rhythms of beekeeping from Master Gardener Lauren Elliott during this workshop covering how to start your own hive. Includes a honey tasting and cup of tea.
URL:https://livenewcanaan.org/event/gardening-workshop-beekeeping-basics/
LOCATION:Grace Farms\, 365 Lukes Wood Road\, New Canaan\, CT\, 06840\, United States
CATEGORIES:Grace Farms Event
ATTACH;FMTTYPE=image/jpeg:https://livenewcanaan.org/wp-content/uploads/2024/03/Beekeeping_Basics_Web-VIvDbQ.tmp_.jpg
ORGANIZER;CN="Grace Farms":MAILTO:info@gracefarms.org
END:VEVENT
BEGIN:VEVENT
DTSTART;TZID=America/New_York:20240317T150000
DTEND;TZID=America/New_York:20240317T160000
DTSTAMP:20260424T015040
CREATED:20240307T144916Z
LAST-MODIFIED:20240311T070518Z
UID:13576-1710687600-1710691200@livenewcanaan.org
SUMMARY:Grace Farms Family Tour
DESCRIPTION:This interactive tour invites families to explore Grace Farms’ River building as it twists and turns through Grace Farms’ natural landscape. Build models\, play with some of the materials used to create our homes and community spaces\, and discover how a building’s design can reduce its impact on the environment. (Recommended for ages 5 and up with adult caregivers.)
URL:https://livenewcanaan.org/event/grace-farms-family-tour/
LOCATION:Grace Farms\, 365 Lukes Wood Road\, New Canaan\, CT\, 06840\, United States
CATEGORIES:Grace Farms Event
ATTACH;FMTTYPE=image/png:https://livenewcanaan.org/wp-content/uploads/2024/03/Grace-Farms-Family-Tour-Thumb-FQt6B6.tmp_.png
ORGANIZER;CN="Grace Farms":MAILTO:info@gracefarms.org
END:VEVENT
BEGIN:VEVENT
DTSTART;TZID=America/New_York:20240323T110000
DTEND;TZID=America/New_York:20240323T120000
DTSTAMP:20260424T015040
CREATED:20240307T144922Z
LAST-MODIFIED:20240322T063318Z
UID:13585-1711191600-1711195200@livenewcanaan.org
SUMMARY:Nature’s Classroom | Spring’s Native Wildflowers
DESCRIPTION:Join Grace Farms’ Horticulture Advisor Kimberly Kelly to learn about the important role ephemerals and wildflowers play in providing food for beneficial insects and other woodland creatures during the spring — and how to incorporate these plants into your own landscape.
URL:https://livenewcanaan.org/event/natures-classroom-springs-native-wildflowers/
LOCATION:Grace Farms\, 365 Lukes Wood Road\, New Canaan\, CT\, 06840\, United States
CATEGORIES:Grace Farms Event
ATTACH;FMTTYPE=image/jpeg:https://livenewcanaan.org/wp-content/uploads/2024/03/Native_Wildflowers_Web-YpammP.tmp_.jpg
ORGANIZER;CN="Grace Farms":MAILTO:info@gracefarms.org
END:VEVENT
END:VCALENDAR