BEGIN:VCALENDAR
VERSION:2.0
PRODID:-//LiveNewCanaan - ECPv6.15.18//NONSGML v1.0//EN
CALSCALE:GREGORIAN
METHOD:PUBLISH
X-ORIGINAL-URL:https://livenewcanaan.org
X-WR-CALDESC:Events for LiveNewCanaan
REFRESH-INTERVAL;VALUE=DURATION:PT1H
X-Robots-Tag:noindex
X-PUBLISHED-TTL:PT1H
BEGIN:VTIMEZONE
TZID:America/New_York
BEGIN:DAYLIGHT
TZOFFSETFROM:-0500
TZOFFSETTO:-0400
TZNAME:EDT
DTSTART:20220313T070000
END:DAYLIGHT
BEGIN:STANDARD
TZOFFSETFROM:-0400
TZOFFSETTO:-0500
TZNAME:EST
DTSTART:20221106T060000
END:STANDARD
BEGIN:DAYLIGHT
TZOFFSETFROM:-0500
TZOFFSETTO:-0400
TZNAME:EDT
DTSTART:20230312T070000
END:DAYLIGHT
BEGIN:STANDARD
TZOFFSETFROM:-0400
TZOFFSETTO:-0500
TZNAME:EST
DTSTART:20231105T060000
END:STANDARD
BEGIN:DAYLIGHT
TZOFFSETFROM:-0500
TZOFFSETTO:-0400
TZNAME:EDT
DTSTART:20240310T070000
END:DAYLIGHT
BEGIN:STANDARD
TZOFFSETFROM:-0400
TZOFFSETTO:-0500
TZNAME:EST
DTSTART:20241103T060000
END:STANDARD
END:VTIMEZONE
BEGIN:VEVENT
DTSTART;TZID=America/New_York:20230909T110000
DTEND;TZID=America/New_York:20230909T120000
DTSTAMP:20260424T122702
CREATED:20230905T115840Z
LAST-MODIFIED:20230905T115840Z
UID:12349-1694257200-1694260800@livenewcanaan.org
SUMMARY:Living Classroom | Explore the Meadows
DESCRIPTION:Meadows are home to diverse plant communities that weave together to form a highly functioning tapestry of life. Walking through nature trails\, explore how meadows are a community of plant and animal life that conserves water\, suppresses weeds\, and creates a four-season landscape.\nThis program includes walking through nature trails. Please dress accordingly.\nLiving Classroom invites guests to learn more about nature from different aspects of the “living classroom” that is Grace Farms’ 80-acre nature preserve. This series runs from June to November and is led by our Horticulture Advisor\, Kimberly Kelly.\nGrace Farms is located at 365 Lukes Wood Road\, New Canaan\, CT 06840.\nMembers enjoy a 20% discount on programs. Learn more about Membership.\nStudents ages 18 and up qualify for 30% off with the exception of a few select events. Please show your student I.D. or proof of enrollment at check-in.\nChildren ages 17 and under qualify for a special child price when available.
URL:https://livenewcanaan.org/event/living-classroom-explore-the-meadows/
LOCATION:Grace Farms Foundation\, 365 Lukes Wood Road\, New Canaan\, CT\, 06840\, United States
CATEGORIES:Grace Farms Event
ATTACH;FMTTYPE=image/jpeg:https://livenewcanaan.org/wp-content/uploads/2023/09/JD-052622-029-1-scaled-jyraVw.tmp_.jpg
END:VEVENT
BEGIN:VEVENT
DTSTART;TZID=America/New_York:20230915T103000
DTEND;TZID=America/New_York:20230915T120000
DTSTAMP:20260424T122702
CREATED:20230905T115856Z
LAST-MODIFIED:20230905T115856Z
UID:12370-1694773800-1694779200@livenewcanaan.org
SUMMARY:Films About Food | Gather
DESCRIPTION:Join us for a screening of Gather\, a documentary taking a close look at Indigenous American movements that aim to rediscover identity and reclaim sovereignty through ancestral foods.\nThis fall\, we invite you into our food equity work with Films about Food\, a monthly film screening series that examines various aspects of the world’s food systems. From community and consumer choices to regenerative agriculture\, these films inspire and give hope for how individuals and institutions are adapting for greater equity and sustainability.\nGrace Farms is located at 365 Lukes Wood Road\, New Canaan\, CT 06840.\nMembers enjoy a 20% discount on programs. Learn more about Membership.\nStudents ages 18 and up qualify for 30% off with the exception of a few select events. Please show your student I.D. or proof of enrollment at check-in.\nChildren ages 17 and under qualify for a special child price when available.
URL:https://livenewcanaan.org/event/films-about-food-gather/
LOCATION:Grace Farms Foundation\, 365 Lukes Wood Road\, New Canaan\, CT\, 06840\, United States
CATEGORIES:Grace Farms Event
ATTACH;FMTTYPE=image/jpeg:https://livenewcanaan.org/wp-content/uploads/2023/09/9.15.23-Films-About-Food-Gather-1704x1704-for-Ticketure-thumb.jpg-0-8puidk.tmp_.jpg
END:VEVENT
BEGIN:VEVENT
DTSTART;TZID=America/New_York:20230923T110000
DTEND;TZID=America/New_York:20230923T120000
DTSTAMP:20260424T122702
CREATED:20230905T115904Z
LAST-MODIFIED:20230905T115904Z
UID:12384-1695466800-1695470400@livenewcanaan.org
SUMMARY:Bird and Butterfly Walk
DESCRIPTION:Embark on a guided walk with Master Birder Frank Mantlik during peak seasonal migration of songbirds\, swallows\, hawks\, and water birds\, as well as monarchs and other butterflies passing through Grace Farms.\nGrace Farms is located at 365 Lukes Wood Road\, New Canaan\, CT 06840.\nMembers enjoy a 20% discount on programs. Learn more about Membership.\nStudents ages 18 and up qualify for 30% off with the exception of a few select events. Please show your student I.D. or proof of enrollment at check-in.\nChildren ages 17 and under qualify for a special child price when available.
URL:https://livenewcanaan.org/event/bird-and-butterfly-walk-2/
LOCATION:Grace Farms Foundation\, 365 Lukes Wood Road\, New Canaan\, CT\, 06840\, United States
CATEGORIES:Grace Farms Event
ATTACH;FMTTYPE=image/png:https://livenewcanaan.org/wp-content/uploads/2023/09/Bird-and-Butterfly-Walks-1024x480-for-Ticketure-header-TZpUtq.tmp_.png
END:VEVENT
BEGIN:VEVENT
DTSTART;TZID=America/New_York:20230930T193000
DTEND;TZID=America/New_York:20230930T210000
DTSTAMP:20260424T122702
CREATED:20230927T090547Z
LAST-MODIFIED:20230927T090547Z
UID:12590-1696102200-1696107600@livenewcanaan.org
SUMMARY:Voices of Culture | Bobby Sanabria’s Multiverse Big Band
DESCRIPTION:Drumroll please! Bobby Sanabria’s Multiverse Big Band takes the Sanctuary stage on Saturday\, September 30th for our next Voices of Culture concert.\nSeven-time Grammy nominee Bobby Sanabria is a noted drummer\, percussionist\, composer\, arranger\, activist\, and a bandleader renowned throughout New York’s boroughs and beyond. As a drummer\, he has recorded and performed with legends\, including the “Godfather of Afro-Cuban Jazz\,” Mario Bauzá.\nSanabria is the Co-Artistic Director of the Bronx Music Heritage Center and is part of Jazz at Lincoln Center’s Jazz Academy\, as well as The Weill Music Institute at Carnegie Hall. He has conducted and performed as a soloist with orchestras including the WDR Big Band\, The Airmen of Note\, The U.S. Jazz Ambassadors\, and many more. Sanabria hosts WBGO’s Latin Jazz Cruise program.\nVoices of Culture is a standout concert series curated by our Music Director\, Marcus G. Miller\, exploring beauty in different musical traditions.\nGrace Farms Members are invited to join us for a reception before the concert from 6 – 7:30 pm. Please be sure to log in on our ticketing page to access registration for the Member Reception.\nGrace Farms is located at 365 Lukes Wood Road\, New Canaan\, CT 06840.\nMembers enjoy a 20% discount on programs. Learn more about Membership.\nStudents ages 18 and up qualify for 30% off with the exception of a few select events. Please show your student I.D. or proof of enrollment at check-in.\nChildren ages 17 and under qualify for a special child price when available.
URL:https://livenewcanaan.org/event/voices-of-culture-bobby-sanabrias-multiverse-big-band/
LOCATION:Grace Farms Foundation\, 365 Lukes Wood Road\, New Canaan\, CT\, 06840\, United States
CATEGORIES:Grace Farms Event
ATTACH;FMTTYPE=image/jpeg:https://livenewcanaan.org/wp-content/uploads/2023/09/Bobby-Sanabria-Ticketure-Header-scaled-008STZ.tmp_.jpg
END:VEVENT
END:VCALENDAR