BEGIN:VCALENDAR
VERSION:2.0
PRODID:-//LiveNewCanaan - ECPv6.15.18//NONSGML v1.0//EN
CALSCALE:GREGORIAN
METHOD:PUBLISH
X-WR-CALNAME:LiveNewCanaan
X-ORIGINAL-URL:https://livenewcanaan.org
X-WR-CALDESC:Events for LiveNewCanaan
REFRESH-INTERVAL;VALUE=DURATION:PT1H
X-Robots-Tag:noindex
X-PUBLISHED-TTL:PT1H
BEGIN:VTIMEZONE
TZID:America/New_York
BEGIN:DAYLIGHT
TZOFFSETFROM:-0500
TZOFFSETTO:-0400
TZNAME:EDT
DTSTART:20210314T070000
END:DAYLIGHT
BEGIN:STANDARD
TZOFFSETFROM:-0400
TZOFFSETTO:-0500
TZNAME:EST
DTSTART:20211107T060000
END:STANDARD
BEGIN:DAYLIGHT
TZOFFSETFROM:-0500
TZOFFSETTO:-0400
TZNAME:EDT
DTSTART:20220313T070000
END:DAYLIGHT
BEGIN:STANDARD
TZOFFSETFROM:-0400
TZOFFSETTO:-0500
TZNAME:EST
DTSTART:20221106T060000
END:STANDARD
BEGIN:DAYLIGHT
TZOFFSETFROM:-0500
TZOFFSETTO:-0400
TZNAME:EDT
DTSTART:20230312T070000
END:DAYLIGHT
BEGIN:STANDARD
TZOFFSETFROM:-0400
TZOFFSETTO:-0500
TZNAME:EST
DTSTART:20231105T060000
END:STANDARD
END:VTIMEZONE
BEGIN:VEVENT
DTSTART;TZID=America/New_York:20220329T100000
DTEND;TZID=America/New_York:20220329T130000
DTSTAMP:20260425T191135
CREATED:20220318T183904Z
LAST-MODIFIED:20220318T183904Z
UID:10123-1648548000-1648558800@livenewcanaan.org
SUMMARY:Building an Inclusive Community | Inclusion Training Course for Parents
DESCRIPTION:Even in families that care deeply about values like fairness\, love\, inclusion\, and equality\, parents often struggle to engage their children in conversations about race\, racism\, and other systems of oppression. But when approached with intention\, parents and caregivers can play a powerful role in how children exhibit these important values and make meaning of the world around them. \nJoin Grace Farms for a training course\, moderated by Kate Gerson and Samantha Hoare from REthinc\, providing parents with supportive tools\, strategies\, and approaches to ensure that their children are good friends and neighbors\, work to strengthen their communities\, and ultimately live into values of inclusion. Bring a friend and join us in building a more inclusive community. \nHosted in partnership with REthinc\, an interracial consulting group focused on building inclusive\, equitable organizations in the public and private sectors.
URL:https://livenewcanaan.org/event/building-an-inclusive-community-inclusion-training-course-for-parents/
LOCATION:Grace Farms\, 365 Lukes Wood Rd\, New Canaan\, CT\, United States
CATEGORIES:Community Discussion,Grace Farms Event
ATTACH;FMTTYPE=image/jpeg:https://livenewcanaan.org/wp-content/uploads/2022/03/rethinc_trainings_parents_ticketure_grace_farms-lhDrSb.tmp_.jpg
ORGANIZER;CN="Grace Farms Foundation":MAILTO:rhayes@gracefarmsfoundation.org
END:VEVENT
END:VCALENDAR