BEGIN:VCALENDAR
VERSION:2.0
PRODID:-//LiveNewCanaan - ECPv6.15.18//NONSGML v1.0//EN
CALSCALE:GREGORIAN
METHOD:PUBLISH
X-ORIGINAL-URL:https://livenewcanaan.org
X-WR-CALDESC:Events for LiveNewCanaan
REFRESH-INTERVAL;VALUE=DURATION:PT1H
X-Robots-Tag:noindex
X-PUBLISHED-TTL:PT1H
BEGIN:VTIMEZONE
TZID:America/New_York
BEGIN:DAYLIGHT
TZOFFSETFROM:-0500
TZOFFSETTO:-0400
TZNAME:EDT
DTSTART:20230312T070000
END:DAYLIGHT
BEGIN:STANDARD
TZOFFSETFROM:-0400
TZOFFSETTO:-0500
TZNAME:EST
DTSTART:20231105T060000
END:STANDARD
BEGIN:DAYLIGHT
TZOFFSETFROM:-0500
TZOFFSETTO:-0400
TZNAME:EDT
DTSTART:20240310T070000
END:DAYLIGHT
BEGIN:STANDARD
TZOFFSETFROM:-0400
TZOFFSETTO:-0500
TZNAME:EST
DTSTART:20241103T060000
END:STANDARD
BEGIN:DAYLIGHT
TZOFFSETFROM:-0500
TZOFFSETTO:-0400
TZNAME:EDT
DTSTART:20250309T070000
END:DAYLIGHT
BEGIN:STANDARD
TZOFFSETFROM:-0400
TZOFFSETTO:-0500
TZNAME:EST
DTSTART:20251102T060000
END:STANDARD
END:VTIMEZONE
BEGIN:VEVENT
DTSTART;TZID=America/New_York:20241208T140000
DTEND;TZID=America/New_York:20241208T151500
DTSTAMP:20260420T014223
CREATED:20241028T105711Z
LAST-MODIFIED:20241031T121848Z
UID:14581-1733666400-1733670900@livenewcanaan.org
SUMMARY:The Best Christmas Pageant Ever (on stage!) by Barbara Robinson
DESCRIPTION:In this hilarious Christmas classic\, a couple struggling to put on a church Christmas pageant is faced with casting the Herdman kids – probably the most inventively awful kids in history. You won’t believe the mayhem – and the fun – when the Herdmans collide head-on with the story of Christmas! The heartwarming story teaches valuable lessons about compassion\, acceptance\, and the true meaning of the holiday season.
URL:https://livenewcanaan.org/event/the-best-christmas-pageant-ever-on-stage-by-barbara-robinson/
LOCATION:Powerhouse Theater\, 2 Park Ln\, New Canaan\, CT\, United States
CATEGORIES:Family Friendly Events,For Children,Town Players of New Canaan
ATTACH;FMTTYPE=image/jpeg:https://livenewcanaan.org/wp-content/uploads/2024/10/Christmas-square-1080-x-1080-px-1-ZcZyky.tmp_.jpg
ORGANIZER;CN="Town Players of New Canaan":MAILTO:info@tpnc.org
END:VEVENT
BEGIN:VEVENT
DTSTART;TZID=America/New_York:20241215T140000
DTEND;TZID=America/New_York:20241215T151500
DTSTAMP:20260420T014223
CREATED:20241028T105712Z
LAST-MODIFIED:20241212T121858Z
UID:14584-1734271200-1734275700@livenewcanaan.org
SUMMARY:The Best Christmas Pageant Ever (on stage!) by Barbara Robinson
DESCRIPTION:In this hilarious Christmas classic\, a couple struggling to put on a church Christmas pageant is faced with casting the Herdman kids – probably the most inventively awful kids in history. You won’t believe the mayhem – and the fun – when the Herdmans collide head-on with the story of Christmas! The heartwarming story teaches valuable lessons about compassion\, acceptance\, and the true meaning of the holiday season.
URL:https://livenewcanaan.org/event/the-best-christmas-pageant-ever-on-stage-by-barbara-robinson-2/
LOCATION:Powerhouse Theater\, 2 Park Ln\, New Canaan\, CT\, United States
CATEGORIES:Family Friendly Events,For Children,Town Players of New Canaan
ATTACH;FMTTYPE=image/jpeg:https://livenewcanaan.org/wp-content/uploads/2024/10/Christmas-square-1080-x-1080-px-1-ZcZyky.tmp_.jpg
ORGANIZER;CN="Town Players of New Canaan":MAILTO:info@tpnc.org
END:VEVENT
END:VCALENDAR