BEGIN:VCALENDAR
VERSION:2.0
PRODID:-//LiveNewCanaan - ECPv6.15.18//NONSGML v1.0//EN
CALSCALE:GREGORIAN
METHOD:PUBLISH
X-WR-CALNAME:LiveNewCanaan
X-ORIGINAL-URL:https://livenewcanaan.org
X-WR-CALDESC:Events for LiveNewCanaan
REFRESH-INTERVAL;VALUE=DURATION:PT1H
X-Robots-Tag:noindex
X-PUBLISHED-TTL:PT1H
BEGIN:VTIMEZONE
TZID:America/New_York
BEGIN:DAYLIGHT
TZOFFSETFROM:-0500
TZOFFSETTO:-0400
TZNAME:EDT
DTSTART:20230312T070000
END:DAYLIGHT
BEGIN:STANDARD
TZOFFSETFROM:-0400
TZOFFSETTO:-0500
TZNAME:EST
DTSTART:20231105T060000
END:STANDARD
BEGIN:DAYLIGHT
TZOFFSETFROM:-0500
TZOFFSETTO:-0400
TZNAME:EDT
DTSTART:20240310T070000
END:DAYLIGHT
BEGIN:STANDARD
TZOFFSETFROM:-0400
TZOFFSETTO:-0500
TZNAME:EST
DTSTART:20241103T060000
END:STANDARD
BEGIN:DAYLIGHT
TZOFFSETFROM:-0500
TZOFFSETTO:-0400
TZNAME:EDT
DTSTART:20250309T070000
END:DAYLIGHT
BEGIN:STANDARD
TZOFFSETFROM:-0400
TZOFFSETTO:-0500
TZNAME:EST
DTSTART:20251102T060000
END:STANDARD
END:VTIMEZONE
BEGIN:VEVENT
DTSTART;TZID=America/New_York:20240930T183000
DTEND;TZID=America/New_York:20240930T210000
DTSTAMP:20260420T045410
CREATED:20240930T060328Z
LAST-MODIFIED:20240930T060328Z
UID:14423-1727721000-1727730000@livenewcanaan.org
SUMMARY:AUDITIONS:  The Best Christmas Pageant Ever
DESCRIPTION:Town Players of New Canaan is excited to announce auditions for The Best Christmas Pageant Ever by Barbara Robinson\, part of our MAINSTAGE 2024-2025 season at Powerhouse Theatre\, Waveny Park.\nWe are looking for:\n12 or more children (ages 7-12)\n6 adults\, both male (2) and female (4)\nJoin us for this heartwarming holiday production and be part of a community tradition!\nPerformance Dates:  Weekends\, December 6 – 13\, 2024 \nRehearsals will begin October 6.  Schedule will be determined following auditions. \nDetail and Sides: TPNC.org/audition\nQuestions?  Email: info@tpnc.org
URL:https://livenewcanaan.org/event/auditions-the-best-christmas-pageant-ever/
LOCATION:Carriage Barn Arts Center
CATEGORIES:Carriage Barn Arts Center Event,For Children,Town Players of New Canaan
ATTACH;FMTTYPE=image/png:https://livenewcanaan.org/wp-content/uploads/2024/09/COME-AUDITION-1-H7gdsL.tmp_.png
ORGANIZER;CN="Town Players of New Canaan":MAILTO:info@tpnc.org
END:VEVENT
BEGIN:VEVENT
DTSTART;TZID=America/New_York:20241016T160000
DTEND;TZID=America/New_York:20241016T170000
DTSTAMP:20260420T045410
CREATED:20241010T074431Z
LAST-MODIFIED:20241010T074431Z
UID:14494-1729094400-1729098000@livenewcanaan.org
SUMMARY:After School Cooking & Crafting at the Carriage Barn
DESCRIPTION:After School Cooking & Crafting at the Carriage Barn\nWednesdays 4-5pm October 2\, 9\, 16\, 23 (ages 7-13)\nCome join the after school fun with local food consultant/chef & gardener\, Jane Mossa of The Pink Rhubarb. Children will learn about farm to table methods\, the basics of healthy eating and enjoy an edible education through a different hands on activity each week.\n4 weeks of classes: $175 Members / $190 Non members
URL:https://livenewcanaan.org/event/after-school-cooking-crafting-at-the-carriage-barn-4/
LOCATION:Carriage Barn Arts Center
CATEGORIES:For Children
ATTACH;FMTTYPE=image/jpeg:https://livenewcanaan.org/wp-content/uploads/2024/09/Cooking-Crafting-collecting-pic-1-1080x675-1-VXvb9j.tmp_.jpg
ORGANIZER;CN="Carriage Barn Arts Center":MAILTO:admin@carriagebarn.org
END:VEVENT
BEGIN:VEVENT
DTSTART;TZID=America/New_York:20241023T160000
DTEND;TZID=America/New_York:20241023T170000
DTSTAMP:20260420T045410
CREATED:20241010T074440Z
LAST-MODIFIED:20241010T074440Z
UID:14521-1729699200-1729702800@livenewcanaan.org
SUMMARY:After School Cooking & Crafting at the Carriage Barn
DESCRIPTION:After School Cooking & Crafting at the Carriage Barn\nWednesdays 4-5pm October 2\, 9\, 16\, 23 (ages 7-13)\nCome join the after school fun with local food consultant/chef & gardener\, Jane Mossa of The Pink Rhubarb. Children will learn about farm to table methods\, the basics of healthy eating and enjoy an edible education through a different hands on activity each week.\n4 weeks of classes: $175 Members / $190 Non members
URL:https://livenewcanaan.org/event/after-school-cooking-crafting-at-the-carriage-barn-5/
LOCATION:Carriage Barn Arts Center
CATEGORIES:For Children
ATTACH;FMTTYPE=image/jpeg:https://livenewcanaan.org/wp-content/uploads/2024/09/Cooking-Crafting-collecting-pic-1-1080x675-1-VXvb9j.tmp_.jpg
ORGANIZER;CN="Carriage Barn Arts Center":MAILTO:admin@carriagebarn.org
END:VEVENT
BEGIN:VEVENT
DTSTART;TZID=America/New_York:20241026T053000
DTEND;TZID=America/New_York:20241026T210000
DTSTAMP:20260420T045410
CREATED:20241010T074440Z
LAST-MODIFIED:20241010T074440Z
UID:14523-1729920600-1729976400@livenewcanaan.org
SUMMARY:Halloween Spooktacular
DESCRIPTION:October 26th\, 2024\n5:30pm – 7:00pm OR 7:30pm – 9:00pm\nGet into the Halloween spirit by joining us for this spooktacular celebration\, NCNC-style. Learn about and meet some fiendish friends who remind us of All Hallows Eve (spiders\, snakes\, owls\, & more)\, enjoy making some creepy crafts\, and roast a marshmallow while sharing spooky stories around a cackling (erm\, we mean crackling) campfire! Top off the evening with our one-of-a-kind jack-o-lantern walk and you will be destined to have a dreadfully wicked evening!\nCostumes encouraged & welcome!\nPre-registration is strongly suggested as this event has sold out in the past!
URL:https://livenewcanaan.org/event/halloween-spooktacular/
LOCATION:New Canaan Nature Center\, 144 Oenoke Ridge\, New Canaan\, CT\, United States
CATEGORIES:Family Friendly Events,For Children
ATTACH;FMTTYPE=image/jpeg:https://livenewcanaan.org/wp-content/uploads/2024/10/Halloween-Spooktacular-Flyer-1-1-BAaVc1.tmp_.jpg
END:VEVENT
BEGIN:VEVENT
DTSTART;TZID=America/New_York:20241030T160000
DTEND;TZID=America/New_York:20241030T170000
DTSTAMP:20260420T045410
CREATED:20241028T105641Z
LAST-MODIFIED:20241028T105641Z
UID:14538-1730304000-1730307600@livenewcanaan.org
SUMMARY:After School Cooking & Crafting at the Carriage Barn
DESCRIPTION:After School Cooking & Crafting at the Carriage Barn\nWednesdays 4-5pm October 2\, 9\, 16\, 23 (ages 7-13)\nCome join the after school fun with local food consultant/chef & gardener\, Jane Mossa of The Pink Rhubarb. Children will learn about farm to table methods\, the basics of healthy eating and enjoy an edible education through a different hands on activity each week.\n4 weeks of classes: $175 Members / $190 Non members
URL:https://livenewcanaan.org/event/after-school-cooking-crafting-at-the-carriage-barn-6/
LOCATION:Carriage Barn Arts Center
CATEGORIES:For Children
ATTACH;FMTTYPE=image/jpeg:https://livenewcanaan.org/wp-content/uploads/2024/09/Cooking-Crafting-collecting-pic-1-1080x675-1-VXvb9j.tmp_.jpg
ORGANIZER;CN="Carriage Barn Arts Center":MAILTO:admin@carriagebarn.org
END:VEVENT
END:VCALENDAR