BEGIN:VCALENDAR
VERSION:2.0
PRODID:-//LiveNewCanaan - ECPv6.15.18//NONSGML v1.0//EN
CALSCALE:GREGORIAN
METHOD:PUBLISH
X-WR-CALNAME:LiveNewCanaan
X-ORIGINAL-URL:https://livenewcanaan.org
X-WR-CALDESC:Events for LiveNewCanaan
REFRESH-INTERVAL;VALUE=DURATION:PT1H
X-Robots-Tag:noindex
X-PUBLISHED-TTL:PT1H
BEGIN:VTIMEZONE
TZID:America/New_York
BEGIN:DAYLIGHT
TZOFFSETFROM:-0500
TZOFFSETTO:-0400
TZNAME:EDT
DTSTART:20230312T070000
END:DAYLIGHT
BEGIN:STANDARD
TZOFFSETFROM:-0400
TZOFFSETTO:-0500
TZNAME:EST
DTSTART:20231105T060000
END:STANDARD
BEGIN:DAYLIGHT
TZOFFSETFROM:-0500
TZOFFSETTO:-0400
TZNAME:EDT
DTSTART:20240310T070000
END:DAYLIGHT
BEGIN:STANDARD
TZOFFSETFROM:-0400
TZOFFSETTO:-0500
TZNAME:EST
DTSTART:20241103T060000
END:STANDARD
BEGIN:DAYLIGHT
TZOFFSETFROM:-0500
TZOFFSETTO:-0400
TZNAME:EDT
DTSTART:20250309T070000
END:DAYLIGHT
BEGIN:STANDARD
TZOFFSETFROM:-0400
TZOFFSETTO:-0500
TZNAME:EST
DTSTART:20251102T060000
END:STANDARD
END:VTIMEZONE
BEGIN:VEVENT
DTSTART;TZID=America/New_York:20240930T183000
DTEND;TZID=America/New_York:20240930T210000
DTSTAMP:20260420T063442
CREATED:20240930T060328Z
LAST-MODIFIED:20240930T060328Z
UID:14423-1727721000-1727730000@livenewcanaan.org
SUMMARY:AUDITIONS:  The Best Christmas Pageant Ever
DESCRIPTION:Town Players of New Canaan is excited to announce auditions for The Best Christmas Pageant Ever by Barbara Robinson\, part of our MAINSTAGE 2024-2025 season at Powerhouse Theatre\, Waveny Park.\nWe are looking for:\n12 or more children (ages 7-12)\n6 adults\, both male (2) and female (4)\nJoin us for this heartwarming holiday production and be part of a community tradition!\nPerformance Dates:  Weekends\, December 6 – 13\, 2024 \nRehearsals will begin October 6.  Schedule will be determined following auditions. \nDetail and Sides: TPNC.org/audition\nQuestions?  Email: info@tpnc.org
URL:https://livenewcanaan.org/event/auditions-the-best-christmas-pageant-ever/
LOCATION:Carriage Barn Arts Center
CATEGORIES:Carriage Barn Arts Center Event,For Children,Town Players of New Canaan
ATTACH;FMTTYPE=image/png:https://livenewcanaan.org/wp-content/uploads/2024/09/COME-AUDITION-1-H7gdsL.tmp_.png
ORGANIZER;CN="Town Players of New Canaan":MAILTO:info@tpnc.org
END:VEVENT
END:VCALENDAR