BEGIN:VCALENDAR
VERSION:2.0
PRODID:-//LiveNewCanaan - ECPv6.15.18//NONSGML v1.0//EN
CALSCALE:GREGORIAN
METHOD:PUBLISH
X-ORIGINAL-URL:https://livenewcanaan.org
X-WR-CALDESC:Events for LiveNewCanaan
REFRESH-INTERVAL;VALUE=DURATION:PT1H
X-Robots-Tag:noindex
X-PUBLISHED-TTL:PT1H
BEGIN:VTIMEZONE
TZID:America/New_York
BEGIN:DAYLIGHT
TZOFFSETFROM:-0500
TZOFFSETTO:-0400
TZNAME:EDT
DTSTART:20230312T070000
END:DAYLIGHT
BEGIN:STANDARD
TZOFFSETFROM:-0400
TZOFFSETTO:-0500
TZNAME:EST
DTSTART:20231105T060000
END:STANDARD
BEGIN:DAYLIGHT
TZOFFSETFROM:-0500
TZOFFSETTO:-0400
TZNAME:EDT
DTSTART:20240310T070000
END:DAYLIGHT
BEGIN:STANDARD
TZOFFSETFROM:-0400
TZOFFSETTO:-0500
TZNAME:EST
DTSTART:20241103T060000
END:STANDARD
BEGIN:DAYLIGHT
TZOFFSETFROM:-0500
TZOFFSETTO:-0400
TZNAME:EDT
DTSTART:20250309T070000
END:DAYLIGHT
BEGIN:STANDARD
TZOFFSETFROM:-0400
TZOFFSETTO:-0500
TZNAME:EST
DTSTART:20251102T060000
END:STANDARD
END:VTIMEZONE
BEGIN:VEVENT
DTSTART;TZID=America/New_York:20240630T203000
DTEND;TZID=America/New_York:20240630T223000
DTSTAMP:20260420T095512
CREATED:20240610T085602Z
LAST-MODIFIED:20240610T085732Z
UID:14096-1719779400-1719786600@livenewcanaan.org
SUMMARY:New Canaan Land Trust: Peak Season Firefly Viewing
DESCRIPTION:Experience the enchantment of the Firefly Sanctuary\, where thousands of fireflies illuminate the night sky in a mesmerizing display. Wander through the glowing meadow and witness nature’s light show in its full splendor. Discover a magical world where the beauty of fireflies creates an unforgettable spectacle.
URL:https://livenewcanaan.org/event/new-canaan-land-trust-peak-season-firefly-viewing/
LOCATION:Firefly Sanctuary\, 33 Sleepy Hollow Road\, New Canaan\, CT\, 06840
CATEGORIES:Family Friendly Events,For Children
ATTACH;FMTTYPE=image/png:https://livenewcanaan.org/wp-content/uploads/2024/06/Firefly-Instagram-Post-2-cGsXGp.tmp_.png
ORGANIZER;CN="New Canaan Land Trust":MAILTO:info@newcanaanlandtrust.org
END:VEVENT
BEGIN:VEVENT
DTSTART;TZID=America/New_York:20240701T203000
DTEND;TZID=America/New_York:20240701T223000
DTSTAMP:20260420T095512
CREATED:20240610T085606Z
LAST-MODIFIED:20240610T085732Z
UID:14099-1719865800-1719873000@livenewcanaan.org
SUMMARY:New Canaan Land Trust: Peak Season Firefly Viewing
DESCRIPTION:Experience the enchantment of the Firefly Sanctuary\, where thousands of fireflies illuminate the night sky in a mesmerizing display. Wander through the glowing meadow and witness nature’s light show in its full splendor. Discover a magical world where the beauty of fireflies creates an unforgettable spectacle.
URL:https://livenewcanaan.org/event/new-canaan-land-trust-peak-season-firefly-viewing-2/
LOCATION:Firefly Sanctuary\, 33 Sleepy Hollow Road\, New Canaan\, CT\, 06840
CATEGORIES:Family Friendly Events,For Children
ATTACH;FMTTYPE=image/png:https://livenewcanaan.org/wp-content/uploads/2024/06/Firefly-Instagram-Post-2-cGsXGp.tmp_.png
ORGANIZER;CN="New Canaan Land Trust":MAILTO:info@newcanaanlandtrust.org
END:VEVENT
BEGIN:VEVENT
DTSTART;TZID=America/New_York:20240702T203000
DTEND;TZID=America/New_York:20240702T223000
DTSTAMP:20260420T095512
CREATED:20240610T085606Z
LAST-MODIFIED:20240610T085733Z
UID:14100-1719952200-1719959400@livenewcanaan.org
SUMMARY:New Canaan Land Trust: Peak Season Firefly Viewing
DESCRIPTION:Experience the enchantment of the Firefly Sanctuary\, where thousands of fireflies illuminate the night sky in a mesmerizing display. Wander through the glowing meadow and witness nature’s light show in its full splendor. Discover a magical world where the beauty of fireflies creates an unforgettable spectacle.
URL:https://livenewcanaan.org/event/new-canaan-land-trust-peak-season-firefly-viewing-3/
LOCATION:Firefly Sanctuary\, 33 Sleepy Hollow Road\, New Canaan\, CT\, 06840
CATEGORIES:Family Friendly Events,For Children
ATTACH;FMTTYPE=image/png:https://livenewcanaan.org/wp-content/uploads/2024/06/Firefly-Instagram-Post-2-cGsXGp.tmp_.png
ORGANIZER;CN="New Canaan Land Trust":MAILTO:info@newcanaanlandtrust.org
END:VEVENT
BEGIN:VEVENT
DTSTART;TZID=America/New_York:20240703T203000
DTEND;TZID=America/New_York:20240703T223000
DTSTAMP:20260420T095512
CREATED:20240610T085606Z
LAST-MODIFIED:20240610T085733Z
UID:14101-1720038600-1720045800@livenewcanaan.org
SUMMARY:New Canaan Land Trust: Peak Season Firefly Viewing
DESCRIPTION:Experience the enchantment of the Firefly Sanctuary\, where thousands of fireflies illuminate the night sky in a mesmerizing display. Wander through the glowing meadow and witness nature’s light show in its full splendor. Discover a magical world where the beauty of fireflies creates an unforgettable spectacle.
URL:https://livenewcanaan.org/event/new-canaan-land-trust-peak-season-firefly-viewing-4/
LOCATION:Firefly Sanctuary\, 33 Sleepy Hollow Road\, New Canaan\, CT\, 06840
CATEGORIES:Family Friendly Events,For Children
ATTACH;FMTTYPE=image/png:https://livenewcanaan.org/wp-content/uploads/2024/06/Firefly-Instagram-Post-2-cGsXGp.tmp_.png
ORGANIZER;CN="New Canaan Land Trust":MAILTO:info@newcanaanlandtrust.org
END:VEVENT
BEGIN:VEVENT
DTSTART;TZID=America/New_York:20240705T203000
DTEND;TZID=America/New_York:20240705T223000
DTSTAMP:20260420T095512
CREATED:20240610T085606Z
LAST-MODIFIED:20240610T085733Z
UID:14102-1720211400-1720218600@livenewcanaan.org
SUMMARY:New Canaan Land Trust: Peak Season Firefly Viewing
DESCRIPTION:Experience the enchantment of the Firefly Sanctuary\, where thousands of fireflies illuminate the night sky in a mesmerizing display. Wander through the glowing meadow and witness nature’s light show in its full splendor. Discover a magical world where the beauty of fireflies creates an unforgettable spectacle.
URL:https://livenewcanaan.org/event/new-canaan-land-trust-peak-season-firefly-viewing-5/
LOCATION:Firefly Sanctuary\, 33 Sleepy Hollow Road\, New Canaan\, CT\, 06840
CATEGORIES:Family Friendly Events,For Children
ATTACH;FMTTYPE=image/png:https://livenewcanaan.org/wp-content/uploads/2024/06/Firefly-Instagram-Post-2-cGsXGp.tmp_.png
ORGANIZER;CN="New Canaan Land Trust":MAILTO:info@newcanaanlandtrust.org
END:VEVENT
BEGIN:VEVENT
DTSTART;TZID=America/New_York:20240707T203000
DTEND;TZID=America/New_York:20240707T223000
DTSTAMP:20260420T095512
CREATED:20240610T085607Z
LAST-MODIFIED:20240610T085733Z
UID:14104-1720384200-1720391400@livenewcanaan.org
SUMMARY:New Canaan Land Trust: Peak Season Firefly Viewing
DESCRIPTION:Experience the enchantment of the Firefly Sanctuary\, where thousands of fireflies illuminate the night sky in a mesmerizing display. Wander through the glowing meadow and witness nature’s light show in its full splendor. Discover a magical world where the beauty of fireflies creates an unforgettable spectacle.
URL:https://livenewcanaan.org/event/new-canaan-land-trust-peak-season-firefly-viewing-6/
LOCATION:Firefly Sanctuary\, 33 Sleepy Hollow Road\, New Canaan\, CT\, 06840
CATEGORIES:Family Friendly Events,For Children
ATTACH;FMTTYPE=image/png:https://livenewcanaan.org/wp-content/uploads/2024/06/Firefly-Instagram-Post-2-cGsXGp.tmp_.png
ORGANIZER;CN="New Canaan Land Trust":MAILTO:info@newcanaanlandtrust.org
END:VEVENT
BEGIN:VEVENT
DTSTART;TZID=America/New_York:20240708T203000
DTEND;TZID=America/New_York:20240708T223000
DTSTAMP:20260420T095512
CREATED:20240610T085607Z
LAST-MODIFIED:20240610T085733Z
UID:14105-1720470600-1720477800@livenewcanaan.org
SUMMARY:New Canaan Land Trust: Peak Season Firefly Viewing
DESCRIPTION:Experience the enchantment of the Firefly Sanctuary\, where thousands of fireflies illuminate the night sky in a mesmerizing display. Wander through the glowing meadow and witness nature’s light show in its full splendor. Discover a magical world where the beauty of fireflies creates an unforgettable spectacle.
URL:https://livenewcanaan.org/event/new-canaan-land-trust-peak-season-firefly-viewing-7/
LOCATION:Firefly Sanctuary\, 33 Sleepy Hollow Road\, New Canaan\, CT\, 06840
CATEGORIES:Family Friendly Events,For Children
ATTACH;FMTTYPE=image/png:https://livenewcanaan.org/wp-content/uploads/2024/06/Firefly-Instagram-Post-2-cGsXGp.tmp_.png
ORGANIZER;CN="New Canaan Land Trust":MAILTO:info@newcanaanlandtrust.org
END:VEVENT
BEGIN:VEVENT
DTSTART;TZID=America/New_York:20240709T203000
DTEND;TZID=America/New_York:20240709T223000
DTSTAMP:20260420T095512
CREATED:20240610T085607Z
LAST-MODIFIED:20240610T085733Z
UID:14106-1720557000-1720564200@livenewcanaan.org
SUMMARY:New Canaan Land Trust: Peak Season Firefly Viewing
DESCRIPTION:Experience the enchantment of the Firefly Sanctuary\, where thousands of fireflies illuminate the night sky in a mesmerizing display. Wander through the glowing meadow and witness nature’s light show in its full splendor. Discover a magical world where the beauty of fireflies creates an unforgettable spectacle.
URL:https://livenewcanaan.org/event/new-canaan-land-trust-peak-season-firefly-viewing-8/
LOCATION:Firefly Sanctuary\, 33 Sleepy Hollow Road\, New Canaan\, CT\, 06840
CATEGORIES:Family Friendly Events,For Children
ATTACH;FMTTYPE=image/png:https://livenewcanaan.org/wp-content/uploads/2024/06/Firefly-Instagram-Post-2-cGsXGp.tmp_.png
ORGANIZER;CN="New Canaan Land Trust":MAILTO:info@newcanaanlandtrust.org
END:VEVENT
BEGIN:VEVENT
DTSTART;TZID=America/New_York:20240710T203000
DTEND;TZID=America/New_York:20240710T223000
DTSTAMP:20260420T095512
CREATED:20240610T085607Z
LAST-MODIFIED:20240610T085733Z
UID:14107-1720643400-1720650600@livenewcanaan.org
SUMMARY:New Canaan Land Trust: Peak Season Firefly Viewing
DESCRIPTION:Experience the enchantment of the Firefly Sanctuary\, where thousands of fireflies illuminate the night sky in a mesmerizing display. Wander through the glowing meadow and witness nature’s light show in its full splendor. Discover a magical world where the beauty of fireflies creates an unforgettable spectacle.
URL:https://livenewcanaan.org/event/new-canaan-land-trust-peak-season-firefly-viewing-9/
LOCATION:Firefly Sanctuary\, 33 Sleepy Hollow Road\, New Canaan\, CT\, 06840
CATEGORIES:Family Friendly Events,For Children
ATTACH;FMTTYPE=image/png:https://livenewcanaan.org/wp-content/uploads/2024/06/Firefly-Instagram-Post-2-cGsXGp.tmp_.png
ORGANIZER;CN="New Canaan Land Trust":MAILTO:info@newcanaanlandtrust.org
END:VEVENT
BEGIN:VEVENT
DTSTART;TZID=America/New_York:20240711T203000
DTEND;TZID=America/New_York:20240711T223000
DTSTAMP:20260420T095512
CREATED:20240610T085607Z
LAST-MODIFIED:20240610T085733Z
UID:14108-1720729800-1720737000@livenewcanaan.org
SUMMARY:New Canaan Land Trust: Peak Season Firefly Viewing
DESCRIPTION:Experience the enchantment of the Firefly Sanctuary\, where thousands of fireflies illuminate the night sky in a mesmerizing display. Wander through the glowing meadow and witness nature’s light show in its full splendor. Discover a magical world where the beauty of fireflies creates an unforgettable spectacle.
URL:https://livenewcanaan.org/event/new-canaan-land-trust-peak-season-firefly-viewing-10/
LOCATION:Firefly Sanctuary\, 33 Sleepy Hollow Road\, New Canaan\, CT\, 06840
CATEGORIES:Family Friendly Events,For Children
ATTACH;FMTTYPE=image/png:https://livenewcanaan.org/wp-content/uploads/2024/06/Firefly-Instagram-Post-2-cGsXGp.tmp_.png
ORGANIZER;CN="New Canaan Land Trust":MAILTO:info@newcanaanlandtrust.org
END:VEVENT
BEGIN:VEVENT
DTSTART;TZID=America/New_York:20240712T203000
DTEND;TZID=America/New_York:20240712T223000
DTSTAMP:20260420T095512
CREATED:20240610T085611Z
LAST-MODIFIED:20240610T085734Z
UID:14115-1720816200-1720823400@livenewcanaan.org
SUMMARY:New Canaan Land Trust: Peak Season Firefly Viewing
DESCRIPTION:Experience the enchantment of the Firefly Sanctuary\, where thousands of fireflies illuminate the night sky in a mesmerizing display. Wander through the glowing meadow and witness nature’s light show in its full splendor. Discover a magical world where the beauty of fireflies creates an unforgettable spectacle.
URL:https://livenewcanaan.org/event/new-canaan-land-trust-peak-season-firefly-viewing-11/
LOCATION:Firefly Sanctuary\, 33 Sleepy Hollow Road\, New Canaan\, CT\, 06840
CATEGORIES:Family Friendly Events,For Children
ATTACH;FMTTYPE=image/png:https://livenewcanaan.org/wp-content/uploads/2024/06/Firefly-Instagram-Post-2-cGsXGp.tmp_.png
ORGANIZER;CN="New Canaan Land Trust":MAILTO:info@newcanaanlandtrust.org
END:VEVENT
END:VCALENDAR