BEGIN:VCALENDAR
VERSION:2.0
PRODID:-//LiveNewCanaan - ECPv6.15.18//NONSGML v1.0//EN
CALSCALE:GREGORIAN
METHOD:PUBLISH
X-WR-CALNAME:LiveNewCanaan
X-ORIGINAL-URL:https://livenewcanaan.org
X-WR-CALDESC:Events for LiveNewCanaan
REFRESH-INTERVAL;VALUE=DURATION:PT1H
X-Robots-Tag:noindex
X-PUBLISHED-TTL:PT1H
BEGIN:VTIMEZONE
TZID:America/New_York
BEGIN:DAYLIGHT
TZOFFSETFROM:-0500
TZOFFSETTO:-0400
TZNAME:EDT
DTSTART:20230312T070000
END:DAYLIGHT
BEGIN:STANDARD
TZOFFSETFROM:-0400
TZOFFSETTO:-0500
TZNAME:EST
DTSTART:20231105T060000
END:STANDARD
BEGIN:DAYLIGHT
TZOFFSETFROM:-0500
TZOFFSETTO:-0400
TZNAME:EDT
DTSTART:20240310T070000
END:DAYLIGHT
BEGIN:STANDARD
TZOFFSETFROM:-0400
TZOFFSETTO:-0500
TZNAME:EST
DTSTART:20241103T060000
END:STANDARD
BEGIN:DAYLIGHT
TZOFFSETFROM:-0500
TZOFFSETTO:-0400
TZNAME:EDT
DTSTART:20250309T070000
END:DAYLIGHT
BEGIN:STANDARD
TZOFFSETFROM:-0400
TZOFFSETTO:-0500
TZNAME:EST
DTSTART:20251102T060000
END:STANDARD
END:VTIMEZONE
BEGIN:VEVENT
DTSTART;TZID=America/New_York:20240615T103000
DTEND;TZID=America/New_York:20240615T120000
DTSTAMP:20260420T113922
CREATED:20240610T085552Z
LAST-MODIFIED:20240610T085731Z
UID:14079-1718447400-1718452800@livenewcanaan.org
SUMMARY:The “Practically Perfect” Tea Party
DESCRIPTION:Step into the fantastical world of Mary Poppins with your little ones for a day of wonder and excitement! Delight in tasty treats\, enjoy fun-filled games\, unleash your creativity with themed crafts\, and enjoy a special interactive story time performance featuring actors from The Summer Theatre of New Canaan’s main stage professional production of Mary Poppins coming this July!\nActivities include:\n– Visit Mrs. Corry’s Candy and Gingerbread Shop\n– Letter Games: Learn to spell supercalifragilisticexpiadocious\n– Make your own kite!\n– Have Tea and Cupcakes with Mary and Bert\n– Dress-up opportunities\n– SHOWTIME – Mary Poppins Storytelling with songs and characters\nSaturday\, June 15; 10:30AM & 12:30PM\nCrafts and games designed for ages 3-8;\nCapacity limited!\nThis is a fundraiser for the Summer Theater of New Canaan – theater ticket prices don’t cover all the production expenses for bringing these amazing Broadway caliber productions to our community so we greatly appreciate your support!
URL:https://livenewcanaan.org/event/the-practically-perfect-tea-party/
LOCATION:Performing Arts Conservatory of New Canaan\, 70 Pine Street\, New Canaan\, CT\, 06840
CATEGORIES:For Children,Summer Theatre of New Canaan
ATTACH;FMTTYPE=image/png:https://livenewcanaan.org/wp-content/uploads/2024/06/TeaParty-Website-RCoNmE.tmp_.png
ORGANIZER;CN="Summer Theatre of New Canaan":MAILTO:info@stonc.org
END:VEVENT
END:VCALENDAR