BEGIN:VCALENDAR
VERSION:2.0
PRODID:-//LiveNewCanaan - ECPv6.15.18//NONSGML v1.0//EN
CALSCALE:GREGORIAN
METHOD:PUBLISH
X-ORIGINAL-URL:https://livenewcanaan.org
X-WR-CALDESC:Events for LiveNewCanaan
REFRESH-INTERVAL;VALUE=DURATION:PT1H
X-Robots-Tag:noindex
X-PUBLISHED-TTL:PT1H
BEGIN:VTIMEZONE
TZID:America/New_York
BEGIN:DAYLIGHT
TZOFFSETFROM:-0500
TZOFFSETTO:-0400
TZNAME:EDT
DTSTART:20220313T070000
END:DAYLIGHT
BEGIN:STANDARD
TZOFFSETFROM:-0400
TZOFFSETTO:-0500
TZNAME:EST
DTSTART:20221106T060000
END:STANDARD
BEGIN:DAYLIGHT
TZOFFSETFROM:-0500
TZOFFSETTO:-0400
TZNAME:EDT
DTSTART:20230312T070000
END:DAYLIGHT
BEGIN:STANDARD
TZOFFSETFROM:-0400
TZOFFSETTO:-0500
TZNAME:EST
DTSTART:20231105T060000
END:STANDARD
BEGIN:DAYLIGHT
TZOFFSETFROM:-0500
TZOFFSETTO:-0400
TZNAME:EDT
DTSTART:20240310T070000
END:DAYLIGHT
BEGIN:STANDARD
TZOFFSETFROM:-0400
TZOFFSETTO:-0500
TZNAME:EST
DTSTART:20241103T060000
END:STANDARD
END:VTIMEZONE
BEGIN:VEVENT
DTSTART;TZID=America/New_York:20230819T110000
DTEND;TZID=America/New_York:20230819T120000
DTSTAMP:20260421T054552
CREATED:20230818T124343Z
LAST-MODIFIED:20230818T124343Z
UID:12217-1692442800-1692446400@livenewcanaan.org
SUMMARY:Animal Encounters
DESCRIPTION:Families with children of all ages are invited to interact with a range of animals from Animal Embassy\, which could include a kunekune pig\, red-footed tortoise\, Argentinian horned frog\, carpet python\, chinchillas and more!\nAnimal Embassy is dedicated to exotic animal rescue and adoption\, as well as environmental education.\nThis is a drop-in program; registration is not required.\nGrace Farms is located at 365 Lukes Wood Road\, New Canaan\, CT 06840.\nMembers enjoy a 20% discount on programs. Learn more about Membership.\nStudents ages 18 and up qualify for 30% off with the exception of a few select events. Please show your student I.D. or proof of enrollment at check-in.\nChildren ages 17 and under qualify for a special child price when available.
URL:https://livenewcanaan.org/event/animal-encounters/
LOCATION:Grace Farms Foundation\, 365 Lukes Wood Road\, New Canaan\, CT\, 06840\, United States
CATEGORIES:Family Friendly Events,For Children,Grace Farms Event
ATTACH;FMTTYPE=image/png:https://livenewcanaan.org/wp-content/uploads/2023/08/Animal-Encounters_1600x500-Web-Hero-UnOleC.tmp_.png
END:VEVENT
END:VCALENDAR