BEGIN:VCALENDAR
VERSION:2.0
PRODID:-//LiveNewCanaan - ECPv6.15.18//NONSGML v1.0//EN
CALSCALE:GREGORIAN
METHOD:PUBLISH
X-ORIGINAL-URL:https://livenewcanaan.org
X-WR-CALDESC:Events for LiveNewCanaan
REFRESH-INTERVAL;VALUE=DURATION:PT1H
X-Robots-Tag:noindex
X-PUBLISHED-TTL:PT1H
BEGIN:VTIMEZONE
TZID:America/New_York
BEGIN:DAYLIGHT
TZOFFSETFROM:-0500
TZOFFSETTO:-0400
TZNAME:EDT
DTSTART:20220313T070000
END:DAYLIGHT
BEGIN:STANDARD
TZOFFSETFROM:-0400
TZOFFSETTO:-0500
TZNAME:EST
DTSTART:20221106T060000
END:STANDARD
BEGIN:DAYLIGHT
TZOFFSETFROM:-0500
TZOFFSETTO:-0400
TZNAME:EDT
DTSTART:20230312T070000
END:DAYLIGHT
BEGIN:STANDARD
TZOFFSETFROM:-0400
TZOFFSETTO:-0500
TZNAME:EST
DTSTART:20231105T060000
END:STANDARD
BEGIN:DAYLIGHT
TZOFFSETFROM:-0500
TZOFFSETTO:-0400
TZNAME:EDT
DTSTART:20240310T070000
END:DAYLIGHT
BEGIN:STANDARD
TZOFFSETFROM:-0400
TZOFFSETTO:-0500
TZNAME:EST
DTSTART:20241103T060000
END:STANDARD
END:VTIMEZONE
BEGIN:VEVENT
DTSTART;TZID=America/New_York:20230330T160000
DTEND;TZID=America/New_York:20230330T171500
DTSTAMP:20260421T132253
CREATED:20230329T124706Z
LAST-MODIFIED:20230329T124706Z
UID:11554-1680192000-1680196500@livenewcanaan.org
SUMMARY:Easter Cupcake Decorating Workshop At The Carriage Barn
DESCRIPTION:Drop off your kids (ages 5 & up) for creative fun with friends!\nThis workshop will instruct kids in how to create 4 adorable Eater-themed cupcake designs that they make and take home to share with family and friends.\nmembers $55 / non members $60\nEaster Cupcake Decorating Workshop
URL:https://livenewcanaan.org/event/easter-cupcake-decorating-workshop-at-the-carriage-barn/
LOCATION:Carriage Barn Arts Center
CATEGORIES:Carriage Barn Arts Center Event,Family Friendly Events,For Children
ATTACH;FMTTYPE=image/png:https://livenewcanaan.org/wp-content/uploads/2023/03/Screen-Shot-2023-03-21-at-12.44.07-PM-wFMGuq.tmp_.png
END:VEVENT
END:VCALENDAR