BEGIN:VCALENDAR
VERSION:2.0
PRODID:-//LiveNewCanaan - ECPv6.15.18//NONSGML v1.0//EN
CALSCALE:GREGORIAN
METHOD:PUBLISH
X-WR-CALNAME:LiveNewCanaan
X-ORIGINAL-URL:https://livenewcanaan.org
X-WR-CALDESC:Events for LiveNewCanaan
REFRESH-INTERVAL;VALUE=DURATION:PT1H
X-Robots-Tag:noindex
X-PUBLISHED-TTL:PT1H
BEGIN:VTIMEZONE
TZID:America/New_York
BEGIN:DAYLIGHT
TZOFFSETFROM:-0500
TZOFFSETTO:-0400
TZNAME:EDT
DTSTART:20210314T070000
END:DAYLIGHT
BEGIN:STANDARD
TZOFFSETFROM:-0400
TZOFFSETTO:-0500
TZNAME:EST
DTSTART:20211107T060000
END:STANDARD
BEGIN:DAYLIGHT
TZOFFSETFROM:-0500
TZOFFSETTO:-0400
TZNAME:EDT
DTSTART:20220313T070000
END:DAYLIGHT
BEGIN:STANDARD
TZOFFSETFROM:-0400
TZOFFSETTO:-0500
TZNAME:EST
DTSTART:20221106T060000
END:STANDARD
BEGIN:DAYLIGHT
TZOFFSETFROM:-0500
TZOFFSETTO:-0400
TZNAME:EDT
DTSTART:20230312T070000
END:DAYLIGHT
BEGIN:STANDARD
TZOFFSETFROM:-0400
TZOFFSETTO:-0500
TZNAME:EST
DTSTART:20231105T060000
END:STANDARD
END:VTIMEZONE
BEGIN:VEVENT
DTSTART;TZID=America/New_York:20221203T100000
DTEND;TZID=America/New_York:20221203T110000
DTSTAMP:20260421T184203
CREATED:20221109T103228Z
LAST-MODIFIED:20221109T112519Z
UID:10990-1670061600-1670065200@livenewcanaan.org
SUMMARY:NEDT Sugar Plum Tea Party
DESCRIPTION:Fun games\, holiday crafts\, magical treat\, dance performances and secret surprises makes this enchanting experience a smash hit year after year. This year\, there will be two sittings each on Saturday\, Dec. 3rd and Sunday\, Dec. 4th at 10 am and 12:30 pm. Tickets go on sale Oct. 24th at 12 pm. Ticket link available through https:neadance.com
URL:https://livenewcanaan.org/event/nedt-sugar-plum-tea-party/
LOCATION:New Canaan High School Cafeteria\, 11 Farm Rd\, New Canaan\, CT\, 06840\, United States
CATEGORIES:Family Friendly Events,For Children
ATTACH;FMTTYPE=image/png:https://livenewcanaan.org/wp-content/uploads/2022/11/this-is-it-FINAL-Alex-1-K7ODkz.tmp_.png
ORGANIZER;CN="New England Academy of Dance":MAILTO:tedthomas01@aol.com
END:VEVENT
BEGIN:VEVENT
DTSTART;TZID=America/New_York:20221203T123000
DTEND;TZID=America/New_York:20221203T133000
DTSTAMP:20260421T184203
CREATED:20221109T103229Z
LAST-MODIFIED:20221109T112519Z
UID:10993-1670070600-1670074200@livenewcanaan.org
SUMMARY:NEDT Sugar Plum Tea Party
DESCRIPTION:Fun games\, holiday crafts\, magical treats\, dance performances and secret surprises makes this enchanting experience a smash hit year after year. This year\, there will be two sittings each on Saturday\, Dec. 3rd and Sunday\, Dec. 4th at 10 am and 12:30 pm. Each ticket includes: Full Lunch Buffet. Tickets go on sale October 24th at 12 pm\, purchase ink available through https:neadance.com.
URL:https://livenewcanaan.org/event/nedt-sugar-plum-tea-party-2/
LOCATION:New Canaan High School Cafeteria\, 11 Farm Rd\, New Canaan\, CT\, 06840\, United States
CATEGORIES:Family Friendly Events,For Children
ATTACH;FMTTYPE=image/png:https://livenewcanaan.org/wp-content/uploads/2022/11/this-is-it-FINAL-Alex-2-Vsl6tx.tmp_.png
ORGANIZER;CN="New England Academy of Dance":MAILTO:tedthomas01@aol.com
END:VEVENT
BEGIN:VEVENT
DTSTART;TZID=America/New_York:20221204T100000
DTEND;TZID=America/New_York:20221204T110000
DTSTAMP:20260421T184203
CREATED:20221109T103230Z
LAST-MODIFIED:20221109T112519Z
UID:10995-1670148000-1670151600@livenewcanaan.org
SUMMARY:NEDT Sugar Plum Tea Party
DESCRIPTION:Fun games\, holiday crafts\, magical treat\, dance performances and secret surprises makes this enchanting experience a smash hit year after year. This year\, there will be two sittings each on Saturday\, Dec. 3rd and Sunday\, Dec. 4th at 10 am and 12:30 pm. Tickets go on sale Oct. 24th at 12 pm. Ticket link available through https:neadance.com
URL:https://livenewcanaan.org/event/nedt-sugar-plum-tea-party-3/
LOCATION:New Canaan High School Cafeteria\, 11 Farm Rd\, New Canaan\, CT\, 06840\, United States
CATEGORIES:Family Friendly Events,For Children
ATTACH;FMTTYPE=image/png:https://livenewcanaan.org/wp-content/uploads/2022/11/this-is-it-FINAL-Alex-1-K7ODkz.tmp_.png
ORGANIZER;CN="New England Academy of Dance":MAILTO:tedthomas01@aol.com
END:VEVENT
BEGIN:VEVENT
DTSTART;TZID=America/New_York:20221204T123000
DTEND;TZID=America/New_York:20221204T133000
DTSTAMP:20260421T184203
CREATED:20221109T103230Z
LAST-MODIFIED:20221109T112519Z
UID:10996-1670157000-1670160600@livenewcanaan.org
SUMMARY:NEDT Sugar Plum Tea Party
DESCRIPTION:Fun games\, holiday crafts\, magical treats\, dance performances and secret surprises makes this enchanting experience a smash hit year after year. This year\, there will be two sittings each on Saturday\, Dec. 3rd and Sunday\, Dec. 4th at 10 am and 12:30 pm. Each ticket includes: Full Lunch Buffet. Tickets go on sale October 24th at 12 pm\, purchase ink available through https:neadance.com.
URL:https://livenewcanaan.org/event/nedt-sugar-plum-tea-party-4/
LOCATION:New Canaan High School Cafeteria\, 11 Farm Rd\, New Canaan\, CT\, 06840\, United States
CATEGORIES:Family Friendly Events,For Children
ATTACH;FMTTYPE=image/png:https://livenewcanaan.org/wp-content/uploads/2022/11/this-is-it-FINAL-Alex-2-Vsl6tx.tmp_.png
ORGANIZER;CN="New England Academy of Dance":MAILTO:tedthomas01@aol.com
END:VEVENT
BEGIN:VEVENT
DTSTART;TZID=America/New_York:20221217T110000
DTEND;TZID=America/New_York:20221217T140000
DTSTAMP:20260421T184203
CREATED:20221109T103241Z
LAST-MODIFIED:20221109T112520Z
UID:11033-1671274800-1671285600@livenewcanaan.org
SUMMARY:New Canaan Nature Center’s Winter Wonderland
DESCRIPTION:Saturday\, December 17th\n11:00 AM – 2:00 PM \nCome and be transported into a whole new world as the New Canaan Nature Center transforms into a Winter Wonderland filled with fun and exciting winter holiday activities for the entire family. We hope you will join us to enjoy the warm festive feel the Nature Center puts on this time of year! \nYou won’t want to miss: Visits & photos with Santa; holiday trains (our giant model train depicts the town of New Canaan and more!); campfire complete with marshmallow roasting; holiday crafts for kids; reindeer games (ring the reindeer antlers\, feed the snowman\, and more!); wacky winterland scavenger hunt; and so much more! \nStop by the “Red & Green Cafe” to purchase grilled cheese\, hot dogs\, & hot beverages (such as cocoa & coffee)! \nMembers: $10/person\nNon-Members: $15/person\n**Please Note: Registration is per person. All attendees (children + adults) must purchase a ticket.**
URL:https://livenewcanaan.org/event/new-canaan-nature-centers-winter-wonderland-2/
LOCATION:New Canaan Nature Center\, 144 Oenoke Ridge\, New Canaan\, CT\, United States
CATEGORIES:Family Friendly Events,For Children,New Canaan Nature Center Events
ATTACH;FMTTYPE=image/jpeg:https://livenewcanaan.org/wp-content/uploads/2022/11/Screenshot-2022-10-12-145338-MFB6cQ.tmp_.jpg
ORGANIZER;CN="New Canaan Nature Center":MAILTO:jrayher@newcanaannature.org
END:VEVENT
END:VCALENDAR