BEGIN:VCALENDAR
VERSION:2.0
PRODID:-//LiveNewCanaan - ECPv6.15.18//NONSGML v1.0//EN
CALSCALE:GREGORIAN
METHOD:PUBLISH
X-ORIGINAL-URL:https://livenewcanaan.org
X-WR-CALDESC:Events for LiveNewCanaan
REFRESH-INTERVAL;VALUE=DURATION:PT1H
X-Robots-Tag:noindex
X-PUBLISHED-TTL:PT1H
BEGIN:VTIMEZONE
TZID:America/New_York
BEGIN:DAYLIGHT
TZOFFSETFROM:-0500
TZOFFSETTO:-0400
TZNAME:EDT
DTSTART:20210314T070000
END:DAYLIGHT
BEGIN:STANDARD
TZOFFSETFROM:-0400
TZOFFSETTO:-0500
TZNAME:EST
DTSTART:20211107T060000
END:STANDARD
BEGIN:DAYLIGHT
TZOFFSETFROM:-0500
TZOFFSETTO:-0400
TZNAME:EDT
DTSTART:20220313T070000
END:DAYLIGHT
BEGIN:STANDARD
TZOFFSETFROM:-0400
TZOFFSETTO:-0500
TZNAME:EST
DTSTART:20221106T060000
END:STANDARD
BEGIN:DAYLIGHT
TZOFFSETFROM:-0500
TZOFFSETTO:-0400
TZNAME:EDT
DTSTART:20230312T070000
END:DAYLIGHT
BEGIN:STANDARD
TZOFFSETFROM:-0400
TZOFFSETTO:-0500
TZNAME:EST
DTSTART:20231105T060000
END:STANDARD
END:VTIMEZONE
BEGIN:VEVENT
DTSTART;TZID=America/New_York:20220514T093000
DTEND;TZID=America/New_York:20220514T113000
DTSTAMP:20260422T063356
CREATED:20220305T084817Z
LAST-MODIFIED:20220318T183913Z
UID:10043-1652520600-1652527800@livenewcanaan.org
SUMMARY:New Canaan Food Revolution
DESCRIPTION:The New Canaan Food Revolution\, founded by Jamie Oliver returns for a 7th year on Saturday\, May 14 between 9.30–11:30am. New for 2022 – Scavenger Hunt! \nThe Food Trail was originally created to encourage children of all ages to sample small bites\, they normally wouldn’t try. It’s now evolved in to a celebration of food where children\, adults and families are encouraged to participate (as long as you are wearing the Food Revolution wristband). Earn a stamp for everything you taste\, if you complete your passport and solve the puzzle then you will be entered into a prize draw. EVERYONE receives a bravery certificate.\nRegistration and vendors will be located in front of New Canaan Town Hall with free parking at the back! Enjoy live music and soak up the festival vibes. \n50% from every ticket sale will be given to charity.
URL:https://livenewcanaan.org/event/new-canaan-food-revolution-3/
LOCATION:New Canaan Town Hall\, 77 Main Street\, New Canaan\, CT\, 06840
CATEGORIES:Family Friendly Events,For Children
ATTACH;FMTTYPE=image/png:https://livenewcanaan.org/wp-content/uploads/2022/03/https___cdn.evbuc_.com_images_234556649_24152945350_1_original-pByJj4.tmp_.png
ORGANIZER;CN="Rock Paper Scissors Custom Events":MAILTO:rachel@rockpaperscissors.events
END:VEVENT
END:VCALENDAR